Workbook

Sheet readMe

Sheet allResultsWEC
E1: 2012 | M1: 2013 | U1: 2014 | AC1: 2015 | AK1: 2016 | AT1: 2017 | BC1: 2018-2019 | BK1: 2019-2020 | BS1: 2021 | BY1: 2022 | CE1: 2023
A2: Num | B2: Manu | C2: Class | D2: Team | E2: Sebring | F2: Spa | G2: Le Mans | H2: Silverstone | I2: Interlagos | J2: Bahrain | K2: Fuji | L2: Shanghai | M2: Silverstone | N2: Spa | O2: Le Mans | P2: Interlagos | Q2: Cota | R2: Fuji | S2: Shanghai | T2: Bahrain | U2: Silverstone | V2: Spa | W2: Le Mans | X2: COTA | Y2: Fuji | Z2: Shanghai | AA2: Bahrain | AB2: Interlagos | AC2: Silverstone | AD2: Spa | AE2: Le Mans | AF2: Nürburgring | AG2: COTA | AH2: Fuji | AI2: Shanghai | AJ2: Bahrain | AK2: Silverstone | AL2: Spa | AM2: Le Mans | AN2: Nürburgring | AO2: Mexico | AP2: COTA | AQ2: Fuji | AR2: Shanghai | AS2: Bahrain | AT2: Silverstone | AU2: Spa | AV2: Le Mans | AW2: Nürburgring | AX2: Mexico | AY2: COTA | AZ2: Fuji | BA2: Shanghai | BB2: Bahrain | BC2: Spa | BD2: Le Mans | BE2: Silverstone | BF2: Fuji | BG2: Shanghai | BH2: Sebring | BI2: Spa | BJ2: Le Mans | BK2: Silverstone | BL2: Fuji | BM2: Shanghai | BN2: Bahrain | BO2: COTA | BP2: Spa | BQ2: Le Mans | BR2: Bahrain | BS2: Spa | BT2: Portimao | BU2: Monza | BV2: Le Mans | BW2: Bahrain | BX2: Bahrain | BY2: Sebring | BZ2: Spa | CA2: Le Mans | CB2: Monza | CC2: Fuji | CD2: Bahrain | CE2: Sebring | CF2: Portimao | CG2: Spa | CH2: Le Mans | CI2: Monza | CJ2: Fuji | CK2: Bahrain
A3: 51 | B3: Ferrari | C3: Pro | D3: AF Corse | E3: 1 | F3: 2 | G3: 1 | H3: 1 | I3: 1 | J3: 1 | K3: 2 | L3: 3
A4: 97 | B4: Aston Martin | C4: Pro | D4: Aston Martin Racing | E4: 3 | F4: Ret | G4: 3 | H4: 2 | I4: 2 | J4: 2 | K4: 3 | L4: 1
A5: 77 | B5: Porsche | C5: Pro | D5: Team Felbermayr-Proton | E5: 2 | F5: 1 | G5: Ret | H5: 3 | I5: 3 | J5: 3 | K5: 1 | L5: 2
A6: 59 | B6: Ferrari | C6: Pro | D6: Luxury Racing | E6: Ret | F6: 3 | G6: 2
A7: 50 | B7: Corvette | C7: Am | D7: Larbre Compétition | E7: 2 | F7: 2 | G7: 1 | H7: 4 | I7: 2 | J7: 4 | K7: 1 | L7: 1
A8: 88 | B8: Porsche | C8: Am | D8: Team Felbermayr-Proton | E8: 1 | F8: 1 | G8: Ret | H8: 2 | I8: 1 | J8: 1 | K8: 3 | L8: 2
A9: 57 | B9: Ferrari | C9: Am | D9: Krohn Racing | E9: 5 | F9: 5 | G9: 2 | H9: 3 | I9: Ret | J9: 3 | K9: 2 | L9: 3
A10: 61 | B10: Ferrari | C10: Am | D10: AF Corse-Waltrip | E10: 4 | F10: DNS | G10: 4 | H10: 1 | I10: 3 | J10: 2 | L10: 4
A11: 55 | B11: Porsche | C11: Am | D11: JWA-Avila | E11: 6 | F11: 4 | G11: 5 | H11: 5 | I11: 4 | J11: 6 | K11: 5 | L11: 6
A12: 58 | B12: Ferrari | C12: Am | D12: Luxury Racing | E12: DNS | F12: 3 | G12: Ret
A13: 51 | B13: Ferrari | C13: Pro | D13: AF Corse | M13: 5 | N13: 1 | O13: 5 | P13: 1 | Q13: 2 | R13: 2 | S13: 4 | T13: 1
A14: 97 | B14: Aston Martin | C14: Pro | D14: Aston Martin Racing | M14: 1 | N14: 3 | O14: 3 | P14: 2 | Q14: Ret | R14: 1 | S14: 1 | T14: Ret
A15: 92 | B15: Porsche | C15: Pro | D15: Porsche AG Team Manthey | M15: 4 | N15: 4 | O15: 1 | P15: 4 | Q15: 4 | R15: 4 | S15: 6 | T15: 4
A16: 91 | B16: Porsche | C16: Pro | D16: Porsche AG Team Manthey | M16: 6 | N16: Ret | O16: 2 | P16: 3 | Q16: 5 | R16: 3 | S16: 3 | T16: 2
A17: 71 | B17: Ferrari | C17: Pro | D17: AF Corse | M17: 2 | N17: 2 | O17: 4 | P17: Ret | Q17: 3 | R17: 5 | S17: 5 | T17: 3
A18: 99 | B18: Aston Martin | C18: Pro | D18: Aston Martin Racing | M18: 3 | N18: 5 | O18: Ret | P18: Ret | Q18: 1 | R18: 6 | S18: 2 | T18: Ret
A19: 81 | B19: Ferrari | C19: Am | D19: 8 Star Motorsports | M19: 3 | N19: 1 | O19: 6 | P19: 2 | Q19: 4 | R19: 4 | S19: 1 | T19: 2
A20: 96 | B20: Aston Martin | C20: Am | D20: Aston Martin Racing | M20: 4 | N20: 4 | O20: 4 | P20: 1 | Q20: 1 | R20: 2 | S20: 3 | T20: 5
A21: 76 | B21: Porsche | C21: Am | D21: IMSA Performance Matmut | M21: 7 | N21: 6 | O21: 1 | P21: 4 | Q21: 3 | R21: 5 | S21: 2 | T21: 6
A22: 95 | B22: Aston Martin | C22: Am | D22: Aston Martin Racing | M22: 1 | N22: 2 | O22: Ret | P22: Ret | Q22: 2 | R22: 1 | S22: Ret | T22: 1
A23: 50 | B23: Corvette | C23: Am | D23: Larbre Compétition | M23: 2 | N23: 3 | O23: 3 | P23: 6 | Q23: 6 | R23: 8 | S23: 5 | T23: 4
A24: 88 | B24: Porsche | C24: Am | D24: Proton Competition | M24: 5 | N24: 5 | O24: 5 | P24: 3 | Q24: 5 | R24: 3 | S24: 4 | T24: Ret
A25: 61 | B25: Ferrari | C25: Am | D25: AF Corse | M25: 8 | N25: 8 | O25: 2 | P25: Ret | Q25: 7 | R25: 7 | S25: 6 | T25: 3
A26: 57 | B26: Ferrari | C26: Am | D26: Krohn Racing | M26: 6 | N26: 7 | O26: Ret | P26: 5 | Q26: 8 | R26: 6 | S26: Ret | T26: Ret
A27: 51 | B27: Ferrari | C27: Pro | D27: AF Corse | U27: 4 | V27: 1 | W27: 1 | X27: 3 | Y27: 1 | Z27: Ret | AA27: 1 | AB27: 4
A28: 92 | B28: Porsche | C28: Pro | D28: Porsche Team Manthey | U28: 1 | V28: 6 | W28: 2 | X28: 2 | Y28: 6 | Z28: 1 | AA28: 5 | AB28: 2
A29: 97 | B29: Aston Martin | C29: Pro | D29: Aston Martin Racing | U29: 3 | V29: 4 | W29: 3 | X29: 1 | Y29: 5 | Z29: Ret | AA29: 2 | AB29: 1
A30: 91 | B30: Porsche | C30: Pro | D30: Porsche Team Manthey | U30: 2 | V30: 2 | W30: 4 | X30: 4 | Y30: 4 | Z30: 2 | AA30: 4 | AB30: 6
A31: 71 | B31: Ferrari | C31: Pro | D31: AF Corse | U31: 5 | V31: 3 | W31: Ret | X31: 5 | Y31: 2 | Z31: 3 | AA31: 3 | AB31: 3
A32: 99 | B32: Aston Martin | C32: Pro | D32: Aston Martin Racing | U32: 7 | V32: 5 | W32: WD | X32: 6 | Y32: 3 | Z32: 4 | AA32: 6 | AB32: 5
A33: 52 | B33: Ferrari | C33: Pro | D33: Ram Racing | U33: 6 | W33: Ret
A34: 95 | B34: Aston Martin | C34: Am | D34: Aston Martin Racing | U34: 1 | V34: 2 | W34: 1 | X34: 2 | Y34: 1 | Z34: 2 | AA34: 1 | AB34: 2
A35: 98 | B35: Aston Martin | C35: Am | D35: Aston Martin Racing | U35: 2 | V35: 3 | W35: 5 | X35: 1 | Y35: 2 | Z35: 1 | AA35: 3 | AB35: 1
A36: 88 | B36: Porsche | C36: Am | D36: Proton Competition | U36: 4 | V36: 4 | W36: 2 | X36: 3 | Y36: 4 | Z36: 5 | AA36: 4 | AB36: 4
A37: 61 | B37: Ferrari | C37: Am | D37: AF Corse | U37: 6 | V37: 1 | W37: 3 | X37: 4 | Y37: 5 | AA37: 6 | AB37: 6
A38: 81 | B38: Ferrari | C38: Am | D38: AF Corse | U38: 3 | V38: 5 | W38: Ret | X38: 6 | Y38: Ret | AA38: 2 | AB38: 3
A39: 90 | B39: Ferrari | C39: Am | D39: 8 Star Motorsports | U39: Ret | V39: 7 | W39: 4 | X39: 5 | Y39: Ret | Z39: 3 | AA39: 5 | AB39: Ret
A40: 75 | B40: Porsche | C40: Am | D40: Prospeed Competition | U40: Ret | V40: 6 | W40: Ret | X40: 7 | Y40: 3 | Z40: 4 | AA40: 7 | AB40: 5
A41: 53 | B41: Ferrari | C41: Am | D41: Ram Racing | U41: 5 | W41: 6
A42: 91 | B42: Porsche | C42: Pro | D42: Porsche Team Manthey | AC42: 2 | AD42: 3 | AE42: 4 | AF42: 1 | AG42: 1 | AH42: 4 | AI42: 1 | AJ42: 5
A43: 51 | B43: Ferrari | C43: Pro | D43: AF Corse | AC43: 1 | AD43: 4 | AE43: 2 | AF43: 7 | AG43: 7 | AH43: 1 | AI43: 2 | AJ43: 2
A44: 71 | B44: Ferrari | C44: Pro | D44: AF Corse | AC44: 3 | AD44: 7 | AE44: 1 | AF44: 3 | AG44: 3 | AH44: 3 | AI44: 4 | AJ44: 6
A45: 92 | B45: Porsche | C45: Pro | D45: Porsche Team Manthey | AC45: 7 | AD45: 2 | AE45: Ret | AF45: 2 | AG45: 2 | AH45: 2 | AI45: 3 | AJ45: 1
A46: 99 | B46: Aston Martin | C46: Pro | D46: Aston Martin Racing V8 | AC46: 6 | AD46: 1 | AE46: 5 | AF46: 5 | AG46: 4 | AH46: 7 | AI46: 5 | AJ46: 7
A47: 95 | B47: Aston Martin | C47: Pro | D47: Aston Martin Racing | AC47: 4 | AD47: 6 | AE47: 3 | AF47: 4 | AG47: 5 | AH47: 5 | AJ47: 4
A48: 97 | B48: Aston Martin | C48: Pro | D48: Aston Martin Racing | AC48: 5 | AD48: 5 | AE48: Ret | AF48: 6 | AG48: 6 | AH48: 6 | AI48: 6 | AJ48: 3
A49: 72 | B49: Ferrari | C49: Am | D49: SMP Racing | AC49: 3 | AD49: 3 | AE49: 1 | AF49: 1 | AG49: 1 | AH49: 6 | AI49: 3 | AJ49: 5
A50: 83 | B50: Ferrari | C50: Am | D50: AF Corse | AC50: 2 | AD50: 2 | AE50: 3 | AF50: 3 | AG50: 3 | AH50: 3 | AI50: 1 | AJ50: 4
A51: 98 | B51: Aston Martin | C51: Am | D51: Aston Martin Racing | AC51: 1 | AD51: 1 | AE51: NC | AF51: 2 | AG51: 5 | AH51: 2 | AI51: 2 | AJ51: 1
A52: 77 | B52: Porsche | C52: Am | D52: Dempsey Racing-Proton | AC52: 6 | AD52: 5 | AE52: 2 | AF52: 4 | AG52: 4 | AH52: 1 | AI52: 4 | AJ52: 3
A53: 88 | B53: Porsche | C53: Am | D53: Abu Dhabi-Proton Racing | AC53: 5 | AD53: 4 | AE53: Ret | AF53: 6 | AG53: 2 | AH53: 5 | AI53: 7 | AJ53: 2
A54: 96 | B54: Aston Martin | C54: Am | D54: Aston Martin Racing | AC54: 4 | AD54: 6 | AE54: Ret | AF54: 7 | AG54: 6 | AH54: 7 | AI54: 6 | AJ54: 7
A55: 50 | B55: Corvette | C55: Am | D55: Larbre Compétition | AC55: 7 | AD55: Ret | AE55: Ret | AF55: 5 | AG55: 7 | AH55: 4 | AI55: 5 | AJ55: 6
A56: 95 | B56: Aston Martin | C56: Pro | D56: Aston Martin Racing | AK56: 3 | AL56: Ret | AM56: 2 | AN56: 3 | AO56: 3 | AP56: 1 | AQ56: 5 | AR56: 4 | AS56: 1
A57: 67 | C57: Pro | D57: Ford Chip Ganassi Team UK | AK57: 4 | AL57: 2 | AM57: 5 | AN57: 7 | AO57: 5 | AP57: 4 | AQ57: 1 | AR57: 1 | AS57: 4
A58: 71 | B58: Ferrari | C58: Pro | D58: AF Corse | AK58: 1 | AL58: 1 | AM58: Ret | AN58: 2 | AO58: 4 | AP58: 3 | AQ58: 4 | AR58: 5 | AS58: 3
A59: 66 | C59: Pro | D59: Ford Chip Ganassi Team UK | AK59: 5 | AL59: Ret | AM59: 1 | AN59: 4 | AO59: 7 | AP59: 7 | AQ59: 2 | AR59: 2 | AS59: 6
A60: 51 | B60: Ferrari | C60: Pro | D60: AF Corse | AK60: 2 | AL60: Ret | AM60: Ret | AN60: 1 | AO60: 2 | AP60: 2 | AQ60: 3 | AR60: 3 | AS60: 2
A61: 97 | B61: Aston Martin | C61: Pro | D61: Aston Martin Racing | AK61: Ret | AL61: 3 | AM61: 3 | AN61: 5 | AO61: 1 | AP61: 5 | AQ61: 6 | AR61: Ret | AS61: 5
A62: 77 | B62: Porsche | C62: Pro | D62: Dempsey-Proton Racing | AK62: 6 | AL62: 4 | AM62: 4 | AN62: 6 | AO62: 6 | AP62: 6 | AQ62: 7 | AR62: 6 | AS62: 7
A63: 83 | B63: Ferrari | C63: Am | D63: AF Corse | AK63: 1 | AL63: 2 | AM63: 1 | AN63: 2 | AO63: 2 | AP63: 6 | AQ63: 2 | AR63: 2 | AS63: 3
A64: 88 | B64: Porsche | C64: Am | D64: Abu Dhabi-Proton Racing | AK64: 5 | AL64: 6 | AM64: 2 | AN64: 4 | AO64: 1 | AP64: 5 | AQ64: 5 | AR64: 4 | AS64: 1
A65: 98 | B65: Aston Martin | C65: Am | D65: Aston Martin Racing | AK65: 2 | AL65: 1 | AM65: Ret | AN65: 1 | AO65: Ret | AP65: 1 | AQ65: 1 | AR65: 1 | AS65: Ret
A66: 78 | B66: Porsche | C66: Am | D66: KCMG | AK66: 4 | AL66: 4 | AM66: 5 | AN66: EX | AO66: 3 | AP66: 2 | AQ66: 3 | AR66: 3 | AS66: 2
A67: 50 | B67: Corvette | C67: Am | D67: Larbre Compétition | AK67: 3 | AL67: 3 | AM67: 4 | AN67: 3 | AO67: Ret | AP67: 3 | AQ67: 6 | AR67: 5 | AS67: 5
A68: 86 | B68: Porsche | C68: Am | D68: Gulf Racing | AK68: Ret | AL68: 5 | AM68: 3 | AN68: 5 | AO68: 4 | AP68: 4 | AQ68: 4 | AR68: 6 | AS68: 4
A69: 51 | B69: Ferrari | C69: Pro | D69: AF Corse | AT69: 2 | AU69: 2 | AV69: 7 | AW69: 1 | AX69: 6 | AY69: 1 | AZ69: 1 | BA69: 3 | BB69: 2
A70: 67 | B70: Ford | C70: Pro | D70: Ford Chip Ganassi Racing UK | AT70: 1 | AU70: 4 | AV70: 2 | AW70: 5 | AX70: 4 | AY70: 7 | AZ70: 8 | BA70: 1 | BB70: 3
A71: 91 | B71: Porsche | C71: Pro | D71: Porsche GT Team | AT71: 3 | AU71: 5 | AV71: 3 | AW71: 2 | AX71: 3 | AY71: 6 | AZ71: 2 | BA71: 2 | BB71: 4
A72: 71 | B72: Ferrari | C72: Pro | D72: AF Corse | AT72: 5 | AU72: 1 | AV72: 4 | AW72: 8 | AX72: 2 | AY72: 3 | AZ72: 5 | BA72: 6 | BB72: 1
A73: 95 | B73: Aston Martin | C73: Pro | D73: Aston Martin Racing | AT73: 6 | AU73: 8 | AV73: 5 | AW73: 4 | AX73: 1 | AY73: 4 | AZ73: 7 | BA73: 5 | BB73: 7
A74: 97 | B74: Aston Martin | C74: Pro | D74: Aston Martin Racing | AT74: 7 | AU74: 7 | AV74: 1 | AW74: 7 | AX74: Ret | AY74: 5 | AZ74: 6 | BA74: 7 | BB74: 6
A75: 66 | B75: Ford | C75: Pro | D75: Ford Chip Ganassi Racing UK | AT75: 4 | AU75: 3 | AV75: 6 | AW75: 6 | AX75: 7 | AY75: 8 | AZ75: 4 | BA75: 4 | BB75: 5
A76: 92 | B76: Porsche | C76: Pro | D76: Porsche GT Team | AT76: Ret | AU76: 6 | AV76: Ret | AW76: 3 | AX76: 5 | AY76: 2 | AZ76: 3 | BA76: Ret | BB76: Ret
A77: 98 | B77: Aston Martin | C77: Am | D77: Aston Martin Racing | AT77: 2 | AU77: 1 | AV77: 3 | AW77: 3 | AX77: 2 | AY77: 1 | AZ77: 5 | BA77: 1 | BB77: 1
A78: 61 | B78: Ferrari | C78: Am | D78: Clearwater Racing | AT78: 1 | AU78: 3 | AV78: 1 | AW78: 4 | AX78: 5 | AY78: 2 | AZ78: 2 | BA78: 4 | BB78: 2
A79: 77 | B79: Porsche | C79: Am | D79: Dempsey-Proton Racing | AT79: 3 | AU79: 2 | AV79: 2 | AW79: 1 | AX79: 1 | AY79: 4 | AZ79: 3 | BA79: 3 | BB79: 4
A80: 54 | B80: Ferrari | C80: Am | D80: Spirit of Race | AT80: Ret | AU80: 4 | AV80: 5 | AW80: 2 | AX80: 4 | AY80: 3 | AZ80: 1 | BA80: Ret | BB80: 3
A81: 86 | B81: Porsche | C81: Am | D81: Gulf Racing | AT81: 4 | AU81: Ret | AV81: 4 | AW81: 5 | AX81: 3 | AY81: Ret | AZ81: 4 | BA81: 2 | BB81: 5
A82: 92 | B82: Porsche | C82: Pro | D82: Porsche GT Team | BC82: 2 | BD82: 1 | BE82: 3 | BF82: 1 | BG82: 3 | BH82: 5 | BI82: 3 | BJ82: 5
A83: 51 | B83: Ferrari | C83: Pro | D83: AF Corse | BC83: 15 | BD83: 4 | BE83: 1 | BF83: 4 | BG83: 5 | BH83: 4 | BI83: 2 | BJ83: 1
A84: 91 | B84: Porsche | C84: Pro | D84: Porsche GT Team | BC84: 4 | BD84: 2 | BE84: DSQ | BF84: 5 | BG84: 2 | BH84: 1 | BI84: 8 | BJ84: 2
A85: 67 | B85: Ford | C85: Pro | D85: Ford Chip Ganassi Team UK | BC85: Ret | BD85: 12 | BE85: 2 | BF85: 3 | BG85: 9 | BH85: 3 | BI85: 5 | BJ85: 3
A86: 66 | B86: Ford | C86: Pro | D86: Ford Chip Ganassi Team UK | BC86: 1 | BD86: 3 | BE86: 6 | BF86: 8 | BG86: 7 | BH86: 18 | BI86: 10 | BJ86: 4
A87: 97 | B87: Aston Martin | C87: Pro | D87: Aston Martin Racing | BC87: 6 | BD87: 13 | BE87: 4 | BF87: 9 | BG87: 4 | BH87: 8 | BI87: 1 | BJ87: 14
A88: 95 | B88: Aston Martin | C88: Pro | D88: Aston Martin Racing | BC88: 7 | BD88: 5 | BE88: 17 | BF88: 6 | BG88: 1 | BH88: 9 | BI88: 7 | BJ88: Ret
A89: 82 | B89: BMW | C89: Pro | D89: BMW Team MTEK | BC89: 5 | BD89: Ret | BE89: Ret | BF89: 2 | BG89: 10 | BH89: 7 | BI89: 4 | BJ89: 6
A90: 71 | B90: Ferrari | C90: Pro | D90: AF Corse | BC90: 3 | BD90: 6 | BE90: 16 | BF90: 10 | BG90: 6 | BH90: 6 | BI90: 6 | BJ90: Ret
A91: 81 | B91: BMW | C91: Pro | D91: BMW Team MTEK | BC91: 8 | BD91: 9 | BE91: 5 | BF91: 7 | BG91: 8 | BH91: 2 | BI91: 9 | BJ91: 15
A92: 56 | B92: Porsche | C92: Am | D92: Team Project 1 | BC92: 9 | BD92: 3 | BE92: 3 | BF92: 1 | BG92: 2 | BH92: 3 | BI92: 5 | BJ92: 1
A93: 77 | B93: Porsche | C93: Am | D93: Dempsey-Proton Racing | BC93: 4 | BD93: 1 | BE93: 1 | BF93: DSQ | BG93: 1 | BH93: 1 | BI93: 1 | BJ93: 2
A94: 90 | B94: Aston Martin | C94: Am | D94: TF Sport | BC94: 2 | BD94: Ret | BE94: 2 | BF94: 2 | BG94: 8 | BH94: 6 | BI94: 2 | BJ94: 6
A95: 54 | B95: Ferrari | C95: Am | D95: Spirit of Race | BC95: 8 | BD95: 2 | BE95: 9 | BF95: 5 | BG95: 4 | BH95: 2 | BI95: 4 | BJ95: 7
A96: 61 | B96: Ferrari | C96: Am | D96: Clearwater Racing | BC96: 3 | BD96: 4 | BE96: 5 | BF96: 6 | BG96: 7 | BH96: DNS | BI96: 3 | BJ96: 3
A97: 86 | B97: Porsche | C97: Am | D97: Gulf Racing | BC97: 7 | BD97: 6 | BE97: 6 | BF97: 4 | BG97: 9 | BH97: 4 | BI97: 7 | BJ97: 4
A98: 98 | B98: Aston Martin | C98: Am | D98: Aston Martin Racing | BC98: 1 | BD98: Ret | BE98: 4 | BF98: 3 | BG98: 5 | BH98: 8 | BI98: 6 | BJ98: Ret
A99: 70 | B99: Ferrari | C99: Am | D99: MR Racing | BC99: 5 | BD99: 5 | BE99: 7 | BF99: Ret | BG99: 6 | BH99: 5 | BI99: 8 | BJ99: 5
A100: 88 | B100: Porsche | C100: Am | D100: Dempsey-Proton Racing | BC100: 6 | BD100: Ret | BE100: 8 | BF100: DSQ | BG100: 3 | BH100: 7 | BI100: 9 | BJ100: Ret
...

Sheet sortingWEC
E1: 2012 | M1: 2013 | U1: 2014 | AC1: 2015 | AK1: 2016 | AT1: 2017 | BC1: 2018-2019 | BK1: 2019-2020 | BS1: 2021 | BY1: 2022 | CE1: 2023 | CL1: Stats | CQ1: Number of Specified Results | DF1: Wins | DR1: Number of Result by Manu
A2: Num | B2: Manu | C2: Class | D2: Team | E2: Sebring | F2: Spa | G2: Le Mans | H2: Silverstone | I2: Interlagos | J2: Bahrain | K2: Fuji | L2: Shanghai | M2: Silverstone | N2: Spa | O2: Le Mans | P2: Interlagos | Q2: Cota | R2: Fuji | S2: Shanghai | T2: Bahrain | U2: Silverstone | V2: Spa | W2: Le Mans | X2: COTA | Y2: Fuji | Z2: Shanghai | AA2: Bahrain | AB2: Interlagos | AC2: Silverstone | AD2: Spa | AE2: Le Mans | AF2: Nürburgring | AG2: COTA | AH2: Fuji | AI2: Shanghai | AJ2: Bahrain | AK2: Silverstone | AL2: Spa | AM2: Le Mans | AN2: Nürburgring | AO2: Mexico | AP2: COTA | AQ2: Fuji | AR2: Shanghai | AS2: Bahrain | AT2: Silverstone | AU2: Spa | AV2: Le Mans | AW2: Nürburgring | AX2: Mexico | AY2: COTA | AZ2: Fuji | BA2: Shanghai | BB2: Bahrain | BC2: Spa | BD2: Le Mans | BE2: Silverstone | BF2: Fuji | BG2: Shanghai | BH2: Sebring | BI2: Spa | BJ2: Le Mans | BK2: Silverstone | BL2: Fuji | BM2: Shanghai | BN2: Bahrain | BO2: COTA | BP2: Spa | BQ2: Le Mans | BR2: Bahrain | BS2: Spa | BT2: Portimao | BU2: Monza | BV2: Le Mans | BW2: Bahrain | BX2: Bahrain | BY2: Sebring | BZ2: Spa | CA2: Le Mans | CB2: Monza | CC2: Fuji | CD2: Bahrain | CE2: Sebring | CF2: Portimao | CG2: Spa | CH2: Le Mans | CI2: Monza | CJ2: Fuji | CK2: Bahrain | CL2: avg | CM2: std | CN2: entries | CO2: fracWin | CQ2: 1 | CR2: 2 | CS2: 3 | CT2: 4 | CU2: 5 | CV2: 6 | CW2: 7 | CX2: 8 | CY2: 9 | CZ2: 10 | DA2: Ret | DB2: NC | DC2: WD | DD2: DNS | DF2: Pro | DG2: Am | DI2: Manufacturer | DJ2: entries | DK2: Pro | DL2: Am | DM2: Total | DN2: Podiums | DO2: AvgFinish | DP2: stdFinish | DR2: Manufacturer | DS2: 1 | DT2: 2 | DU2: 3 | DV2: 4 | DW2: 5 | DX2: 6 | DY2: 7 | DZ2: 8 | EA2: 9 | EB2: 10 | EC2: Ret | ED2: NC | EE2: WD | EF2: DNS | EH2: Manufacturer | EI2: 1 | EJ2: 2 | EK2: 3 | EL2: 4 | EM2: 5 | EN2: 6 | EO2: 7 | EP2: 8 | EQ2: 9 | ER2: 10 | ES2: Ret | ET2: NC | EU2: WD | EV2: DNS | EX2: Team | EY2: totEntries | EZ2: Wins | FA2: fracWin | FB2: Podiums | FC2: nunCars
A3: 21 | B3: Ferrari | C3: Am | D3: AF Corse | BY3: 7 | BZ3: 11 | CA3: 7 | CB3: 7 | CC3: 10 | CD3: 11 | CE3: 4 | CF3: 5 | CG3: 6 | CH3: Ret | CI3: 9 | CJ3: 12 | CK3: 11 | CL3: =AVERAGE(E3:CK3) -> 8.3333333 | CM3: =_xlfn.STDEV.S(E3:CK3) -> 2.6742317 | CN3: =COUNT(E3:CK3) -> 12 | CO3: =CQ3/CN3 -> 0 | CQ3: =COUNTIF(E3:CK3,$CQ$2) -> 0 | CR3: =COUNTIF(E3:CK3,$CR$2) -> 0 | CS3: =COUNTIF(E3:CK3,$CS$2) -> 0 | CT3: =COUNTIF(E3:CK3,$CT$2) -> 1 | CU3: =COUNTIF(E3:CK3,$CU$2) -> 1 | CV3: =COUNTIF(E3:CK3,$CV$2) -> 1 | CW3: =COUNTIF(E3:CK3,$CW$2) -> 3 | CX3: =COUNTIF(E3:CK3,$CX$2) -> 0 | CY3: =COUNTIF(E3:CK3,$CY$2) -> 1 | CZ3: =COUNTIF(E3:CK3,$CZ$2) -> 1 | DA3: =COUNTIF(E3:CK3,$DA$2) -> 1 | DB3: =COUNTIF(E3:CK3,$DB$2) -> 0 | DC3: =COUNTIF(E3:CK3,$DC$2) -> 0 | DD3: =COUNTIF(E3:CK3,$DD$2) -> 0 | DF3: =IF(C3=$DF$2,COUNTIF(E3:CK3,1),"" ) | DG3: =IF(C3=$DG$2,COUNTIF(E3:CK3,1),"" ) -> 0 | DI3: Aston Martin | DJ3: =SUMIF($B$3:$B$60,DI3,$CN$3:$CN$60) -> 250 | DK3: =SUMIF($B$3:$B$60,DI3,$DF$3:$DF$60) -> 19 | DL3: =SUMIF($B$3:$B$60,DI3,$DG$3:$DG$60) -> 33 | DM3: =SUM(DK3:DL3) -> 52 | DN3: =SUM(DS3:DU3) -> 124 | DO3: =SUMIF($B$3:$B$60,DI3,$CL$3:$CL$60)/COUNTIF($B$3:$B$60,DI3) -> 4.4111189 | DP3: =SUMIF($B$3:$B$60,DI3,$CM$3:$CM$60)/COUNTIF($B$3:$B$60,DI3) -> 2.6534556 | DR3: =DI3 -> Aston Martin | DS3: =SUMIF($B$3:$B$60,DR3,$CQ$3:$CQ$60) -> 52 | DT3: =SUMIF($B$3:$B$60,DR3,$CR$3:$CR$60) -> 38 | DU3: =SUMIF($B$3:$B$60,DR3,$CS$3:$CS$60) -> 34 | DV3: =SUMIF($B$3:$B$60,DR3,$CT$3:$CT$60) -> 22 | DW3: =SUMIF($B$3:$B$60,DR3,$CU$3:$CU$60) -> 30 | DX3: =SUMIF($B$3:$B$60,DR3,$CV$3:$CV$60) -> 25 | DY3: =SUMIF($B$3:$B$60,DR3,$CW$3:$CW$60) -> 22 | DZ3: =SUMIF($B$3:$B$60,DR3,$CX$3:$CX$60) -> 7 | EA3: =SUMIF($B$3:$B$60,DR3,$CY$3:$CY$60) -> 5 | EB3: =SUMIF($B$3:$B$60,DR3,$CZ$3:$CZ$60) -> 6 | EC3: =SUMIF($B$3:$B$60,DR3,$DA$3:$DA$60) -> 32 | ED3: =SUMIF($B$3:$B$60,DR3,$DB$3:$DB$60) -> 2 | EE3: =SUMIF($B$3:$B$60,DR3,$DC$3:$DC$60) -> 1 | EF3: =SUMIF($B$3:$B$60,DR3,$DD$3:$DD$60) -> 0 | EH3: =DI3 -> Aston Martin | EI3: =DS3/$DJ$3 -> 0.208 | EJ3: =DT3/$DJ$3 -> 0.152 | EK3: =DU3/$DJ$3 -> 0.136 | EL3: =DV3/$DJ$3 -> 0.088 | EM3: =DW3/$DJ$3 -> 0.12 | EN3: =DX3/$DJ$3 -> 0.1 | EO3: =DY3/$DJ$3 -> 0.088 | EP3: =DZ3/$DJ$3 -> 0.028 | ... EV3: =EF3/$DJ$3 -> 0 | EX3: {=_xlfn._xlws.SORT(_xlfn.UNIQUE(D3:D60))} -> 8 Star Motorsports | EY3: =SUMIF($D$3:$D$60,EX3,$CN$3:$CN$60) -> 13 | EZ3: =SUMIF($D$3:$D$60,EX3,$CQ$3:$CQ$60) -> 2 | FA3: =EZ3/EY3 -> 0.15384615 | FB3: =SUMIF($D$3:$D$60,EX3,$CR$3:$CR$60)+SUMIF($D$3:$D$60,EX3,$CS$3:$CS$60)+EZ3 -> 6 | FC3: =COUNTIF($D$3:$D$60,EX3) -> 2
A4: 25 | B4: Aston Martin | C4: Am | D4: ORT by TF | CE4: 9 | CF4: 8 | CG4: 3 | CH4: 2 | CI4: 7 | CJ4: 13 | CK4: Ret | CL4: =AVERAGE(E4:CK4) -> 7 | CM4: =_xlfn.STDEV.S(E4:CK4) -> 4.0496913 | CN4: =COUNT(E4:CK4) -> 6 | CO4: =CQ4/CN4 -> 0 | CQ4: =COUNTIF(E4:CK4,$CQ$2) -> 0 | CR4: =COUNTIF(E4:CK4,$CR$2) -> 1 | CS4: =COUNTIF(E4:CK4,$CS$2) -> 1 | CT4: =COUNTIF(E4:CK4,$CT$2) -> 0 | CU4: =COUNTIF(E4:CK4,$CU$2) -> 0 | CV4: =COUNTIF(E4:CK4,$CV$2) -> 0 | CW4: =COUNTIF(E4:CK4,$CW$2) -> 1 | CX4: =COUNTIF(E4:CK4,$CX$2) -> 1 | CY4: =COUNTIF(E4:CK4,$CY$2) -> 1 | CZ4: =COUNTIF(E4:CK4,$CZ$2) -> 0 | DA4: =COUNTIF(E4:CK4,$DA$2) -> 1 | DB4: =COUNTIF(E4:CK4,$DB$2) -> 0 | DC4: =COUNTIF(E4:CK4,$DC$2) -> 0 | DD4: =COUNTIF(E4:CK4,$DD$2) -> 0 | DF4: =IF(C4=$DF$2,COUNTIF(E4:CK4,1),"" ) | DG4: =IF(C4=$DG$2,COUNTIF(E4:CK4,1),"" ) -> 0 | DI4: BMW | DJ4: =SUMIF($B$3:$B$60,DI4,$CN$3:$CN$60) -> 14 | DK4: =SUMIF($B$3:$B$60,DI4,$DF$3:$DF$60) -> 0 | DL4: =SUMIF($B$3:$B$60,DI4,$DG$3:$DG$60) -> 0 | DM4: =SUM(DK4:DL4) -> 0 | DN4: =SUM(DS4:DU4) -> 2 | DO4: =SUMIF($B$3:$B$60,DI4,$CL$3:$CL$60)/COUNTIF($B$3:$B$60,DI4) -> 6.7708333 | DP4: =SUMIF($B$3:$B$60,DI4,$CM$3:$CM$60)/COUNTIF($B$3:$B$60,DI4) -> 3.2263196 | DR4: =DI4 -> BMW | DS4: =SUMIF($B$3:$B$60,DR4,$CQ$3:$CQ$60) -> 0 | DT4: =SUMIF($B$3:$B$60,DR4,$CR$3:$CR$60) -> 2 | DU4: =SUMIF($B$3:$B$60,DR4,$CS$3:$CS$60) -> 0 | DV4: =SUMIF($B$3:$B$60,DR4,$CT$3:$CT$60) -> 1 | DW4: =SUMIF($B$3:$B$60,DR4,$CU$3:$CU$60) -> 2 | DX4: =SUMIF($B$3:$B$60,DR4,$CV$3:$CV$60) -> 1 | DY4: =SUMIF($B$3:$B$60,DR4,$CW$3:$CW$60) -> 2 | DZ4: =SUMIF($B$3:$B$60,DR4,$CX$3:$CX$60) -> 2 | EA4: =SUMIF($B$3:$B$60,DR4,$CY$3:$CY$60) -> 2 | EB4: =SUMIF($B$3:$B$60,DR4,$CZ$3:$CZ$60) -> 1 | EC4: =SUMIF($B$3:$B$60,DR4,$DA$3:$DA$60) -> 2 | ED4: =SUMIF($B$3:$B$60,DR4,$DB$3:$DB$60) -> 0 | EE4: =SUMIF($B$3:$B$60,DR4,$DC$3:$DC$60) -> 0 | EF4: =SUMIF($B$3:$B$60,DR4,$DD$3:$DD$60) -> 0 | EH4: =DI4 -> BMW | EI4: =DS4/$DJ$4 -> 0 | EJ4: =DT4/$DJ$4 -> 0.14285714 | EK4: =DU4/$DJ$4 -> 0 | EL4: =DV4/$DJ$4 -> 0.071428571 | EM4: =DW4/$DJ$4 -> 0.14285714 | EN4: =DX4/$DJ$4 -> 0.071428571 | EO4: =DY4/$DJ$4 -> 0.14285714 | EP4: =DZ4/$DJ$4 -> 0.14285714 | ... EV4: =EF4/$DJ$4 -> 0 | EX4: AF Corse | EY4: =SUMIF($D$3:$D$60,EX4,$CN$3:$CN$60) -> 238 | EZ4: =SUMIF($D$3:$D$60,EX4,$CQ$3:$CQ$60) -> 45 | FA4: =EZ4/EY4 -> 0.18907563 | FB4: =SUMIF($D$3:$D$60,EX4,$CR$3:$CR$60)+SUMIF($D$3:$D$60,EX4,$CS$3:$CS$60)+EZ4 -> 125 | FC4: =COUNTIF($D$3:$D$60,EX4) -> 8
A5: 33 | B5: Aston Martin | C5: Am | D5: TF Sport | BS5: 2 | BT5: 7 | BU5: 12 | BV5: 2 | BW5: 1 | BX5: Ret | BY5: 2 | BZ5: 2 | CA5: 1 | CB5: Ret | CC5: 1 | CD5: 4 | CL5: =AVERAGE(E5:CK5) -> 3.4 | CM5: =_xlfn.STDEV.S(E5:CK5) -> 3.5339622 | CN5: =COUNT(E5:CK5) -> 10 | CO5: =CQ5/CN5 -> 0.3 | CQ5: =COUNTIF(E5:CK5,$CQ$2) -> 3 | CR5: =COUNTIF(E5:CK5,$CR$2) -> 4 | CS5: =COUNTIF(E5:CK5,$CS$2) -> 0 | CT5: =COUNTIF(E5:CK5,$CT$2) -> 1 | CU5: =COUNTIF(E5:CK5,$CU$2) -> 0 | CV5: =COUNTIF(E5:CK5,$CV$2) -> 0 | CW5: =COUNTIF(E5:CK5,$CW$2) -> 1 | CX5: =COUNTIF(E5:CK5,$CX$2) -> 0 | CY5: =COUNTIF(E5:CK5,$CY$2) -> 0 | CZ5: =COUNTIF(E5:CK5,$CZ$2) -> 0 | DA5: =COUNTIF(E5:CK5,$DA$2) -> 2 | DB5: =COUNTIF(E5:CK5,$DB$2) -> 0 | DC5: =COUNTIF(E5:CK5,$DC$2) -> 0 | DD5: =COUNTIF(E5:CK5,$DD$2) -> 0 | DF5: =IF(C5=$DF$2,COUNTIF(E5:CK5,1),"" ) | DG5: =IF(C5=$DG$2,COUNTIF(E5:CK5,1),"" ) -> 3 | DI5: Corvette | DJ5: =SUMIF($B$3:$B$60,DI5,$CN$3:$CN$60) -> 42 | DK5: =SUMIF($B$3:$B$60,DI5,$DF$3:$DF$60) -> 1 | DL5: =SUMIF($B$3:$B$60,DI5,$DG$3:$DG$60) -> 6 | DM5: =SUM(DK5:DL5) -> 7 | DN5: =SUM(DS5:DU5) -> 21 | DO5: =SUMIF($B$3:$B$60,DI5,$CL$3:$CL$60)/COUNTIF($B$3:$B$60,DI5) -> 3.1238095 | DP5: =SUMIF($B$3:$B$60,DI5,$CM$3:$CM$60)/COUNTIF($B$3:$B$60,DI5) -> 1.9207635 | DR5: =DI5 -> Corvette | DS5: =SUMIF($B$3:$B$60,DR5,$CQ$3:$CQ$60) -> 7 | DT5: =SUMIF($B$3:$B$60,DR5,$CR$3:$CR$60) -> 8 | DU5: =SUMIF($B$3:$B$60,DR5,$CS$3:$CS$60) -> 6 | DV5: =SUMIF($B$3:$B$60,DR5,$CT$3:$CT$60) -> 7 | DW5: =SUMIF($B$3:$B$60,DR5,$CU$3:$CU$60) -> 6 | DX5: =SUMIF($B$3:$B$60,DR5,$CV$3:$CV$60) -> 4 | DY5: =SUMIF($B$3:$B$60,DR5,$CW$3:$CW$60) -> 3 | DZ5: =SUMIF($B$3:$B$60,DR5,$CX$3:$CX$60) -> 1 | EA5: =SUMIF($B$3:$B$60,DR5,$CY$3:$CY$60) -> 0 | EB5: =SUMIF($B$3:$B$60,DR5,$CZ$3:$CZ$60) -> 0 | EC5: =SUMIF($B$3:$B$60,DR5,$DA$3:$DA$60) -> 4 | ED5: =SUMIF($B$3:$B$60,DR5,$DB$3:$DB$60) -> 0 | EE5: =SUMIF($B$3:$B$60,DR5,$DC$3:$DC$60) -> 0 | EF5: =SUMIF($B$3:$B$60,DR5,$DD$3:$DD$60) -> 0 | EH5: =DI5 -> Corvette | EI5: =DS5/$DJ$5 -> 0.16666667 | EJ5: =DT5/$DJ$5 -> 0.19047619 | EK5: =DU5/$DJ$5 -> 0.14285714 | EL5: =DV5/$DJ$5 -> 0.16666667 | EM5: =DW5/$DJ$5 -> 0.14285714 | EN5: =DX5/$DJ$5 -> 0.095238095 | EO5: =DY5/$DJ$5 -> 0.071428571 | EP5: =DZ5/$DJ$5 -> 0.023809524 | ... EV5: =EF5/$DJ$5 -> 0 | EX5: Aston Martin Racing | EY5: =SUMIF($D$3:$D$60,EX5,$CN$3:$CN$60) -> 206 | EZ5: =SUMIF($D$3:$D$60,EX5,$CQ$3:$CQ$60) -> 45 | FA5: =EZ5/EY5 -> 0.2184466 | FB5: =SUMIF($D$3:$D$60,EX5,$CR$3:$CR$60)+SUMIF($D$3:$D$60,EX5,$CS$3:$CS$60)+EZ5 -> 103 | FC5: =COUNTIF($D$3:$D$60,EX5) -> 6
A6: 33 | B6: Corvette | C6: Am | D6: Corvette Racing | CE6: 1 | CF6: 1 | CG6: 2 | CH6: 1 | CI6: 4 | CJ6: 2 | CK6: 7 | CL6: =AVERAGE(E6:CK6) -> 2.5714286 | CM6: =_xlfn.STDEV.S(E6:CK6) -> 2.2253946 | CN6: =COUNT(E6:CK6) -> 7 | CO6: =CQ6/CN6 -> 0.42857143 | CQ6: =COUNTIF(E6:CK6,$CQ$2) -> 3 | CR6: =COUNTIF(E6:CK6,$CR$2) -> 2 | CS6: =COUNTIF(E6:CK6,$CS$2) -> 0 | CT6: =COUNTIF(E6:CK6,$CT$2) -> 1 | CU6: =COUNTIF(E6:CK6,$CU$2) -> 0 | CV6: =COUNTIF(E6:CK6,$CV$2) -> 0 | CW6: =COUNTIF(E6:CK6,$CW$2) -> 1 | CX6: =COUNTIF(E6:CK6,$CX$2) -> 0 | CY6: =COUNTIF(E6:CK6,$CY$2) -> 0 | CZ6: =COUNTIF(E6:CK6,$CZ$2) -> 0 | DA6: =COUNTIF(E6:CK6,$DA$2) -> 0 | DB6: =COUNTIF(E6:CK6,$DB$2) -> 0 | DC6: =COUNTIF(E6:CK6,$DC$2) -> 0 | DD6: =COUNTIF(E6:CK6,$DD$2) -> 0 | DF6: =IF(C6=$DF$2,COUNTIF(E6:CK6,1),"" ) | DG6: =IF(C6=$DG$2,COUNTIF(E6:CK6,1),"" ) -> 3 | DI6: Dodge | DJ6: =SUMIF($B$3:$B$60,DI6,$CN$3:$CN$60) -> 0 | DK6: =SUMIF($B$3:$B$60,DI6,$DF$3:$DF$60) -> 0 | DL6: =SUMIF($B$3:$B$60,DI6,$DG$3:$DG$60) -> 0 | DM6: =SUM(DK6:DL6) -> 0 | DN6: =SUM(DS6:DU6) -> 0 | DR6: =DI6 -> Dodge | DS6: =SUMIF($B$3:$B$60,DR6,$CQ$3:$CQ$60) -> 0 | DT6: =SUMIF($B$3:$B$60,DR6,$CR$3:$CR$60) -> 0 | DU6: =SUMIF($B$3:$B$60,DR6,$CS$3:$CS$60) -> 0 | DV6: =SUMIF($B$3:$B$60,DR6,$CT$3:$CT$60) -> 0 | DW6: =SUMIF($B$3:$B$60,DR6,$CU$3:$CU$60) -> 0 | DX6: =SUMIF($B$3:$B$60,DR6,$CV$3:$CV$60) -> 0 | DY6: =SUMIF($B$3:$B$60,DR6,$CW$3:$CW$60) -> 0 | DZ6: =SUMIF($B$3:$B$60,DR6,$CX$3:$CX$60) -> 0 | EA6: =SUMIF($B$3:$B$60,DR6,$CY$3:$CY$60) -> 0 | EB6: =SUMIF($B$3:$B$60,DR6,$CZ$3:$CZ$60) -> 0 | EC6: =SUMIF($B$3:$B$60,DR6,$DA$3:$DA$60) -> 0 | ED6: =SUMIF($B$3:$B$60,DR6,$DB$3:$DB$60) -> 0 | EE6: =SUMIF($B$3:$B$60,DR6,$DC$3:$DC$60) -> 0 | EF6: =SUMIF($B$3:$B$60,DR6,$DD$3:$DD$60) -> 0 | EH6: =DI6 -> Dodge | EX6: BMW Team MTEK | EY6: =SUMIF($D$3:$D$60,EX6,$CN$3:$CN$60) -> 14 | EZ6: =SUMIF($D$3:$D$60,EX6,$CQ$3:$CQ$60) -> 0 | FA6: =EZ6/EY6 -> 0 | FB6: =SUMIF($D$3:$D$60,EX6,$CR$3:$CR$60)+SUMIF($D$3:$D$60,EX6,$CS$3:$CS$60)+EZ6 -> 2 | FC6: =COUNTIF($D$3:$D$60,EX6) -> 2
A7: 46 | B7: Porsche | C7: Am | D7: Team Project 1 | BS7: WD | BU7: 11 | BV7: Ret | BY7: Ret | BZ7: 5 | CA7: Ret | CB7: 3 | CC7: 6 | CD7: 1 | CL7: =AVERAGE(E7:CK7) -> 5.2 | CM7: =_xlfn.STDEV.S(E7:CK7) -> 3.7682887 | CN7: =COUNT(E7:CK7) -> 5 | CO7: =CQ7/CN7 -> 0.2 | CQ7: =COUNTIF(E7:CK7,$CQ$2) -> 1 | CR7: =COUNTIF(E7:CK7,$CR$2) -> 0 | CS7: =COUNTIF(E7:CK7,$CS$2) -> 1 | CT7: =COUNTIF(E7:CK7,$CT$2) -> 0 | CU7: =COUNTIF(E7:CK7,$CU$2) -> 1 | CV7: =COUNTIF(E7:CK7,$CV$2) -> 1 | CW7: =COUNTIF(E7:CK7,$CW$2) -> 0 | CX7: =COUNTIF(E7:CK7,$CX$2) -> 0 | CY7: =COUNTIF(E7:CK7,$CY$2) -> 0 | CZ7: =COUNTIF(E7:CK7,$CZ$2) -> 0 | DA7: =COUNTIF(E7:CK7,$DA$2) -> 3 | DB7: =COUNTIF(E7:CK7,$DB$2) -> 0 | DC7: =COUNTIF(E7:CK7,$DC$2) -> 1 | DD7: =COUNTIF(E7:CK7,$DD$2) -> 0 | DF7: =IF(C7=$DF$2,COUNTIF(E7:CK7,1),"" ) | DG7: =IF(C7=$DG$2,COUNTIF(E7:CK7,1),"" ) -> 1 | DI7: Ferrari | DJ7: =SUMIF($B$3:$B$60,DI7,$CN$3:$CN$60) -> 364 | DK7: =SUMIF($B$3:$B$60,DI7,$DF$3:$DF$60) -> 32 | DL7: =SUMIF($B$3:$B$60,DI7,$DG$3:$DG$60) -> 22 | DM7: =SUM(DK7:DL7) -> 54 | DN7: =SUM(DS7:DU7) -> 169 | DO7: =SUMIF($B$3:$B$60,DI7,$CL$3:$CL$60)/COUNTIF($B$3:$B$60,DI7) -> 4.9455792 | DP7: =SUMIF($B$3:$B$60,DI7,$CM$3:$CM$60)/COUNTIF($B$3:$B$60,DI7) -> 1.9924962 | DR7: =DI7 -> Ferrari | DS7: =SUMIF($B$3:$B$60,DR7,$CQ$3:$CQ$60) -> 54 | DT7: =SUMIF($B$3:$B$60,DR7,$CR$3:$CR$60) -> 54 | DU7: =SUMIF($B$3:$B$60,DR7,$CS$3:$CS$60) -> 61 | DV7: =SUMIF($B$3:$B$60,DR7,$CT$3:$CT$60) -> 47 | DW7: =SUMIF($B$3:$B$60,DR7,$CU$3:$CU$60) -> 41 | DX7: =SUMIF($B$3:$B$60,DR7,$CV$3:$CV$60) -> 31 | DY7: =SUMIF($B$3:$B$60,DR7,$CW$3:$CW$60) -> 24 | DZ7: =SUMIF($B$3:$B$60,DR7,$CX$3:$CX$60) -> 18 | EA7: =SUMIF($B$3:$B$60,DR7,$CY$3:$CY$60) -> 11 | EB7: =SUMIF($B$3:$B$60,DR7,$CZ$3:$CZ$60) -> 12 | EC7: =SUMIF($B$3:$B$60,DR7,$DA$3:$DA$60) -> 35 | ED7: =SUMIF($B$3:$B$60,DR7,$DB$3:$DB$60) -> 2 | EE7: =SUMIF($B$3:$B$60,DR7,$DC$3:$DC$60) -> 0 | EF7: =SUMIF($B$3:$B$60,DR7,$DD$3:$DD$60) -> 3 | EH7: =DI7 -> Ferrari | EI7: =DS7/$DJ$7 -> 0.14835165 | EJ7: =DT7/$DJ$7 -> 0.14835165 | EK7: =DU7/$DJ$7 -> 0.16758242 | EL7: =DV7/$DJ$7 -> 0.12912088 | EM7: =DW7/$DJ$7 -> 0.11263736 | EN7: =DX7/$DJ$7 -> 0.085164835 | EO7: =DY7/$DJ$7 -> 0.065934066 | EP7: =DZ7/$DJ$7 -> 0.049450549 | ... EV7: =EF7/$DJ$7 -> 0.0082417582 | EX7: Cetilar Racing | EY7: =SUMIF($D$3:$D$60,EX7,$CN$3:$CN$60) -> 5 | EZ7: =SUMIF($D$3:$D$60,EX7,$CQ$3:$CQ$60) -> 1 | FA7: =EZ7/EY7 -> 0.2 | FB7: =SUMIF($D$3:$D$60,EX7,$CR$3:$CR$60)+SUMIF($D$3:$D$60,EX7,$CS$3:$CS$60)+EZ7 -> 2 | FC7: =COUNTIF($D$3:$D$60,EX7) -> 1
A8: 47 | B8: Ferrari | C8: Am | D8: Cetilar Racing | BS8: 3 | BT8: 1 | BU8: 10 | BV8: Ret | BW8: 9 | BX8: 4 | CL8: =AVERAGE(E8:CK8) -> 5.4 | CM8: =_xlfn.STDEV.S(E8:CK8) -> 3.9115214 | CN8: =COUNT(E8:CK8) -> 5 | CO8: =CQ8/CN8 -> 0.2 | CQ8: =COUNTIF(E8:CK8,$CQ$2) -> 1 | CR8: =COUNTIF(E8:CK8,$CR$2) -> 0 | CS8: =COUNTIF(E8:CK8,$CS$2) -> 1 | CT8: =COUNTIF(E8:CK8,$CT$2) -> 1 | CU8: =COUNTIF(E8:CK8,$CU$2) -> 0 | CV8: =COUNTIF(E8:CK8,$CV$2) -> 0 | CW8: =COUNTIF(E8:CK8,$CW$2) -> 0 | CX8: =COUNTIF(E8:CK8,$CX$2) -> 0 | CY8: =COUNTIF(E8:CK8,$CY$2) -> 1 | CZ8: =COUNTIF(E8:CK8,$CZ$2) -> 1 | DA8: =COUNTIF(E8:CK8,$DA$2) -> 1 | DB8: =COUNTIF(E8:CK8,$DB$2) -> 0 | DC8: =COUNTIF(E8:CK8,$DC$2) -> 0 | DD8: =COUNTIF(E8:CK8,$DD$2) -> 0 | DF8: =IF(C8=$DF$2,COUNTIF(E8:CK8,1),"" ) | DG8: =IF(C8=$DG$2,COUNTIF(E8:CK8,1),"" ) -> 1 | DI8: Ford | DJ8: =SUMIF($B$3:$B$60,DI8,$CN$3:$CN$60) -> 50 | DK8: =SUMIF($B$3:$B$60,DI8,$DF$3:$DF$60) -> 6 | DL8: =SUMIF($B$3:$B$60,DI8,$DG$3:$DG$60) -> 0 | DM8: =SUM(DK8:DL8) -> 6 | DN8: =SUM(DS8:DU8) -> 17 | DO8: =SUMIF($B$3:$B$60,DI8,$CL$3:$CL$60)/COUNTIF($B$3:$B$60,DI8) -> 4.86 | DP8: =SUMIF($B$3:$B$60,DI8,$CM$3:$CM$60)/COUNTIF($B$3:$B$60,DI8) -> 3.0944502 | DR8: =DI8 -> Ford | DS8: =SUMIF($B$3:$B$60,DR8,$CQ$3:$CQ$60) -> 6 | DT8: =SUMIF($B$3:$B$60,DR8,$CR$3:$CR$60) -> 5 | DU8: =SUMIF($B$3:$B$60,DR8,$CS$3:$CS$60) -> 6 | DV8: =SUMIF($B$3:$B$60,DR8,$CT$3:$CT$60) -> 10 | DW8: =SUMIF($B$3:$B$60,DR8,$CU$3:$CU$60) -> 6 | DX8: =SUMIF($B$3:$B$60,DR8,$CV$3:$CV$60) -> 4 | DY8: =SUMIF($B$3:$B$60,DR8,$CW$3:$CW$60) -> 6 | DZ8: =SUMIF($B$3:$B$60,DR8,$CX$3:$CX$60) -> 3 | EA8: =SUMIF($B$3:$B$60,DR8,$CY$3:$CY$60) -> 1 | EB8: =SUMIF($B$3:$B$60,DR8,$CZ$3:$CZ$60) -> 1 | EC8: =SUMIF($B$3:$B$60,DR8,$DA$3:$DA$60) -> 2 | ED8: =SUMIF($B$3:$B$60,DR8,$DB$3:$DB$60) -> 0 | EE8: =SUMIF($B$3:$B$60,DR8,$DC$3:$DC$60) -> 0 | EF8: =SUMIF($B$3:$B$60,DR8,$DD$3:$DD$60) -> 0 | EH8: =DI8 -> Ford | EI8: =DS8/$DJ$8 -> 0.12 | EJ8: =DT8/$DJ$8 -> 0.1 | EK8: =DU8/$DJ$8 -> 0.12 | EL8: =DV8/$DJ$8 -> 0.2 | EM8: =DW8/$DJ$8 -> 0.12 | EN8: =DX8/$DJ$8 -> 0.08 | EO8: =DY8/$DJ$8 -> 0.12 | EP8: =DZ8/$DJ$8 -> 0.06 | ... EV8: =EF8/$DJ$8 -> 0 | EX8: Clearwater Racing | EY8: =SUMIF($D$3:$D$60,EX8,$CN$3:$CN$60) -> 16 | EZ8: =SUMIF($D$3:$D$60,EX8,$CQ$3:$CQ$60) -> 2 | FA8: =EZ8/EY8 -> 0.125 | FB8: =SUMIF($D$3:$D$60,EX8,$CR$3:$CR$60)+SUMIF($D$3:$D$60,EX8,$CS$3:$CS$60)+EZ8 -> 9 | FC8: =COUNTIF($D$3:$D$60,EX8) -> 1
A9: 50 | B9: Corvette | C9: Am | D9: Larbre Compétition | E9: 2 | F9: 2 | G9: 1 | H9: 4 | I9: 2 | J9: 4 | K9: 1 | L9: 1 | M9: 2 | N9: 3 | O9: 3 | P9: 6 | Q9: 6 | R9: 8 | S9: 5 | T9: 4 | AC9: 7 | AD9: Ret | AE9: Ret | AF9: 5 | AG9: 7 | AH9: 4 | AI9: 5 | AJ9: 6 | AK9: 3 | AL9: 3 | AM9: 4 | AN9: 3 | AO9: Ret | AP9: 3 | AQ9: 6 | AR9: 5 | AS9: 5 | CL9: =AVERAGE(E9:CK9) -> 4 | CM9: =_xlfn.STDEV.S(E9:CK9) -> 1.8937283 | CN9: =COUNT(E9:CK9) -> 30 | CO9: =CQ9/CN9 -> 0.1 | CQ9: =COUNTIF(E9:CK9,$CQ$2) -> 3 | CR9: =COUNTIF(E9:CK9,$CR$2) -> 4 | CS9: =COUNTIF(E9:CK9,$CS$2) -> 6 | CT9: =COUNTIF(E9:CK9,$CT$2) -> 5 | CU9: =COUNTIF(E9:CK9,$CU$2) -> 5 | CV9: =COUNTIF(E9:CK9,$CV$2) -> 4 | CW9: =COUNTIF(E9:CK9,$CW$2) -> 2 | CX9: =COUNTIF(E9:CK9,$CX$2) -> 1 | CY9: =COUNTIF(E9:CK9,$CY$2) -> 0 | CZ9: =COUNTIF(E9:CK9,$CZ$2) -> 0 | DA9: =COUNTIF(E9:CK9,$DA$2) -> 3 | DB9: =COUNTIF(E9:CK9,$DB$2) -> 0 | DC9: =COUNTIF(E9:CK9,$DC$2) -> 0 | DD9: =COUNTIF(E9:CK9,$DD$2) -> 0 | DF9: =IF(C9=$DF$2,COUNTIF(E9:CK9,1),"" ) | DG9: =IF(C9=$DG$2,COUNTIF(E9:CK9,1),"" ) -> 3 | DI9: Porsche | DJ9: =SUMIF($B$3:$B$60,DI9,$CN$3:$CN$60) -> 373 | DK9: =SUMIF($B$3:$B$60,DI9,$DF$3:$DF$60) -> 20 | DL9: =SUMIF($B$3:$B$60,DI9,$DG$3:$DG$60) -> 24 | DM9: =SUM(DK9:DL9) -> 44 | DN9: =SUM(DS9:DU9) -> 154 | DO9: =SUMIF($B$3:$B$60,DI9,$CL$3:$CL$60)/COUNTIF($B$3:$B$60,DI9) -> 4.8171105 | DP9: =SUMIF($B$3:$B$60,DI9,$CM$3:$CM$60)/COUNTIF($B$3:$B$60,DI9) -> 2.4245966 | DR9: =DI9 -> Porsche | DS9: =SUMIF($B$3:$B$60,DR9,$CQ$3:$CQ$60) -> 44 | DT9: =SUMIF($B$3:$B$60,DR9,$CR$3:$CR$60) -> 56 | DU9: =SUMIF($B$3:$B$60,DR9,$CS$3:$CS$60) -> 54 | DV9: =SUMIF($B$3:$B$60,DR9,$CT$3:$CT$60) -> 64 | DW9: =SUMIF($B$3:$B$60,DR9,$CU$3:$CU$60) -> 47 | DX9: =SUMIF($B$3:$B$60,DR9,$CV$3:$CV$60) -> 42 | DY9: =SUMIF($B$3:$B$60,DR9,$CW$3:$CW$60) -> 16 | DZ9: =SUMIF($B$3:$B$60,DR9,$CX$3:$CX$60) -> 14 | EA9: =SUMIF($B$3:$B$60,DR9,$CY$3:$CY$60) -> 16 | EB9: =SUMIF($B$3:$B$60,DR9,$CZ$3:$CZ$60) -> 5 | EC9: =SUMIF($B$3:$B$60,DR9,$DA$3:$DA$60) -> 33 | ED9: =SUMIF($B$3:$B$60,DR9,$DB$3:$DB$60) -> 1 | EE9: =SUMIF($B$3:$B$60,DR9,$DC$3:$DC$60) -> 3 | EF9: =SUMIF($B$3:$B$60,DR9,$DD$3:$DD$60) -> 1 | EH9: =DI9 -> Porsche | EI9: =DS9/$DJ$8 -> 0.88 | EJ9: =DT9/$DJ$8 -> 1.12 | EK9: =DU9/$DJ$8 -> 1.08 | EL9: =DV9/$DJ$8 -> 1.28 | EM9: =DW9/$DJ$8 -> 0.94 | EN9: =DX9/$DJ$8 -> 0.84 | EO9: =DY9/$DJ$8 -> 0.32 | EP9: =DZ9/$DJ$8 -> 0.28 | ... EV9: =EF9/$DJ$8 -> 0.02 | EX9: Corvette Racing | EY9: =SUMIF($D$3:$D$60,EX9,$CN$3:$CN$60) -> 12 | EZ9: =SUMIF($D$3:$D$60,EX9,$CQ$3:$CQ$60) -> 4 | FA9: =EZ9/EY9 -> 0.33333333 | FB9: =SUMIF($D$3:$D$60,EX9,$CR$3:$CR$60)+SUMIF($D$3:$D$60,EX9,$CS$3:$CS$60)+EZ9 -> 8 | FC9: =COUNTIF($D$3:$D$60,EX9) -> 2
A10: 51 | B10: Ferrari | C10: Pro | D10: AF Corse | E10: 1 | F10: 2 | G10: 1 | H10: 1 | I10: 1 | J10: 1 | K10: 2 | L10: 3 | M10: 5 | N10: 1 | O10: 5 | P10: 1 | Q10: 2 | R10: 2 | S10: 4 | T10: 1 | U10: 4 | V10: 1 | W10: 1 | X10: 3 | Y10: 1 | Z10: Ret | AA10: 1 | AB10: 4 | AC10: 1 | AD10: 4 | AE10: 2 | AF10: 7 | AG10: 7 | AH10: 1 | AI10: 2 | AJ10: 2 | AK10: 2 | AL10: Ret | AM10: Ret | AN10: 1 | AO10: 2 | AP10: 2 | AQ10: 3 | AR10: 3 | AS10: 2 | AT10: 2 | AU10: 2 | AV10: 7 | AW10: 1 | AX10: 6 | AY10: 1 | AZ10: 1 | BA10: 3 | BB10: 2 | BC10: 15 | BD10: 4 | BE10: 1 | BF10: 4 | BG10: 5 | BH10: 4 | BI10: 2 | BJ10: 1 | BK10: 4 | BL10: 4 | BM10: 1 | BN10: 4 | BO10: 3 | BP10: 4 | BQ10: 2 | BR10: 12 | BS10: 2 | BT10: 1 | BU10: 2 | BV10: 1 | BW10: 3 | BX10: 1 | BY10: 4 | BZ10: 1 | CA10: 2 | CB10: 3 | CC10: 1 | CD10: 5 | CL10: =AVERAGE(E10:CK10) -> 2.8 | CM10: =_xlfn.STDEV.S(E10:CK10) -> 2.4105623 | CN10: =COUNT(E10:CK10) -> 75 | CO10: =CQ10/CN10 -> 0.34666667 | CQ10: =COUNTIF(E10:CK10,$CQ$2) -> 26 | CR10: =COUNTIF(E10:CK10,$CR$2) -> 19 | CS10: =COUNTIF(E10:CK10,$CS$2) -> 8 | CT10: =COUNTIF(E10:CK10,$CT$2) -> 12 | CU10: =COUNTIF(E10:CK10,$CU$2) -> 4 | CV10: =COUNTIF(E10:CK10,$CV$2) -> 1 | CW10: =COUNTIF(E10:CK10,$CW$2) -> 3 | CX10: =COUNTIF(E10:CK10,$CX$2) -> 0 | CY10: =COUNTIF(E10:CK10,$CY$2) -> 0 | CZ10: =COUNTIF(E10:CK10,$CZ$2) -> 0 | DA10: =COUNTIF(E10:CK10,$DA$2) -> 3 | DB10: =COUNTIF(E10:CK10,$DB$2) -> 0 | DC10: =COUNTIF(E10:CK10,$DC$2) -> 0 | DD10: =COUNTIF(E10:CK10,$DD$2) -> 0 | DF10: =IF(C10=$DF$2,COUNTIF(E10:CK10,1),"" ) -> 26 | DG10: =IF(C10=$DG$2,COUNTIF(E10:CK10,1),"" ) | EX10: D'station Racing | EY10: =SUMIF($D$3:$D$60,EX10,$CN$3:$CN$60) -> 14 | EZ10: =SUMIF($D$3:$D$60,EX10,$CQ$3:$CQ$60) -> 0 | FA10: =EZ10/EY10 -> 0 | FB10: =SUMIF($D$3:$D$60,EX10,$CR$3:$CR$60)+SUMIF($D$3:$D$60,EX10,$CS$3:$CS$60)+EZ10 -> 3 | FC10: =COUNTIF($D$3:$D$60,EX10) -> 1
A11: 52 | B11: Ferrari | C11: Pro | D11: Ram Racing | U11: 6 | W11: Ret | CL11: =AVERAGE(E11:CK11) -> 6 | CN11: =COUNT(E11:CK11) -> 1 | CO11: =CQ11/CN11 -> 0 | CQ11: =COUNTIF(E11:CK11,$CQ$2) -> 0 | CR11: =COUNTIF(E11:CK11,$CR$2) -> 0 | CS11: =COUNTIF(E11:CK11,$CS$2) -> 0 | CT11: =COUNTIF(E11:CK11,$CT$2) -> 0 | CU11: =COUNTIF(E11:CK11,$CU$2) -> 0 | CV11: =COUNTIF(E11:CK11,$CV$2) -> 1 | CW11: =COUNTIF(E11:CK11,$CW$2) -> 0 | CX11: =COUNTIF(E11:CK11,$CX$2) -> 0 | CY11: =COUNTIF(E11:CK11,$CY$2) -> 0 | CZ11: =COUNTIF(E11:CK11,$CZ$2) -> 0 | DA11: =COUNTIF(E11:CK11,$DA$2) -> 1 | DB11: =COUNTIF(E11:CK11,$DB$2) -> 0 | DC11: =COUNTIF(E11:CK11,$DC$2) -> 0 | DD11: =COUNTIF(E11:CK11,$DD$2) -> 0 | DF11: =IF(C11=$DF$2,COUNTIF(E11:CK11,1),"" ) -> 0 | DG11: =IF(C11=$DG$2,COUNTIF(E11:CK11,1),"" ) | EX11: Ford Chip Ganassi Racing | EY11: =SUMIF($D$3:$D$60,EX11,$CN$3:$CN$60) -> 50 | EZ11: =SUMIF($D$3:$D$60,EX11,$CQ$3:$CQ$60) -> 6 | FA11: =EZ11/EY11 -> 0.12 | FB11: =SUMIF($D$3:$D$60,EX11,$CR$3:$CR$60)+SUMIF($D$3:$D$60,EX11,$CS$3:$CS$60)+EZ11 -> 17 | FC11: =COUNTIF($D$3:$D$60,EX11) -> 2
A12: 52 | B12: Ferrari | C12: Pro | D12: AF Corse | BS12: 3 | BT12: 2 | BU12: 4 | BV12: 10 | BW12: 4 | BX12: 3 | BY12: 6 | BZ12: 3 | CA12: 3 | CB12: 2 | CC12: 2 | CD12: 1 | CL12: =AVERAGE(E12:CK12) -> 3.5833333 | CM12: =_xlfn.STDEV.S(E12:CK12) -> 2.3915888 | CN12: =COUNT(E12:CK12) -> 12 | CO12: =CQ12/CN12 -> 0.083333333 | CQ12: =COUNTIF(E12:CK12,$CQ$2) -> 1 | CR12: =COUNTIF(E12:CK12,$CR$2) -> 3 | CS12: =COUNTIF(E12:CK12,$CS$2) -> 4 | CT12: =COUNTIF(E12:CK12,$CT$2) -> 2 | CU12: =COUNTIF(E12:CK12,$CU$2) -> 0 | CV12: =COUNTIF(E12:CK12,$CV$2) -> 1 | CW12: =COUNTIF(E12:CK12,$CW$2) -> 0 | CX12: =COUNTIF(E12:CK12,$CX$2) -> 0 | CY12: =COUNTIF(E12:CK12,$CY$2) -> 0 | CZ12: =COUNTIF(E12:CK12,$CZ$2) -> 1 | DA12: =COUNTIF(E12:CK12,$DA$2) -> 0 | DB12: =COUNTIF(E12:CK12,$DB$2) -> 0 | DC12: =COUNTIF(E12:CK12,$DC$2) -> 0 | DD12: =COUNTIF(E12:CK12,$DD$2) -> 0 | DF12: =IF(C12=$DF$2,COUNTIF(E12:CK12,1),"" ) -> 1 | DG12: =IF(C12=$DG$2,COUNTIF(E12:CK12,1),"" ) | EX12: GR Racing | EY12: =SUMIF($D$3:$D$60,EX12,$CN$3:$CN$60) -> 48 | EZ12: =SUMIF($D$3:$D$60,EX12,$CQ$3:$CQ$60) -> 0 | FA12: =EZ12/EY12 -> 0 | FB12: =SUMIF($D$3:$D$60,EX12,$CR$3:$CR$60)+SUMIF($D$3:$D$60,EX12,$CS$3:$CS$60)+EZ12 -> 7 | FC12: =COUNTIF($D$3:$D$60,EX12) -> 1
A13: 53 | B13: Ferrari | C13: Am | D13: Ram Racing | U13: 5 | W13: 6 | CL13: =AVERAGE(E13:CK13) -> 5.5 | CM13: =_xlfn.STDEV.S(E13:CK13) -> 0.70710678 | CN13: =COUNT(E13:CK13) -> 2 | CO13: =CQ13/CN13 -> 0 | CQ13: =COUNTIF(E13:CK13,$CQ$2) -> 0 | CR13: =COUNTIF(E13:CK13,$CR$2) -> 0 | CS13: =COUNTIF(E13:CK13,$CS$2) -> 0 | CT13: =COUNTIF(E13:CK13,$CT$2) -> 0 | CU13: =COUNTIF(E13:CK13,$CU$2) -> 1 | CV13: =COUNTIF(E13:CK13,$CV$2) -> 1 | CW13: =COUNTIF(E13:CK13,$CW$2) -> 0 | CX13: =COUNTIF(E13:CK13,$CX$2) -> 0 | CY13: =COUNTIF(E13:CK13,$CY$2) -> 0 | CZ13: =COUNTIF(E13:CK13,$CZ$2) -> 0 | DA13: =COUNTIF(E13:CK13,$DA$2) -> 0 | DB13: =COUNTIF(E13:CK13,$DB$2) -> 0 | DC13: =COUNTIF(E13:CK13,$DC$2) -> 0 | DD13: =COUNTIF(E13:CK13,$DD$2) -> 0 | DF13: =IF(C13=$DF$2,COUNTIF(E13:CK13,1),"" ) | DG13: =IF(C13=$DG$2,COUNTIF(E13:CK13,1),"" ) -> 0 | EX13: IMSA Performance Matmut | EY13: =SUMIF($D$3:$D$60,EX13,$CN$3:$CN$60) -> 8 | EZ13: =SUMIF($D$3:$D$60,EX13,$CQ$3:$CQ$60) -> 1 | FA13: =EZ13/EY13 -> 0.125 | FB13: =SUMIF($D$3:$D$60,EX13,$CR$3:$CR$60)+SUMIF($D$3:$D$60,EX13,$CS$3:$CS$60)+EZ13 -> 3 | FC13: =COUNTIF($D$3:$D$60,EX13) -> 1
A14: 54 | B14: Ferrari | C14: Am | D14: Spirit of Race | AT14: Ret | AU14: 4 | AV14: 5 | AW14: 2 | AX14: 4 | AY14: 3 | AZ14: 1 | BA14: Ret | BB14: 3 | CL14: =AVERAGE(E14:CK14) -> 3.1428571 | CM14: =_xlfn.STDEV.S(E14:CK14) -> 1.3451854 | CN14: =COUNT(E14:CK14) -> 7 | CO14: =CQ14/CN14 -> 0.14285714 | CQ14: =COUNTIF(E14:CK14,$CQ$2) -> 1 | CR14: =COUNTIF(E14:CK14,$CR$2) -> 1 | CS14: =COUNTIF(E14:CK14,$CS$2) -> 2 | CT14: =COUNTIF(E14:CK14,$CT$2) -> 2 | CU14: =COUNTIF(E14:CK14,$CU$2) -> 1 | CV14: =COUNTIF(E14:CK14,$CV$2) -> 0 | CW14: =COUNTIF(E14:CK14,$CW$2) -> 0 | CX14: =COUNTIF(E14:CK14,$CX$2) -> 0 | CY14: =COUNTIF(E14:CK14,$CY$2) -> 0 | CZ14: =COUNTIF(E14:CK14,$CZ$2) -> 0 | DA14: =COUNTIF(E14:CK14,$DA$2) -> 2 | DB14: =COUNTIF(E14:CK14,$DB$2) -> 0 | DC14: =COUNTIF(E14:CK14,$DC$2) -> 0 | DD14: =COUNTIF(E14:CK14,$DD$2) -> 0 | DF14: =IF(C14=$DF$2,COUNTIF(E14:CK14,1),"" ) | DG14: =IF(C14=$DG$2,COUNTIF(E14:CK14,1),"" ) -> 1 | EX14: Iron Dames | EY14: =SUMIF($D$3:$D$60,EX14,$CN$3:$CN$60) -> 19 | EZ14: =SUMIF($D$3:$D$60,EX14,$CQ$3:$CQ$60) -> 1 | FA14: =EZ14/EY14 -> 0.052631579 | FB14: =SUMIF($D$3:$D$60,EX14,$CR$3:$CR$60)+SUMIF($D$3:$D$60,EX14,$CS$3:$CS$60)+EZ14 -> 5 | FC14: =COUNTIF($D$3:$D$60,EX14) -> 2
A15: 54 | B15: Ferrari | C15: Am | D15: Spirit of Race | BC15: 8 | BD15: 2 | BE15: 9 | BF15: 5 | BG15: 4 | BH15: 2 | BI15: 4 | BJ15: 7 | CL15: =AVERAGE(E15:CK15) -> 5.125 | CM15: =_xlfn.STDEV.S(E15:CK15) -> 2.6423745 | CN15: =COUNT(E15:CK15) -> 8 | CO15: =CQ15/CN15 -> 0 | CQ15: =COUNTIF(E15:CK15,$CQ$2) -> 0 | CR15: =COUNTIF(E15:CK15,$CR$2) -> 2 | CS15: =COUNTIF(E15:CK15,$CS$2) -> 0 | CT15: =COUNTIF(E15:CK15,$CT$2) -> 2 | CU15: =COUNTIF(E15:CK15,$CU$2) -> 1 | CV15: =COUNTIF(E15:CK15,$CV$2) -> 0 | CW15: =COUNTIF(E15:CK15,$CW$2) -> 1 | CX15: =COUNTIF(E15:CK15,$CX$2) -> 1 | CY15: =COUNTIF(E15:CK15,$CY$2) -> 1 | CZ15: =COUNTIF(E15:CK15,$CZ$2) -> 0 | DA15: =COUNTIF(E15:CK15,$DA$2) -> 0 | DB15: =COUNTIF(E15:CK15,$DB$2) -> 0 | DC15: =COUNTIF(E15:CK15,$DC$2) -> 0 | DD15: =COUNTIF(E15:CK15,$DD$2) -> 0 | DF15: =IF(C15=$DF$2,COUNTIF(E15:CK15,1),"" ) | DG15: =IF(C15=$DG$2,COUNTIF(E15:CK15,1),"" ) -> 0 | EX15: Iron Lynx | EY15: =SUMIF($D$3:$D$60,EX15,$CN$3:$CN$60) -> 15 | EZ15: =SUMIF($D$3:$D$60,EX15,$CQ$3:$CQ$60) -> 0 | FA15: =EZ15/EY15 -> 0 | FB15: =SUMIF($D$3:$D$60,EX15,$CR$3:$CR$60)+SUMIF($D$3:$D$60,EX15,$CS$3:$CS$60)+EZ15 -> 2 | FC15: =COUNTIF($D$3:$D$60,EX15) -> 2
A16: 54 | B16: Ferrari | C16: Am | D16: AF Corse | BK16: 9 | BL16: 6 | BM16: 8 | BN16: 5 | BO16: 7 | BP16: 7 | BQ16: 7 | BR16: 4 | BS16: 4 | BT16: 3 | BU16: 7 | BV16: 7 | BW16: 7 | BX16: 6 | BY16: 9 | BZ16: 4 | CA16: 5 | CB16: 9 | CC16: 4 | CD16: 7 | CE16: 5 | CF16: 4 | CG16: NC | CH16: 5 | CI16: 10 | CJ16: 1 | CK16: 4 | CL16: =AVERAGE(E16:CK16) -> 5.9230769 | CM16: =_xlfn.STDEV.S(E16:CK16) -> 2.152637 | CN16: =COUNT(E16:CK16) -> 26 | CO16: =CQ16/CN16 -> 0.038461538 | CQ16: =COUNTIF(E16:CK16,$CQ$2) -> 1 | CR16: =COUNTIF(E16:CK16,$CR$2) -> 0 | CS16: =COUNTIF(E16:CK16,$CS$2) -> 1 | CT16: =COUNTIF(E16:CK16,$CT$2) -> 6 | CU16: =COUNTIF(E16:CK16,$CU$2) -> 4 | CV16: =COUNTIF(E16:CK16,$CV$2) -> 2 | CW16: =COUNTIF(E16:CK16,$CW$2) -> 7 | CX16: =COUNTIF(E16:CK16,$CX$2) -> 1 | CY16: =COUNTIF(E16:CK16,$CY$2) -> 3 | CZ16: =COUNTIF(E16:CK16,$CZ$2) -> 1 | DA16: =COUNTIF(E16:CK16,$DA$2) -> 0 | DB16: =COUNTIF(E16:CK16,$DB$2) -> 1 | DC16: =COUNTIF(E16:CK16,$DC$2) -> 0 | DD16: =COUNTIF(E16:CK16,$DD$2) -> 0 | DF16: =IF(C16=$DF$2,COUNTIF(E16:CK16,1),"" ) | DG16: =IF(C16=$DG$2,COUNTIF(E16:CK16,1),"" ) -> 1 | EX16: JWA-Avila | EY16: =SUMIF($D$3:$D$60,EX16,$CN$3:$CN$60) -> 8 | EZ16: =SUMIF($D$3:$D$60,EX16,$CQ$3:$CQ$60) -> 0 | FA16: =EZ16/EY16 -> 0 | FB16: =SUMIF($D$3:$D$60,EX16,$CR$3:$CR$60)+SUMIF($D$3:$D$60,EX16,$CS$3:$CS$60)+EZ16 -> 0 | FC16: =COUNTIF($D$3:$D$60,EX16) -> 1
A17: 55 | B17: Porsche | C17: Am | D17: JWA-Avila | E17: 6 | F17: 4 | G17: 5 | H17: 5 | I17: 4 | J17: 6 | K17: 5 | L17: 6 | CL17: =AVERAGE(E17:CK17) -> 5.125 | CM17: =_xlfn.STDEV.S(E17:CK17) -> 0.83452296 | CN17: =COUNT(E17:CK17) -> 8 | CO17: =CQ17/CN17 -> 0 | CQ17: =COUNTIF(E17:CK17,$CQ$2) -> 0 | CR17: =COUNTIF(E17:CK17,$CR$2) -> 0 | CS17: =COUNTIF(E17:CK17,$CS$2) -> 0 | CT17: =COUNTIF(E17:CK17,$CT$2) -> 2 | CU17: =COUNTIF(E17:CK17,$CU$2) -> 3 | CV17: =COUNTIF(E17:CK17,$CV$2) -> 3 | CW17: =COUNTIF(E17:CK17,$CW$2) -> 0 | CX17: =COUNTIF(E17:CK17,$CX$2) -> 0 | CY17: =COUNTIF(E17:CK17,$CY$2) -> 0 | CZ17: =COUNTIF(E17:CK17,$CZ$2) -> 0 | DA17: =COUNTIF(E17:CK17,$DA$2) -> 0 | DB17: =COUNTIF(E17:CK17,$DB$2) -> 0 | DC17: =COUNTIF(E17:CK17,$DC$2) -> 0 | DD17: =COUNTIF(E17:CK17,$DD$2) -> 0 | DF17: =IF(C17=$DF$2,COUNTIF(E17:CK17,1),"" ) | DG17: =IF(C17=$DG$2,COUNTIF(E17:CK17,1),"" ) -> 0 | EX17: KCMG | EY17: =SUMIF($D$3:$D$60,EX17,$CN$3:$CN$60) -> 8 | EZ17: =SUMIF($D$3:$D$60,EX17,$CQ$3:$CQ$60) -> 0 | FA17: =EZ17/EY17 -> 0 | FB17: =SUMIF($D$3:$D$60,EX17,$CR$3:$CR$60)+SUMIF($D$3:$D$60,EX17,$CS$3:$CS$60)+EZ17 -> 5 | FC17: =COUNTIF($D$3:$D$60,EX17) -> 1
A18: 56 | B18: Porsche | C18: Am | D18: Team Project 1 | BC18: 9 | BD18: 3 | BE18: 3 | BF18: 1 | BG18: 2 | BH18: 3 | BI18: 5 | BJ18: 1 | BK18: 6 | BL18: 7 | BM18: 5 | BN18: 9 | BO18: 3 | BP18: 4 | BQ18: 4 | BR18: 1 | BS18: DNS | BT18: 2 | BU18: 4 | BV18: Ret | BW18: 3 | BX18: 3 | BY18: 3 | BZ18: Ret | CA18: Ret | CB18: 10 | CC18: 8 | CD18: 2 | CE18: 12 | CF18: 6 | CG18: WD | CH18: 7 | CI18: 8 | CJ18: 5 | CK18: 10 | CL18: =AVERAGE(E18:CK18) -> 4.9666667 | CM18: =_xlfn.STDEV.S(E18:CK18) -> 3.022711 | CN18: =COUNT(E18:CK18) -> 30 | CO18: =CQ18/CN18 -> 0.1 | CQ18: =COUNTIF(E18:CK18,$CQ$2) -> 3 | CR18: =COUNTIF(E18:CK18,$CR$2) -> 3 | CS18: =COUNTIF(E18:CK18,$CS$2) -> 7 | CT18: =COUNTIF(E18:CK18,$CT$2) -> 3 | CU18: =COUNTIF(E18:CK18,$CU$2) -> 3 | CV18: =COUNTIF(E18:CK18,$CV$2) -> 2 | CW18: =COUNTIF(E18:CK18,$CW$2) -> 2 | CX18: =COUNTIF(E18:CK18,$CX$2) -> 2 | CY18: =COUNTIF(E18:CK18,$CY$2) -> 2 | CZ18: =COUNTIF(E18:CK18,$CZ$2) -> 2 | DA18: =COUNTIF(E18:CK18,$DA$2) -> 3 | DB18: =COUNTIF(E18:CK18,$DB$2) -> 0 | DC18: =COUNTIF(E18:CK18,$DC$2) -> 1 | DD18: =COUNTIF(E18:CK18,$DD$2) -> 1 | DF18: =IF(C18=$DF$2,COUNTIF(E18:CK18,1),"" ) | DG18: =IF(C18=$DG$2,COUNTIF(E18:CK18,1),"" ) -> 3 | EX18: Kessel Racing | EY18: =SUMIF($D$3:$D$60,EX18,$CN$3:$CN$60) -> 5 | EZ18: =SUMIF($D$3:$D$60,EX18,$CQ$3:$CQ$60) -> 0 | FA18: =EZ18/EY18 -> 0 | FB18: =SUMIF($D$3:$D$60,EX18,$CR$3:$CR$60)+SUMIF($D$3:$D$60,EX18,$CS$3:$CS$60)+EZ18 -> 2 | FC18: =COUNTIF($D$3:$D$60,EX18) -> 1
A19: 57 | B19: Ferrari | C19: Am | D19: Krohn Racing | E19: 5 | F19: 5 | G19: 2 | H19: 3 | I19: Ret | J19: 3 | K19: 2 | L19: 3 | M19: 6 | N19: 7 | O19: Ret | P19: 5 | Q19: 8 | R19: 6 | S19: Ret | T19: Ret | CL19: =AVERAGE(E19:CK19) -> 4.5833333 | CM19: =_xlfn.STDEV.S(E19:CK19) -> 1.9752253 | CN19: =COUNT(E19:CK19) -> 12 | CO19: =CQ19/CN19 -> 0 | CQ19: =COUNTIF(E19:CK19,$CQ$2) -> 0 | CR19: =COUNTIF(E19:CK19,$CR$2) -> 2 | CS19: =COUNTIF(E19:CK19,$CS$2) -> 3 | CT19: =COUNTIF(E19:CK19,$CT$2) -> 0 | CU19: =COUNTIF(E19:CK19,$CU$2) -> 3 | CV19: =COUNTIF(E19:CK19,$CV$2) -> 2 | CW19: =COUNTIF(E19:CK19,$CW$2) -> 1 | CX19: =COUNTIF(E19:CK19,$CX$2) -> 1 | CY19: =COUNTIF(E19:CK19,$CY$2) -> 0 | CZ19: =COUNTIF(E19:CK19,$CZ$2) -> 0 | DA19: =COUNTIF(E19:CK19,$DA$2) -> 4 | DB19: =COUNTIF(E19:CK19,$DB$2) -> 0 | DC19: =COUNTIF(E19:CK19,$DC$2) -> 0 | DD19: =COUNTIF(E19:CK19,$DD$2) -> 0 | DF19: =IF(C19=$DF$2,COUNTIF(E19:CK19,1),"" ) | DG19: =IF(C19=$DG$2,COUNTIF(E19:CK19,1),"" ) -> 0 | EX19: Krohn Racing | EY19: =SUMIF($D$3:$D$60,EX19,$CN$3:$CN$60) -> 12 | EZ19: =SUMIF($D$3:$D$60,EX19,$CQ$3:$CQ$60) -> 0 | FA19: =EZ19/EY19 -> 0 | FB19: =SUMIF($D$3:$D$60,EX19,$CR$3:$CR$60)+SUMIF($D$3:$D$60,EX19,$CS$3:$CS$60)+EZ19 -> 5 | FC19: =COUNTIF($D$3:$D$60,EX19) -> 1
A20: 57 | B20: Porsche | C20: Am | D20: Team Project 1 | BK20: 10 | BL20: 3 | BM20: 2 | BN20: 1 | BO20: 11 | BP20: 6 | BQ20: 8 | BR20: 6 | CL20: =AVERAGE(E20:CK20) -> 5.875 | CM20: =_xlfn.STDEV.S(E20:CK20) -> 3.6815175 | CN20: =COUNT(E20:CK20) -> 8 | CO20: =CQ20/CN20 -> 0.125 | CQ20: =COUNTIF(E20:CK20,$CQ$2) -> 1 | CR20: =COUNTIF(E20:CK20,$CR$2) -> 1 | CS20: =COUNTIF(E20:CK20,$CS$2) -> 1 | CT20: =COUNTIF(E20:CK20,$CT$2) -> 0 | CU20: =COUNTIF(E20:CK20,$CU$2) -> 0 | CV20: =COUNTIF(E20:CK20,$CV$2) -> 2 | CW20: =COUNTIF(E20:CK20,$CW$2) -> 0 | CX20: =COUNTIF(E20:CK20,$CX$2) -> 1 | CY20: =COUNTIF(E20:CK20,$CY$2) -> 0 | CZ20: =COUNTIF(E20:CK20,$CZ$2) -> 1 | DA20: =COUNTIF(E20:CK20,$DA$2) -> 0 | DB20: =COUNTIF(E20:CK20,$DB$2) -> 0 | DC20: =COUNTIF(E20:CK20,$DC$2) -> 0 | DD20: =COUNTIF(E20:CK20,$DD$2) -> 0 | DF20: =IF(C20=$DF$2,COUNTIF(E20:CK20,1),"" ) | DG20: =IF(C20=$DG$2,COUNTIF(E20:CK20,1),"" ) -> 1 | EX20: Larbre Compétition | EY20: =SUMIF($D$3:$D$60,EX20,$CN$3:$CN$60) -> 30 | EZ20: =SUMIF($D$3:$D$60,EX20,$CQ$3:$CQ$60) -> 3 | FA20: =EZ20/EY20 -> 0.1 | FB20: =SUMIF($D$3:$D$60,EX20,$CR$3:$CR$60)+SUMIF($D$3:$D$60,EX20,$CS$3:$CS$60)+EZ20 -> 13 | FC20: =COUNTIF($D$3:$D$60,EX20) -> 1
A21: 57 | B21: Ferrari | C21: Am | D21: Kessel Racing | CE21: 3 | CF21: 10 | CG21: 8 | CH21: Ret | CI21: Ret | CJ21: 3 | CK21: 5 | CL21: =AVERAGE(E21:CK21) -> 5.8 | CM21: =_xlfn.STDEV.S(E21:CK21) -> 3.1144823 | CN21: =COUNT(E21:CK21) -> 5 | CO21: =CQ21/CN21 -> 0 | CQ21: =COUNTIF(E21:CK21,$CQ$2) -> 0 | CR21: =COUNTIF(E21:CK21,$CR$2) -> 0 | CS21: =COUNTIF(E21:CK21,$CS$2) -> 2 | CT21: =COUNTIF(E21:CK21,$CT$2) -> 0 | CU21: =COUNTIF(E21:CK21,$CU$2) -> 1 | CV21: =COUNTIF(E21:CK21,$CV$2) -> 0 | CW21: =COUNTIF(E21:CK21,$CW$2) -> 0 | CX21: =COUNTIF(E21:CK21,$CX$2) -> 1 | CY21: =COUNTIF(E21:CK21,$CY$2) -> 0 | CZ21: =COUNTIF(E21:CK21,$CZ$2) -> 1 | DA21: =COUNTIF(E21:CK21,$DA$2) -> 2 | DB21: =COUNTIF(E21:CK21,$DB$2) -> 0 | DC21: =COUNTIF(E21:CK21,$DC$2) -> 0 | DD21: =COUNTIF(E21:CK21,$DD$2) -> 0 | DF21: =IF(C21=$DF$2,COUNTIF(E21:CK21,1),"" ) | DG21: =IF(C21=$DG$2,COUNTIF(E21:CK21,1),"" ) -> 0 | EX21: Luxury Racing | EY21: =SUMIF($D$3:$D$60,EX21,$CN$3:$CN$60) -> 3 | EZ21: =SUMIF($D$3:$D$60,EX21,$CQ$3:$CQ$60) -> 0 | FA21: =EZ21/EY21 -> 0 | FB21: =SUMIF($D$3:$D$60,EX21,$CR$3:$CR$60)+SUMIF($D$3:$D$60,EX21,$CS$3:$CS$60)+EZ21 -> 3 | FC21: =COUNTIF($D$3:$D$60,EX21) -> 2
A22: 58 | B22: Ferrari | C22: Am | D22: Luxury Racing | E22: DNS | F22: 3 | G22: Ret | CL22: =AVERAGE(E22:CK22) -> 3 | CN22: =COUNT(E22:CK22) -> 1 | CO22: =CQ22/CN22 -> 0 | CQ22: =COUNTIF(E22:CK22,$CQ$2) -> 0 | CR22: =COUNTIF(E22:CK22,$CR$2) -> 0 | CS22: =COUNTIF(E22:CK22,$CS$2) -> 1 | CT22: =COUNTIF(E22:CK22,$CT$2) -> 0 | CU22: =COUNTIF(E22:CK22,$CU$2) -> 0 | CV22: =COUNTIF(E22:CK22,$CV$2) -> 0 | CW22: =COUNTIF(E22:CK22,$CW$2) -> 0 | CX22: =COUNTIF(E22:CK22,$CX$2) -> 0 | CY22: =COUNTIF(E22:CK22,$CY$2) -> 0 | CZ22: =COUNTIF(E22:CK22,$CZ$2) -> 0 | DA22: =COUNTIF(E22:CK22,$DA$2) -> 1 | DB22: =COUNTIF(E22:CK22,$DB$2) -> 0 | DC22: =COUNTIF(E22:CK22,$DC$2) -> 0 | DD22: =COUNTIF(E22:CK22,$DD$2) -> 1 | DF22: =IF(C22=$DF$2,COUNTIF(E22:CK22,1),"" ) | DG22: =IF(C22=$DG$2,COUNTIF(E22:CK22,1),"" ) -> 0 | EX22: MR Racing | EY22: =SUMIF($D$3:$D$60,EX22,$CN$3:$CN$60) -> 12 | EZ22: =SUMIF($D$3:$D$60,EX22,$CQ$3:$CQ$60) -> 0 | FA22: =EZ22/EY22 -> 0 | FB22: =SUMIF($D$3:$D$60,EX22,$CR$3:$CR$60)+SUMIF($D$3:$D$60,EX22,$CS$3:$CS$60)+EZ22 -> 1 | FC22: =COUNTIF($D$3:$D$60,EX22) -> 1
A23: 59 | B23: Ferrari | C23: Pro | D23: Luxury Racing | E23: Ret | F23: 3 | G23: 2 | CL23: =AVERAGE(E23:CK23) -> 2.5 | CM23: =_xlfn.STDEV.S(E23:CK23) -> 0.70710678 | CN23: =COUNT(E23:CK23) -> 2 | CO23: =CQ23/CN23 -> 0 | CQ23: =COUNTIF(E23:CK23,$CQ$2) -> 0 | CR23: =COUNTIF(E23:CK23,$CR$2) -> 1 | CS23: =COUNTIF(E23:CK23,$CS$2) -> 1 | CT23: =COUNTIF(E23:CK23,$CT$2) -> 0 | CU23: =COUNTIF(E23:CK23,$CU$2) -> 0 | CV23: =COUNTIF(E23:CK23,$CV$2) -> 0 | CW23: =COUNTIF(E23:CK23,$CW$2) -> 0 | CX23: =COUNTIF(E23:CK23,$CX$2) -> 0 | CY23: =COUNTIF(E23:CK23,$CY$2) -> 0 | CZ23: =COUNTIF(E23:CK23,$CZ$2) -> 0 | DA23: =COUNTIF(E23:CK23,$DA$2) -> 1 | DB23: =COUNTIF(E23:CK23,$DB$2) -> 0 | DC23: =COUNTIF(E23:CK23,$DC$2) -> 0 | DD23: =COUNTIF(E23:CK23,$DD$2) -> 0 | DF23: =IF(C23=$DF$2,COUNTIF(E23:CK23,1),"" ) -> 0 | DG23: =IF(C23=$DG$2,COUNTIF(E23:CK23,1),"" ) | EX23: ORT by TF | EY23: =SUMIF($D$3:$D$60,EX23,$CN$3:$CN$60) -> 6 | EZ23: =SUMIF($D$3:$D$60,EX23,$CQ$3:$CQ$60) -> 0 | FA23: =EZ23/EY23 -> 0 | FB23: =SUMIF($D$3:$D$60,EX23,$CR$3:$CR$60)+SUMIF($D$3:$D$60,EX23,$CS$3:$CS$60)+EZ23 -> 2 | FC23: =COUNTIF($D$3:$D$60,EX23) -> 1
A24: 60 | B24: Ferrari | C24: Am | D24: Iron Lynx | BS24: 9 | BT24: 5 | BU24: Ret | BV24: 3 | BW24: 11 | BX24: 5 | BY24: 8 | BZ24: 8 | CA24: Ret | CB24: 4 | CC24: 11 | CD24: 9 | CL24: =AVERAGE(E24:CK24) -> 7.3 | CM24: =_xlfn.STDEV.S(E24:CK24) -> 2.8693786 | CN24: =COUNT(E24:CK24) -> 10 | CO24: =CQ24/CN24 -> 0 | CQ24: =COUNTIF(E24:CK24,$CQ$2) -> 0 | CR24: =COUNTIF(E24:CK24,$CR$2) -> 0 | CS24: =COUNTIF(E24:CK24,$CS$2) -> 1 | CT24: =COUNTIF(E24:CK24,$CT$2) -> 1 | CU24: =COUNTIF(E24:CK24,$CU$2) -> 2 | CV24: =COUNTIF(E24:CK24,$CV$2) -> 0 | CW24: =COUNTIF(E24:CK24,$CW$2) -> 0 | CX24: =COUNTIF(E24:CK24,$CX$2) -> 2 | CY24: =COUNTIF(E24:CK24,$CY$2) -> 2 | CZ24: =COUNTIF(E24:CK24,$CZ$2) -> 0 | DA24: =COUNTIF(E24:CK24,$DA$2) -> 2 | DB24: =COUNTIF(E24:CK24,$DB$2) -> 0 | DC24: =COUNTIF(E24:CK24,$DC$2) -> 0 | DD24: =COUNTIF(E24:CK24,$DD$2) -> 0 | DF24: =IF(C24=$DF$2,COUNTIF(E24:CK24,1),"" ) | DG24: =IF(C24=$DG$2,COUNTIF(E24:CK24,1),"" ) -> 0 | EX24: Porsche GT Team | EY24: =SUMIF($D$3:$D$60,EX24,$CN$3:$CN$60) -> 115 | EZ24: =SUMIF($D$3:$D$60,EX24,$CQ$3:$CQ$60) -> 18 | FA24: =EZ24/EY24 -> 0.15652174 | FB24: =SUMIF($D$3:$D$60,EX24,$CR$3:$CR$60)+SUMIF($D$3:$D$60,EX24,$CS$3:$CS$60)+EZ24 -> 68 | FC24: =COUNTIF($D$3:$D$60,EX24) -> 2
A25: 60 | B25: Porsche | C25: Am | D25: Iron Lynx | CE25: 6 | CF25: 12 | CG25: 11 | CH25: Ret | CI25: 2 | CJ25: 11 | CK25: Ret | CL25: =AVERAGE(E25:CK25) -> 8.4 | CM25: =_xlfn.STDEV.S(E25:CK25) -> 4.2778499 | CN25: =COUNT(E25:CK25) -> 5 | CO25: =CQ25/CN25 -> 0 | CQ25: =COUNTIF(E25:CK25,$CQ$2) -> 0 | CR25: =COUNTIF(E25:CK25,$CR$2) -> 1 | CS25: =COUNTIF(E25:CK25,$CS$2) -> 0 | CT25: =COUNTIF(E25:CK25,$CT$2) -> 0 | CU25: =COUNTIF(E25:CK25,$CU$2) -> 0 | CV25: =COUNTIF(E25:CK25,$CV$2) -> 1 | CW25: =COUNTIF(E25:CK25,$CW$2) -> 0 | CX25: =COUNTIF(E25:CK25,$CX$2) -> 0 | CY25: =COUNTIF(E25:CK25,$CY$2) -> 0 | CZ25: =COUNTIF(E25:CK25,$CZ$2) -> 0 | DA25: =COUNTIF(E25:CK25,$DA$2) -> 2 | DB25: =COUNTIF(E25:CK25,$DB$2) -> 0 | DC25: =COUNTIF(E25:CK25,$DC$2) -> 0 | DD25: =COUNTIF(E25:CK25,$DD$2) -> 0 | DF25: =IF(C25=$DF$2,COUNTIF(E25:CK25,1),"" ) | DG25: =IF(C25=$DG$2,COUNTIF(E25:CK25,1),"" ) -> 0 | EX25: Prospeed Competition | EY25: =SUMIF($D$3:$D$60,EX25,$CN$3:$CN$60) -> 6 | EZ25: =SUMIF($D$3:$D$60,EX25,$CQ$3:$CQ$60) -> 0 | FA25: =EZ25/EY25 -> 0 | FB25: =SUMIF($D$3:$D$60,EX25,$CR$3:$CR$60)+SUMIF($D$3:$D$60,EX25,$CS$3:$CS$60)+EZ25 -> 1 | FC25: =COUNTIF($D$3:$D$60,EX25) -> 1
A26: 61 | B26: Ferrari | C26: Am | D26: AF Corse | E26: 4 | F26: DNS | G26: 4 | H26: 1 | I26: 3 | J26: 2 | L26: 4 | M26: 8 | N26: 8 | O26: 2 | P26: Ret | Q26: 7 | R26: 7 | S26: 6 | T26: 3 | U26: 6 | V26: 1 | W26: 3 | X26: 4 | Y26: 5 | AA26: 6 | AB26: 6 | CL26: =AVERAGE(E26:CK26) -> 4.5 | CM26: =_xlfn.STDEV.S(E26:CK26) -> 2.1884866 | CN26: =COUNT(E26:CK26) -> 20 | CO26: =CQ26/CN26 -> 0.1 | CQ26: =COUNTIF(E26:CK26,$CQ$2) -> 2 | CR26: =COUNTIF(E26:CK26,$CR$2) -> 2 | CS26: =COUNTIF(E26:CK26,$CS$2) -> 3 | CT26: =COUNTIF(E26:CK26,$CT$2) -> 4 | CU26: =COUNTIF(E26:CK26,$CU$2) -> 1 | CV26: =COUNTIF(E26:CK26,$CV$2) -> 4 | CW26: =COUNTIF(E26:CK26,$CW$2) -> 2 | CX26: =COUNTIF(E26:CK26,$CX$2) -> 2 | CY26: =COUNTIF(E26:CK26,$CY$2) -> 0 | CZ26: =COUNTIF(E26:CK26,$CZ$2) -> 0 | DA26: =COUNTIF(E26:CK26,$DA$2) -> 1 | DB26: =COUNTIF(E26:CK26,$DB$2) -> 0 | DC26: =COUNTIF(E26:CK26,$DC$2) -> 0 | DD26: =COUNTIF(E26:CK26,$DD$2) -> 1 | DF26: =IF(C26=$DF$2,COUNTIF(E26:CK26,1),"" ) | DG26: =IF(C26=$DG$2,COUNTIF(E26:CK26,1),"" ) -> 2 | EX26: Proton Competition | EY26: =SUMIF($D$3:$D$60,EX26,$CN$3:$CN$60) -> 125 | EZ26: =SUMIF($D$3:$D$60,EX26,$CQ$3:$CQ$60) -> 19 | FA26: =EZ26/EY26 -> 0.152 | FB26: =SUMIF($D$3:$D$60,EX26,$CR$3:$CR$60)+SUMIF($D$3:$D$60,EX26,$CS$3:$CS$60)+EZ26 -> 49 | FC26: =COUNTIF($D$3:$D$60,EX26) -> 3
A27: 61 | B27: Ferrari | C27: Am | D27: Clearwater Racing | AT27: 1 | AU27: 3 | AV27: 1 | AW27: 4 | AX27: 5 | AY27: 2 | AZ27: 2 | BA27: 4 | BB27: 2 | BC27: 3 | BD27: 4 | BE27: 5 | BF27: 6 | BG27: 7 | BH27: DNS | BI27: 3 | BJ27: 3 | CL27: =AVERAGE(E27:CK27) -> 3.4375 | CM27: =_xlfn.STDEV.S(E27:CK27) -> 1.7114808 | CN27: =COUNT(E27:CK27) -> 16 | CO27: =CQ27/CN27 -> 0.125 | CQ27: =COUNTIF(E27:CK27,$CQ$2) -> 2 | CR27: =COUNTIF(E27:CK27,$CR$2) -> 3 | CS27: =COUNTIF(E27:CK27,$CS$2) -> 4 | CT27: =COUNTIF(E27:CK27,$CT$2) -> 3 | CU27: =COUNTIF(E27:CK27,$CU$2) -> 2 | CV27: =COUNTIF(E27:CK27,$CV$2) -> 1 | CW27: =COUNTIF(E27:CK27,$CW$2) -> 1 | CX27: =COUNTIF(E27:CK27,$CX$2) -> 0 | CY27: =COUNTIF(E27:CK27,$CY$2) -> 0 | CZ27: =COUNTIF(E27:CK27,$CZ$2) -> 0 | DA27: =COUNTIF(E27:CK27,$DA$2) -> 0 | DB27: =COUNTIF(E27:CK27,$DB$2) -> 0 | DC27: =COUNTIF(E27:CK27,$DC$2) -> 0 | DD27: =COUNTIF(E27:CK27,$DD$2) -> 1 | DF27: =IF(C27=$DF$2,COUNTIF(E27:CK27,1),"" ) | DG27: =IF(C27=$DG$2,COUNTIF(E27:CK27,1),"" ) -> 2 | EX27: Ram Racing | EY27: =SUMIF($D$3:$D$60,EX27,$CN$3:$CN$60) -> 3 | EZ27: =SUMIF($D$3:$D$60,EX27,$CQ$3:$CQ$60) -> 0 | FA27: =EZ27/EY27 -> 0 | FB27: =SUMIF($D$3:$D$60,EX27,$CR$3:$CR$60)+SUMIF($D$3:$D$60,EX27,$CS$3:$CS$60)+EZ27 -> 0 | FC27: =COUNTIF($D$3:$D$60,EX27) -> 2
A28: 62 | B28: Ferrari | C28: Am | D28: Red River Sport | BK28: 8 | BL28: 10 | BM28: 10 | BN28: 8 | BO28: 8 | BP28: 8 | BQ28: 9 | BR28: 10 | CL28: =AVERAGE(E28:CK28) -> 8.875 | CM28: =_xlfn.STDEV.S(E28:CK28) -> 0.99103121 | CN28: =COUNT(E28:CK28) -> 8 | CO28: =CQ28/CN28 -> 0 | CQ28: =COUNTIF(E28:CK28,$CQ$2) -> 0 | CR28: =COUNTIF(E28:CK28,$CR$2) -> 0 | CS28: =COUNTIF(E28:CK28,$CS$2) -> 0 | CT28: =COUNTIF(E28:CK28,$CT$2) -> 0 | CU28: =COUNTIF(E28:CK28,$CU$2) -> 0 | CV28: =COUNTIF(E28:CK28,$CV$2) -> 0 | CW28: =COUNTIF(E28:CK28,$CW$2) -> 0 | CX28: =COUNTIF(E28:CK28,$CX$2) -> 4 | CY28: =COUNTIF(E28:CK28,$CY$2) -> 1 | CZ28: =COUNTIF(E28:CK28,$CZ$2) -> 3 | DA28: =COUNTIF(E28:CK28,$DA$2) -> 0 | DB28: =COUNTIF(E28:CK28,$DB$2) -> 0 | DC28: =COUNTIF(E28:CK28,$DC$2) -> 0 | DD28: =COUNTIF(E28:CK28,$DD$2) -> 0 | DF28: =IF(C28=$DF$2,COUNTIF(E28:CK28,1),"" ) | DG28: =IF(C28=$DG$2,COUNTIF(E28:CK28,1),"" ) -> 0 | EX28: Red River Sport | EY28: =SUMIF($D$3:$D$60,EX28,$CN$3:$CN$60) -> 8 | EZ28: =SUMIF($D$3:$D$60,EX28,$CQ$3:$CQ$60) -> 0 | FA28: =EZ28/EY28 -> 0 | FB28: =SUMIF($D$3:$D$60,EX28,$CR$3:$CR$60)+SUMIF($D$3:$D$60,EX28,$CS$3:$CS$60)+EZ28 -> 0 | FC28: =COUNTIF($D$3:$D$60,EX28) -> 1
A29: 64 | B29: Corvette | C29: Pro | D29: Corvette Racing | BY29: 2 | BZ29: 4 | CA29: Ret | CB29: 1 | CC29: 5 | CD29: 2 | CL29: =AVERAGE(E29:CK29) -> 2.8 | CM29: =_xlfn.STDEV.S(E29:CK29) -> 1.6431677 | CN29: =COUNT(E29:CK29) -> 5 | CO29: =CQ29/CN29 -> 0.2 | CQ29: =COUNTIF(E29:CK29,$CQ$2) -> 1 | CR29: =COUNTIF(E29:CK29,$CR$2) -> 2 | CS29: =COUNTIF(E29:CK29,$CS$2) -> 0 | CT29: =COUNTIF(E29:CK29,$CT$2) -> 1 | CU29: =COUNTIF(E29:CK29,$CU$2) -> 1 | CV29: =COUNTIF(E29:CK29,$CV$2) -> 0 | CW29: =COUNTIF(E29:CK29,$CW$2) -> 0 | CX29: =COUNTIF(E29:CK29,$CX$2) -> 0 | CY29: =COUNTIF(E29:CK29,$CY$2) -> 0 | CZ29: =COUNTIF(E29:CK29,$CZ$2) -> 0 | DA29: =COUNTIF(E29:CK29,$DA$2) -> 1 | DB29: =COUNTIF(E29:CK29,$DB$2) -> 0 | DC29: =COUNTIF(E29:CK29,$DC$2) -> 0 | DD29: =COUNTIF(E29:CK29,$DD$2) -> 0 | DF29: =IF(C29=$DF$2,COUNTIF(E29:CK29,1),"" ) -> 1 | DG29: =IF(C29=$DG$2,COUNTIF(E29:CK29,1),"" ) | EX29: SMP Racing | EY29: =SUMIF($D$3:$D$60,EX29,$CN$3:$CN$60) -> 8 | EZ29: =SUMIF($D$3:$D$60,EX29,$CQ$3:$CQ$60) -> 3 | FA29: =EZ29/EY29 -> 0.375 | FB29: =SUMIF($D$3:$D$60,EX29,$CR$3:$CR$60)+SUMIF($D$3:$D$60,EX29,$CS$3:$CS$60)+EZ29 -> 6 | FC29: =COUNTIF($D$3:$D$60,EX29) -> 1
A30: 66 | B30: Ford | C30: Pro | D30: Ford Chip Ganassi Racing | AK30: 5 | AL30: Ret | AM30: 1 | AN30: 4 | AO30: 7 | AP30: 7 | AQ30: 2 | AR30: 2 | AS30: 6 | AT30: 4 | AU30: 3 | AV30: 6 | AW30: 6 | AX30: 7 | AY30: 8 | AZ30: 4 | BA30: 4 | BB30: 5 | BC30: 1 | BD30: 3 | BE30: 6 | BF30: 8 | BG30: 7 | BH30: 18 | BI30: 10 | BJ30: 4 | CL30: =AVERAGE(E30:CK30) -> 5.52 | CM30: =_xlfn.STDEV.S(E30:CK30) -> 3.4655447 | CN30: =COUNT(E30:CK30) -> 25 | CO30: =CQ30/CN30 -> 0.08 | CQ30: =COUNTIF(E30:CK30,$CQ$2) -> 2 | CR30: =COUNTIF(E30:CK30,$CR$2) -> 2 | CS30: =COUNTIF(E30:CK30,$CS$2) -> 2 | CT30: =COUNTIF(E30:CK30,$CT$2) -> 5 | CU30: =COUNTIF(E30:CK30,$CU$2) -> 2 | CV30: =COUNTIF(E30:CK30,$CV$2) -> 4 | CW30: =COUNTIF(E30:CK30,$CW$2) -> 4 | CX30: =COUNTIF(E30:CK30,$CX$2) -> 2 | CY30: =COUNTIF(E30:CK30,$CY$2) -> 0 | CZ30: =COUNTIF(E30:CK30,$CZ$2) -> 1 | DA30: =COUNTIF(E30:CK30,$DA$2) -> 1 | DB30: =COUNTIF(E30:CK30,$DB$2) -> 0 | DC30: =COUNTIF(E30:CK30,$DC$2) -> 0 | DD30: =COUNTIF(E30:CK30,$DD$2) -> 0 | DF30: =IF(C30=$DF$2,COUNTIF(E30:CK30,1),"" ) -> 2 | DG30: =IF(C30=$DG$2,COUNTIF(E30:CK30,1),"" ) | EX30: Spirit of Race | EY30: =SUMIF($D$3:$D$60,EX30,$CN$3:$CN$60) -> 19 | EZ30: =SUMIF($D$3:$D$60,EX30,$CQ$3:$CQ$60) -> 1 | FA30: =EZ30/EY30 -> 0.052631579 | FB30: =SUMIF($D$3:$D$60,EX30,$CR$3:$CR$60)+SUMIF($D$3:$D$60,EX30,$CS$3:$CS$60)+EZ30 -> 6 | FC30: =COUNTIF($D$3:$D$60,EX30) -> 3
A31: 67 | B31: Ford | C31: Pro | D31: Ford Chip Ganassi Racing | AK31: 4 | AL31: 2 | AM31: 5 | AN31: 7 | AO31: 5 | AP31: 4 | AQ31: 1 | AR31: 1 | AS31: 4 | AT31: 1 | AU31: 4 | AV31: 2 | AW31: 5 | AX31: 4 | AY31: 7 | AZ31: 8 | BA31: 1 | BB31: 3 | BC31: Ret | BD31: 12 | BE31: 2 | BF31: 3 | BG31: 9 | BH31: 3 | BI31: 5 | BJ31: 3 | CL31: =AVERAGE(E31:CK31) -> 4.2 | CM31: =_xlfn.STDEV.S(E31:CK31) -> 2.7233558 | CN31: =COUNT(E31:CK31) -> 25 | CO31: =CQ31/CN31 -> 0.16 | CQ31: =COUNTIF(E31:CK31,$CQ$2) -> 4 | CR31: =COUNTIF(E31:CK31,$CR$2) -> 3 | CS31: =COUNTIF(E31:CK31,$CS$2) -> 4 | CT31: =COUNTIF(E31:CK31,$CT$2) -> 5 | CU31: =COUNTIF(E31:CK31,$CU$2) -> 4 | CV31: =COUNTIF(E31:CK31,$CV$2) -> 0 | CW31: =COUNTIF(E31:CK31,$CW$2) -> 2 | CX31: =COUNTIF(E31:CK31,$CX$2) -> 1 | CY31: =COUNTIF(E31:CK31,$CY$2) -> 1 | CZ31: =COUNTIF(E31:CK31,$CZ$2) -> 0 | DA31: =COUNTIF(E31:CK31,$DA$2) -> 1 | DB31: =COUNTIF(E31:CK31,$DB$2) -> 0 | DC31: =COUNTIF(E31:CK31,$DC$2) -> 0 | DD31: =COUNTIF(E31:CK31,$DD$2) -> 0 | DF31: =IF(C31=$DF$2,COUNTIF(E31:CK31,1),"" ) -> 4 | DG31: =IF(C31=$DG$2,COUNTIF(E31:CK31,1),"" ) | EX31: Team Project 1 | EY31: =SUMIF($D$3:$D$60,EX31,$CN$3:$CN$60) -> 43 | EZ31: =SUMIF($D$3:$D$60,EX31,$CQ$3:$CQ$60) -> 5 | FA31: =EZ31/EY31 -> 0.11627907 | FB31: =SUMIF($D$3:$D$60,EX31,$CR$3:$CR$60)+SUMIF($D$3:$D$60,EX31,$CS$3:$CS$60)+EZ31 -> 18 | FC31: =COUNTIF($D$3:$D$60,EX31) -> 3
A32: 70 | B32: Ferrari | C32: Am | D32: MR Racing | BC32: 5 | BD32: 5 | BE32: 7 | BF32: Ret | BG32: 6 | BH32: 5 | BI32: 8 | BJ32: 5 | BK32: 3 | BL32: 4 | BM32: 7 | BN32: 7 | BO32: 10 | BQ32: Ret | CL32: =AVERAGE(E32:CK32) -> 6 | CM32: =_xlfn.STDEV.S(E32:CK32) -> 1.9069252 | CN32: =COUNT(E32:CK32) -> 12 | CO32: =CQ32/CN32 -> 0 | CQ32: =COUNTIF(E32:CK32,$CQ$2) -> 0 | CR32: =COUNTIF(E32:CK32,$CR$2) -> 0 | CS32: =COUNTIF(E32:CK32,$CS$2) -> 1 | CT32: =COUNTIF(E32:CK32,$CT$2) -> 1 | CU32: =COUNTIF(E32:CK32,$CU$2) -> 4 | CV32: =COUNTIF(E32:CK32,$CV$2) -> 1 | CW32: =COUNTIF(E32:CK32,$CW$2) -> 3 | CX32: =COUNTIF(E32:CK32,$CX$2) -> 1 | CY32: =COUNTIF(E32:CK32,$CY$2) -> 0 | CZ32: =COUNTIF(E32:CK32,$CZ$2) -> 1 | DA32: =COUNTIF(E32:CK32,$DA$2) -> 2 | DB32: =COUNTIF(E32:CK32,$DB$2) -> 0 | DC32: =COUNTIF(E32:CK32,$DC$2) -> 0 | DD32: =COUNTIF(E32:CK32,$DD$2) -> 0 | DF32: =IF(C32=$DF$2,COUNTIF(E32:CK32,1),"" ) | DG32: =IF(C32=$DG$2,COUNTIF(E32:CK32,1),"" ) -> 0 | EX32: TF Sport | EY32: =SUMIF($D$3:$D$60,EX32,$CN$3:$CN$60) -> 24 | EZ32: =SUMIF($D$3:$D$60,EX32,$CQ$3:$CQ$60) -> 7 | FA32: =EZ32/EY32 -> 0.29166667 | FB32: =SUMIF($D$3:$D$60,EX32,$CR$3:$CR$60)+SUMIF($D$3:$D$60,EX32,$CS$3:$CS$60)+EZ32 -> 16 | FC32: =COUNTIF($D$3:$D$60,EX32) -> 2
A33: 71 | B33: Ferrari | C33: Pro | D33: AF Corse | M33: 2 | N33: 2 | O33: 4 | P33: Ret | Q33: 3 | R33: 5 | S33: 5 | T33: 3 | U33: 5 | V33: 3 | W33: Ret | X33: 5 | Y33: 2 | Z33: 3 | AA33: 3 | AB33: 3 | AC33: 3 | AD33: 7 | AE33: 1 | AF33: 3 | AG33: 3 | AH33: 3 | AI33: 4 | AJ33: 6 | AK33: 1 | AL33: 1 | AM33: Ret | AN33: 2 | AO33: 4 | AP33: 3 | AQ33: 4 | AR33: 5 | AS33: 3 | AT33: 5 | AU33: 1 | AV33: 4 | AW33: 8 | AX33: 2 | AY33: 3 | AZ33: 5 | BA33: 6 | BB33: 1 | BC33: 3 | BD33: 6 | BE33: 16 | BF33: 10 | BG33: 6 | BH33: 6 | BI33: 6 | BJ33: Ret | BK33: Ret | BL33: 5 | BM33: 6 | BN33: 2 | BO33: 5 | BP33: 6 | BQ33: NC | BR33: 3 | CL33: =AVERAGE(E33:CK33) -> 4.1538462 | CM33: =_xlfn.STDEV.S(E33:CK33) -> 2.5389871 | CN33: =COUNT(E33:CK33) -> 52 | CO33: =CQ33/CN33 -> 0.096153846 | CQ33: =COUNTIF(E33:CK33,$CQ$2) -> 5 | CR33: =COUNTIF(E33:CK33,$CR$2) -> 6 | CS33: =COUNTIF(E33:CK33,$CS$2) -> 15 | CT33: =COUNTIF(E33:CK33,$CT$2) -> 5 | CU33: =COUNTIF(E33:CK33,$CU$2) -> 9 | CV33: =COUNTIF(E33:CK33,$CV$2) -> 8 | CW33: =COUNTIF(E33:CK33,$CW$2) -> 1 | CX33: =COUNTIF(E33:CK33,$CX$2) -> 1 | CY33: =COUNTIF(E33:CK33,$CY$2) -> 0 | CZ33: =COUNTIF(E33:CK33,$CZ$2) -> 1 | DA33: =COUNTIF(E33:CK33,$DA$2) -> 5 | DB33: =COUNTIF(E33:CK33,$DB$2) -> 1 | DC33: =COUNTIF(E33:CK33,$DC$2) -> 0 | DD33: =COUNTIF(E33:CK33,$DD$2) -> 0 | DF33: =IF(C33=$DF$2,COUNTIF(E33:CK33,1),"" ) -> 5 | DG33: =IF(C33=$DG$2,COUNTIF(E33:CK33,1),"" )
A34: 71 | B34: Ferrari | C34: Am | D34: Spirit of Race | BY34: Ret | BZ34: 12 | CA34: Ret | CB34: 5 | CC34: 7 | CD34: 13 | CL34: =AVERAGE(E34:CK34) -> 9.25 | CM34: =_xlfn.STDEV.S(E34:CK34) -> 3.8622101 | CN34: =COUNT(E34:CK34) -> 4 | CO34: =CQ34/CN34 -> 0 | CQ34: =COUNTIF(E34:CK34,$CQ$2) -> 0 | CR34: =COUNTIF(E34:CK34,$CR$2) -> 0 | CS34: =COUNTIF(E34:CK34,$CS$2) -> 0 | CT34: =COUNTIF(E34:CK34,$CT$2) -> 0 | CU34: =COUNTIF(E34:CK34,$CU$2) -> 1 | CV34: =COUNTIF(E34:CK34,$CV$2) -> 0 | CW34: =COUNTIF(E34:CK34,$CW$2) -> 1 | CX34: =COUNTIF(E34:CK34,$CX$2) -> 0 | CY34: =COUNTIF(E34:CK34,$CY$2) -> 0 | CZ34: =COUNTIF(E34:CK34,$CZ$2) -> 0 | DA34: =COUNTIF(E34:CK34,$DA$2) -> 2 | DB34: =COUNTIF(E34:CK34,$DB$2) -> 0 | DC34: =COUNTIF(E34:CK34,$DC$2) -> 0 | DD34: =COUNTIF(E34:CK34,$DD$2) -> 0 | DF34: =IF(C34=$DF$2,COUNTIF(E34:CK34,1),"" ) | DG34: =IF(C34=$DG$2,COUNTIF(E34:CK34,1),"" ) -> 0
A35: 72 | B35: Ferrari | C35: Am | D35: SMP Racing | AC35: 3 | AD35: 3 | AE35: 1 | AF35: 1 | AG35: 1 | AH35: 6 | AI35: 3 | AJ35: 5 | CL35: =AVERAGE(E35:CK35) -> 2.875 | CM35: =_xlfn.STDEV.S(E35:CK35) -> 1.8850919 | CN35: =COUNT(E35:CK35) -> 8 | CO35: =CQ35/CN35 -> 0.375 | CQ35: =COUNTIF(E35:CK35,$CQ$2) -> 3 | CR35: =COUNTIF(E35:CK35,$CR$2) -> 0 | CS35: =COUNTIF(E35:CK35,$CS$2) -> 3 | CT35: =COUNTIF(E35:CK35,$CT$2) -> 0 | CU35: =COUNTIF(E35:CK35,$CU$2) -> 1 | CV35: =COUNTIF(E35:CK35,$CV$2) -> 1 | CW35: =COUNTIF(E35:CK35,$CW$2) -> 0 | CX35: =COUNTIF(E35:CK35,$CX$2) -> 0 | CY35: =COUNTIF(E35:CK35,$CY$2) -> 0 | CZ35: =COUNTIF(E35:CK35,$CZ$2) -> 0 | DA35: =COUNTIF(E35:CK35,$DA$2) -> 0 | DB35: =COUNTIF(E35:CK35,$DB$2) -> 0 | DC35: =COUNTIF(E35:CK35,$DC$2) -> 0 | DD35: =COUNTIF(E35:CK35,$DD$2) -> 0 | DF35: =IF(C35=$DF$2,COUNTIF(E35:CK35,1),"" ) | DG35: =IF(C35=$DG$2,COUNTIF(E35:CK35,1),"" ) -> 3
A36: 75 | B36: Porsche | C36: Am | D36: Prospeed Competition | U36: Ret | V36: 6 | W36: Ret | X36: 7 | Y36: 3 | Z36: 4 | AA36: 7 | AB36: 5 | CL36: =AVERAGE(E36:CK36) -> 5.3333333 | CM36: =_xlfn.STDEV.S(E36:CK36) -> 1.6329932 | CN36: =COUNT(E36:CK36) -> 6 | CO36: =CQ36/CN36 -> 0 | CQ36: =COUNTIF(E36:CK36,$CQ$2) -> 0 | CR36: =COUNTIF(E36:CK36,$CR$2) -> 0 | CS36: =COUNTIF(E36:CK36,$CS$2) -> 1 | CT36: =COUNTIF(E36:CK36,$CT$2) -> 1 | CU36: =COUNTIF(E36:CK36,$CU$2) -> 1 | CV36: =COUNTIF(E36:CK36,$CV$2) -> 1 | CW36: =COUNTIF(E36:CK36,$CW$2) -> 2 | CX36: =COUNTIF(E36:CK36,$CX$2) -> 0 | CY36: =COUNTIF(E36:CK36,$CY$2) -> 0 | CZ36: =COUNTIF(E36:CK36,$CZ$2) -> 0 | DA36: =COUNTIF(E36:CK36,$DA$2) -> 2 | DB36: =COUNTIF(E36:CK36,$DB$2) -> 0 | DC36: =COUNTIF(E36:CK36,$DC$2) -> 0 | DD36: =COUNTIF(E36:CK36,$DD$2) -> 0 | DF36: =IF(C36=$DF$2,COUNTIF(E36:CK36,1),"" ) | DG36: =IF(C36=$DG$2,COUNTIF(E36:CK36,1),"" ) -> 0
A37: 76 | B37: Porsche | C37: Am | D37: IMSA Performance Matmut | M37: 7 | N37: 6 | O37: 1 | P37: 4 | Q37: 3 | R37: 5 | S37: 2 | T37: 6 | CL37: =AVERAGE(E37:CK37) -> 4.25 | CM37: =_xlfn.STDEV.S(E37:CK37) -> 2.1213203 | CN37: =COUNT(E37:CK37) -> 8 | CO37: =CQ37/CN37 -> 0.125 | CQ37: =COUNTIF(E37:CK37,$CQ$2) -> 1 | CR37: =COUNTIF(E37:CK37,$CR$2) -> 1 | CS37: =COUNTIF(E37:CK37,$CS$2) -> 1 | CT37: =COUNTIF(E37:CK37,$CT$2) -> 1 | CU37: =COUNTIF(E37:CK37,$CU$2) -> 1 | CV37: =COUNTIF(E37:CK37,$CV$2) -> 2 | CW37: =COUNTIF(E37:CK37,$CW$2) -> 1 | CX37: =COUNTIF(E37:CK37,$CX$2) -> 0 | CY37: =COUNTIF(E37:CK37,$CY$2) -> 0 | CZ37: =COUNTIF(E37:CK37,$CZ$2) -> 0 | DA37: =COUNTIF(E37:CK37,$DA$2) -> 0 | DB37: =COUNTIF(E37:CK37,$DB$2) -> 0 | DC37: =COUNTIF(E37:CK37,$DC$2) -> 0 | DD37: =COUNTIF(E37:CK37,$DD$2) -> 0 | DF37: =IF(C37=$DF$2,COUNTIF(E37:CK37,1),"" ) | DG37: =IF(C37=$DG$2,COUNTIF(E37:CK37,1),"" ) -> 1
A38: 77 | B38: Porsche | C38: Pro | D38: Proton Competition | E38: 2 | F38: 1 | G38: Ret | H38: 3 | I38: 3 | J38: 3 | K38: 1 | L38: 2 | AK38: 6 | AL38: 4 | AM38: 4 | AN38: 6 | AO38: 6 | AP38: 6 | AQ38: 7 | AR38: 6 | AS38: 7 | CL38: =AVERAGE(E38:CK38) -> 4.1875 | CM38: =_xlfn.STDEV.S(E38:CK38) -> 2.1045585 | CN38: =COUNT(E38:CK38) -> 16 | CO38: =CQ38/CN38 -> 0.125 | CQ38: =COUNTIF(E38:CK38,$CQ$2) -> 2 | CR38: =COUNTIF(E38:CK38,$CR$2) -> 2 | CS38: =COUNTIF(E38:CK38,$CS$2) -> 3 | CT38: =COUNTIF(E38:CK38,$CT$2) -> 2 | CU38: =COUNTIF(E38:CK38,$CU$2) -> 0 | CV38: =COUNTIF(E38:CK38,$CV$2) -> 5 | CW38: =COUNTIF(E38:CK38,$CW$2) -> 2 | CX38: =COUNTIF(E38:CK38,$CX$2) -> 0 | CY38: =COUNTIF(E38:CK38,$CY$2) -> 0 | CZ38: =COUNTIF(E38:CK38,$CZ$2) -> 0 | DA38: =COUNTIF(E38:CK38,$DA$2) -> 1 | DB38: =COUNTIF(E38:CK38,$DB$2) -> 0 | DC38: =COUNTIF(E38:CK38,$DC$2) -> 0 | DD38: =COUNTIF(E38:CK38,$DD$2) -> 0 | DF38: =IF(C38=$DF$2,COUNTIF(E38:CK38,1),"" ) -> 2 | DG38: =IF(C38=$DG$2,COUNTIF(E38:CK38,1),"" )
A39: 77 | B39: Porsche | C39: Am | D39: Proton Competition | AC39: 6 | AD39: 5 | AE39: 2 | AF39: 4 | AG39: 4 | AH39: 1 | AI39: 4 | AJ39: 3 | AT39: 3 | AU39: 2 | AV39: 2 | AW39: 1 | AX39: 1 | AY39: 4 | AZ39: 3 | BA39: 3 | BB39: 4 | BC39: 4 | BD39: 1 | BE39: 1 | BF39: DSQ | BG39: 1 | BH39: 1 | BI39: 1 | BJ39: 2 | BK39: 5 | BL39: 5 | BM39: 11 | BN39: 6 | BO39: 5 | BP39: 2 | BQ39: 2 | BR39: 7 | BS39: Ret | BT39: Ret | BU39: 5 | BV39: 4 | BW39: 2 | BX39: 2 | BY39: 4 | BZ39: 1 | CA39: 8 | CB39: 1 | CC39: Ret | CD39: 8 | CE39: 2 | CF39: 7 | CG39: 9 | CH39: Ret | CI39: 1 | CJ39: 6 | CK39: 6 | CL39: =AVERAGE(E39:CK39) -> 3.6595745 | CM39: =_xlfn.STDEV.S(E39:CK39) -> 2.4607934 | CN39: =COUNT(E39:CK39) -> 47 | CO39: =CQ39/CN39 -> 0.23404255 | CQ39: =COUNTIF(E39:CK39,$CQ$2) -> 11 | CR39: =COUNTIF(E39:CK39,$CR$2) -> 9 | CS39: =COUNTIF(E39:CK39,$CS$2) -> 4 | CT39: =COUNTIF(E39:CK39,$CT$2) -> 8 | CU39: =COUNTIF(E39:CK39,$CU$2) -> 5 | CV39: =COUNTIF(E39:CK39,$CV$2) -> 4 | CW39: =COUNTIF(E39:CK39,$CW$2) -> 2 | CX39: =COUNTIF(E39:CK39,$CX$2) -> 2 | CY39: =COUNTIF(E39:CK39,$CY$2) -> 1 | CZ39: =COUNTIF(E39:CK39,$CZ$2) -> 0 | DA39: =COUNTIF(E39:CK39,$DA$2) -> 4 | DB39: =COUNTIF(E39:CK39,$DB$2) -> 0 | DC39: =COUNTIF(E39:CK39,$DC$2) -> 0 | DD39: =COUNTIF(E39:CK39,$DD$2) -> 0 | DF39: =IF(C39=$DF$2,COUNTIF(E39:CK39,1),"" ) | DG39: =IF(C39=$DG$2,COUNTIF(E39:CK39,1),"" ) -> 11
A40: 78 | B40: Porsche | C40: Am | D40: KCMG | AK40: 4 | AL40: 4 | AM40: 5 | AN40: EX | AO40: 3 | AP40: 2 | AQ40: 3 | AR40: 3 | AS40: 2 | CL40: =AVERAGE(E40:CK40) -> 3.25 | CM40: =_xlfn.STDEV.S(E40:CK40) -> 1.0350983 | CN40: =COUNT(E40:CK40) -> 8 | CO40: =CQ40/CN40 -> 0 | CQ40: =COUNTIF(E40:CK40,$CQ$2) -> 0 | CR40: =COUNTIF(E40:CK40,$CR$2) -> 2 | CS40: =COUNTIF(E40:CK40,$CS$2) -> 3 | CT40: =COUNTIF(E40:CK40,$CT$2) -> 2 | CU40: =COUNTIF(E40:CK40,$CU$2) -> 1 | CV40: =COUNTIF(E40:CK40,$CV$2) -> 0 | CW40: =COUNTIF(E40:CK40,$CW$2) -> 0 | CX40: =COUNTIF(E40:CK40,$CX$2) -> 0 | CY40: =COUNTIF(E40:CK40,$CY$2) -> 0 | CZ40: =COUNTIF(E40:CK40,$CZ$2) -> 0 | DA40: =COUNTIF(E40:CK40,$DA$2) -> 0 | DB40: =COUNTIF(E40:CK40,$DB$2) -> 0 | DC40: =COUNTIF(E40:CK40,$DC$2) -> 0 | DD40: =COUNTIF(E40:CK40,$DD$2) -> 0 | DF40: =IF(C40=$DF$2,COUNTIF(E40:CK40,1),"" ) | DG40: =IF(C40=$DG$2,COUNTIF(E40:CK40,1),"" ) -> 0
A41: 81 | B41: Ferrari | C41: Am | D41: 8 Star Motorsports | M41: 3 | N41: 1 | O41: 6 | P41: 2 | Q41: 4 | R41: 4 | S41: 1 | T41: 2 | CL41: =AVERAGE(E41:CK41) -> 2.875 | CM41: =_xlfn.STDEV.S(E41:CK41) -> 1.7268882 | CN41: =COUNT(E41:CK41) -> 8 | CO41: =CQ41/CN41 -> 0.25 | CQ41: =COUNTIF(E41:CK41,$CQ$2) -> 2 | CR41: =COUNTIF(E41:CK41,$CR$2) -> 2 | CS41: =COUNTIF(E41:CK41,$CS$2) -> 1 | CT41: =COUNTIF(E41:CK41,$CT$2) -> 2 | CU41: =COUNTIF(E41:CK41,$CU$2) -> 0 | CV41: =COUNTIF(E41:CK41,$CV$2) -> 1 | CW41: =COUNTIF(E41:CK41,$CW$2) -> 0 | CX41: =COUNTIF(E41:CK41,$CX$2) -> 0 | CY41: =COUNTIF(E41:CK41,$CY$2) -> 0 | CZ41: =COUNTIF(E41:CK41,$CZ$2) -> 0 | DA41: =COUNTIF(E41:CK41,$DA$2) -> 0 | DB41: =COUNTIF(E41:CK41,$DB$2) -> 0 | DC41: =COUNTIF(E41:CK41,$DC$2) -> 0 | DD41: =COUNTIF(E41:CK41,$DD$2) -> 0 | DF41: =IF(C41=$DF$2,COUNTIF(E41:CK41,1),"" ) | DG41: =IF(C41=$DG$2,COUNTIF(E41:CK41,1),"" ) -> 2
A42: 81 | B42: Ferrari | C42: Am | D42: AF Corse | U42: 3 | V42: 5 | W42: Ret | X42: 6 | Y42: Ret | AA42: 2 | AB42: 3 | CL42: =AVERAGE(E42:CK42) -> 3.8 | CM42: =_xlfn.STDEV.S(E42:CK42) -> 1.6431677 | CN42: =COUNT(E42:CK42) -> 5 | CO42: =CQ42/CN42 -> 0 | CQ42: =COUNTIF(E42:CK42,$CQ$2) -> 0 | CR42: =COUNTIF(E42:CK42,$CR$2) -> 1 | CS42: =COUNTIF(E42:CK42,$CS$2) -> 2 | CT42: =COUNTIF(E42:CK42,$CT$2) -> 0 | CU42: =COUNTIF(E42:CK42,$CU$2) -> 1 | CV42: =COUNTIF(E42:CK42,$CV$2) -> 1 | CW42: =COUNTIF(E42:CK42,$CW$2) -> 0 | CX42: =COUNTIF(E42:CK42,$CX$2) -> 0 | CY42: =COUNTIF(E42:CK42,$CY$2) -> 0 | CZ42: =COUNTIF(E42:CK42,$CZ$2) -> 0 | DA42: =COUNTIF(E42:CK42,$DA$2) -> 2 | DB42: =COUNTIF(E42:CK42,$DB$2) -> 0 | DC42: =COUNTIF(E42:CK42,$DC$2) -> 0 | DD42: =COUNTIF(E42:CK42,$DD$2) -> 0 | DF42: =IF(C42=$DF$2,COUNTIF(E42:CK42,1),"" ) | DG42: =IF(C42=$DG$2,COUNTIF(E42:CK42,1),"" ) -> 0
A43: 81 | B43: BMW | C43: Pro | D43: BMW Team MTEK | BC43: 8 | BD43: 9 | BE43: 5 | BF43: 7 | BG43: 8 | BH43: 2 | BI43: 9 | BJ43: 15 | CL43: =AVERAGE(E43:CK43) -> 7.875 | CM43: =_xlfn.STDEV.S(E43:CK43) -> 3.720119 | CN43: =COUNT(E43:CK43) -> 8 | CO43: =CQ43/CN43 -> 0 | CQ43: =COUNTIF(E43:CK43,$CQ$2) -> 0 | CR43: =COUNTIF(E43:CK43,$CR$2) -> 1 | CS43: =COUNTIF(E43:CK43,$CS$2) -> 0 | CT43: =COUNTIF(E43:CK43,$CT$2) -> 0 | CU43: =COUNTIF(E43:CK43,$CU$2) -> 1 | CV43: =COUNTIF(E43:CK43,$CV$2) -> 0 | CW43: =COUNTIF(E43:CK43,$CW$2) -> 1 | CX43: =COUNTIF(E43:CK43,$CX$2) -> 2 | CY43: =COUNTIF(E43:CK43,$CY$2) -> 2 | CZ43: =COUNTIF(E43:CK43,$CZ$2) -> 0 | DA43: =COUNTIF(E43:CK43,$DA$2) -> 0 | DB43: =COUNTIF(E43:CK43,$DB$2) -> 0 | DC43: =COUNTIF(E43:CK43,$DC$2) -> 0 | DD43: =COUNTIF(E43:CK43,$DD$2) -> 0 | DF43: =IF(C43=$DF$2,COUNTIF(E43:CK43,1),"" ) -> 0 | DG43: =IF(C43=$DG$2,COUNTIF(E43:CK43,1),"" )
A44: 82 | B44: BMW | C44: Pro | D44: BMW Team MTEK | BC44: 5 | BD44: Ret | BE44: Ret | BF44: 2 | BG44: 10 | BH44: 7 | BI44: 4 | BJ44: 6 | CL44: =AVERAGE(E44:CK44) -> 5.6666667 | CM44: =_xlfn.STDEV.S(E44:CK44) -> 2.7325202 | CN44: =COUNT(E44:CK44) -> 6 | CO44: =CQ44/CN44 -> 0 | CQ44: =COUNTIF(E44:CK44,$CQ$2) -> 0 | CR44: =COUNTIF(E44:CK44,$CR$2) -> 1 | CS44: =COUNTIF(E44:CK44,$CS$2) -> 0 | CT44: =COUNTIF(E44:CK44,$CT$2) -> 1 | CU44: =COUNTIF(E44:CK44,$CU$2) -> 1 | CV44: =COUNTIF(E44:CK44,$CV$2) -> 1 | CW44: =COUNTIF(E44:CK44,$CW$2) -> 1 | CX44: =COUNTIF(E44:CK44,$CX$2) -> 0 | CY44: =COUNTIF(E44:CK44,$CY$2) -> 0 | CZ44: =COUNTIF(E44:CK44,$CZ$2) -> 1 | DA44: =COUNTIF(E44:CK44,$DA$2) -> 2 | DB44: =COUNTIF(E44:CK44,$DB$2) -> 0 | DC44: =COUNTIF(E44:CK44,$DC$2) -> 0 | DD44: =COUNTIF(E44:CK44,$DD$2) -> 0 | DF44: =IF(C44=$DF$2,COUNTIF(E44:CK44,1),"" ) -> 0 | DG44: =IF(C44=$DG$2,COUNTIF(E44:CK44,1),"" )
A45: 83 | B45: Ferrari | C45: Am | D45: AF Corse | AC45: 2 | AD45: 2 | AE45: 3 | AF45: 3 | AG45: 3 | AH45: 3 | AI45: 1 | AJ45: 4 | AK45: 1 | AL45: 2 | AM45: 1 | AN45: 2 | AO45: 2 | AP45: 6 | AQ45: 2 | AR45: 2 | AS45: 3 | BK45: 1 | BL45: 2 | BM45: 4 | BN45: 4 | BO45: 4 | BP45: 1 | BQ45: 3 | BR45: 2 | BS45: 1 | BT45: 10 | BU45: 1 | BV45: 1 | BW45: 5 | BX45: 1 | CE45: Ret | CF45: 2 | CG45: 1 | CH45: Ret | CI45: 6 | CJ45: 9 | CK45: 9 | CL45: =AVERAGE(E45:CK45) -> 3.0277778 | CM45: =_xlfn.STDEV.S(E45:CK45) -> 2.3722938 | CN45: =COUNT(E45:CK45) -> 36 | CO45: =CQ45/CN45 -> 0.27777778 | CQ45: =COUNTIF(E45:CK45,$CQ$2) -> 10 | CR45: =COUNTIF(E45:CK45,$CR$2) -> 10 | CS45: =COUNTIF(E45:CK45,$CS$2) -> 6 | CT45: =COUNTIF(E45:CK45,$CT$2) -> 4 | CU45: =COUNTIF(E45:CK45,$CU$2) -> 1 | CV45: =COUNTIF(E45:CK45,$CV$2) -> 2 | CW45: =COUNTIF(E45:CK45,$CW$2) -> 0 | CX45: =COUNTIF(E45:CK45,$CX$2) -> 0 | CY45: =COUNTIF(E45:CK45,$CY$2) -> 2 | CZ45: =COUNTIF(E45:CK45,$CZ$2) -> 1 | DA45: =COUNTIF(E45:CK45,$DA$2) -> 2 | DB45: =COUNTIF(E45:CK45,$DB$2) -> 0 | DC45: =COUNTIF(E45:CK45,$DC$2) -> 0 | DD45: =COUNTIF(E45:CK45,$DD$2) -> 0 | DF45: =IF(C45=$DF$2,COUNTIF(E45:CK45,1),"" ) | DG45: =IF(C45=$DG$2,COUNTIF(E45:CK45,1),"" ) -> 10
A46: 85 | B46: Ferrari | C46: Am | D46: Iron Dames | BS46: 8 | BT46: 6 | BU46: 8 | BV46: 6 | BW46: 8 | BX46: 8 | BY46: 5 | BZ46: 10 | CA46: 6 | CB46: 2 | CC46: 2 | CD46: 3 | CL46: =AVERAGE(E46:CK46) -> 6 | CM46: =_xlfn.STDEV.S(E46:CK46) -> 2.5936987 | CN46: =COUNT(E46:CK46) -> 12 | CO46: =CQ46/CN46 -> 0 | CQ46: =COUNTIF(E46:CK46,$CQ$2) -> 0 | CR46: =COUNTIF(E46:CK46,$CR$2) -> 2 | CS46: =COUNTIF(E46:CK46,$CS$2) -> 1 | CT46: =COUNTIF(E46:CK46,$CT$2) -> 0 | CU46: =COUNTIF(E46:CK46,$CU$2) -> 1 | CV46: =COUNTIF(E46:CK46,$CV$2) -> 3 | CW46: =COUNTIF(E46:CK46,$CW$2) -> 0 | CX46: =COUNTIF(E46:CK46,$CX$2) -> 4 | CY46: =COUNTIF(E46:CK46,$CY$2) -> 0 | CZ46: =COUNTIF(E46:CK46,$CZ$2) -> 1 | DA46: =COUNTIF(E46:CK46,$DA$2) -> 0 | DB46: =COUNTIF(E46:CK46,$DB$2) -> 0 | DC46: =COUNTIF(E46:CK46,$DC$2) -> 0 | DD46: =COUNTIF(E46:CK46,$DD$2) -> 0 | DF46: =IF(C46=$DF$2,COUNTIF(E46:CK46,1),"" ) | DG46: =IF(C46=$DG$2,COUNTIF(E46:CK46,1),"" ) -> 0
A47: 85 | B47: Porsche | C47: Am | D47: Iron Dames | CE47: 8 | CF47: 3 | CG47: 5 | CH47: 4 | CI47: 5 | CJ47: 4 | CK47: 1 | CL47: =AVERAGE(E47:CK47) -> 4.2857143 | CM47: =_xlfn.STDEV.S(E47:CK47) -> 2.1380899 | CN47: =COUNT(E47:CK47) -> 7 | CO47: =CQ47/CN47 -> 0.14285714 | CQ47: =COUNTIF(E47:CK47,$CQ$2) -> 1 | CR47: =COUNTIF(E47:CK47,$CR$2) -> 0 | CS47: =COUNTIF(E47:CK47,$CS$2) -> 1 | CT47: =COUNTIF(E47:CK47,$CT$2) -> 2 | CU47: =COUNTIF(E47:CK47,$CU$2) -> 2 | CV47: =COUNTIF(E47:CK47,$CV$2) -> 0 | CW47: =COUNTIF(E47:CK47,$CW$2) -> 0 | CX47: =COUNTIF(E47:CK47,$CX$2) -> 1 | CY47: =COUNTIF(E47:CK47,$CY$2) -> 0 | CZ47: =COUNTIF(E47:CK47,$CZ$2) -> 0 | DA47: =COUNTIF(E47:CK47,$DA$2) -> 0 | DB47: =COUNTIF(E47:CK47,$DB$2) -> 0 | DC47: =COUNTIF(E47:CK47,$DC$2) -> 0 | DD47: =COUNTIF(E47:CK47,$DD$2) -> 0 | DF47: =IF(C47=$DF$2,COUNTIF(E47:CK47,1),"" ) | DG47: =IF(C47=$DG$2,COUNTIF(E47:CK47,1),"" ) -> 1
A48: 86 | B48: Porsche | C48: Am | D48: GR Racing | AK48: Ret | AL48: 5 | AM48: 3 | AN48: 5 | AO48: 4 | AP48: 4 | AQ48: 4 | AR48: 6 | AS48: 4 | AT48: 4 | AU48: Ret | AV48: 4 | AW48: 5 | AX48: 3 | AY48: Ret | AZ48: 4 | BA48: 2 | BB48: 5 | BC48: 7 | BD48: 6 | BE48: 6 | BF48: 4 | BG48: 9 | BH48: 4 | BI48: 7 | BJ48: 4 | BK48: 4 | BL48: 8 | BM48: 9 | BN48: 3 | BO48: 6 | BP48: 10 | BQ48: 5 | BR48: 5 | BS48: Ret | BT48: 8 | BU48: 9 | BV48: 9 | BW48: 6 | BX48: 9 | BZ48: 6 | CA48: 3 | CB48: 12 | CC48: 12 | CD48: 6 | CE48: 7 | CF48: 11 | CG48: 12 | CH48: 3 | CI48: 3 | CJ48: 8 | CK48: 8 | CL48: =AVERAGE(E48:CK48) -> 6.0625 | CM48: =_xlfn.STDEV.S(E48:CK48) -> 2.6610368 | CN48: =COUNT(E48:CK48) -> 48 | CO48: =CQ48/CN48 -> 0 | CQ48: =COUNTIF(E48:CK48,$CQ$2) -> 0 | CR48: =COUNTIF(E48:CK48,$CR$2) -> 1 | CS48: =COUNTIF(E48:CK48,$CS$2) -> 6 | CT48: =COUNTIF(E48:CK48,$CT$2) -> 11 | CU48: =COUNTIF(E48:CK48,$CU$2) -> 6 | CV48: =COUNTIF(E48:CK48,$CV$2) -> 7 | CW48: =COUNTIF(E48:CK48,$CW$2) -> 3 | CX48: =COUNTIF(E48:CK48,$CX$2) -> 4 | CY48: =COUNTIF(E48:CK48,$CY$2) -> 5 | CZ48: =COUNTIF(E48:CK48,$CZ$2) -> 1 | DA48: =COUNTIF(E48:CK48,$DA$2) -> 4 | DB48: =COUNTIF(E48:CK48,$DB$2) -> 0 | DC48: =COUNTIF(E48:CK48,$DC$2) -> 0 | DD48: =COUNTIF(E48:CK48,$DD$2) -> 0 | DF48: =IF(C48=$DF$2,COUNTIF(E48:CK48,1),"" ) | DG48: =IF(C48=$DG$2,COUNTIF(E48:CK48,1),"" ) -> 0
A49: 88 | B49: Porsche | C49: Am | D49: Proton Competition | E49: 1 | F49: 1 | G49: Ret | H49: 2 | I49: 1 | J49: 1 | K49: 3 | L49: 2 | M49: 5 | N49: 5 | O49: 5 | P49: 3 | Q49: 5 | R49: 3 | S49: 4 | T49: Ret | U49: 4 | V49: 4 | W49: 2 | X49: 3 | Y49: 4 | Z49: 5 | AA49: 4 | AB49: 4 | AC49: 5 | AD49: 4 | AE49: Ret | AF49: 6 | AG49: 2 | AH49: 5 | AI49: 7 | AJ49: 2 | AK49: 5 | AL49: 6 | AM49: 2 | AN49: 4 | AO49: 1 | AP49: 5 | AQ49: 5 | AR49: 4 | AS49: 1 | BC49: 6 | BD49: Ret | BE49: 8 | BF49: DSQ | BG49: 3 | BH49: 7 | BI49: 9 | BJ49: Ret | BK49: 11 | BL49: 9 | BM49: 6 | BN49: Ret | BO49: 9 | BP49: 5 | BQ49: NC | BR49: 3 | BS49: 5 | BT49: 9 | BU49: 6 | BV49: 8 | BW49: 12 | BX49: Ret | BY49: 10 | BZ49: 9 | CA49: 4 | CB49: 6 | CC49: 9 | CD49: 12 | CE49: WD | CF49: 9 | CG49: 4 | CH49: Ret | CL49: =AVERAGE(E49:CK49) -> 5.0645161 | CM49: =_xlfn.STDEV.S(E49:CK49) -> 2.8276792 | CN49: =COUNT(E49:CK49) -> 62 | CO49: =CQ49/CN49 -> 0.096774194 | CQ49: =COUNTIF(E49:CK49,$CQ$2) -> 6 | CR49: =COUNTIF(E49:CK49,$CR$2) -> 6 | CS49: =COUNTIF(E49:CK49,$CS$2) -> 6 | CT49: =COUNTIF(E49:CK49,$CT$2) -> 11 | CU49: =COUNTIF(E49:CK49,$CU$2) -> 12 | CV49: =COUNTIF(E49:CK49,$CV$2) -> 6 | CW49: =COUNTIF(E49:CK49,$CW$2) -> 2 | CX49: =COUNTIF(E49:CK49,$CX$2) -> 2 | CY49: =COUNTIF(E49:CK49,$CY$2) -> 7 | CZ49: =COUNTIF(E49:CK49,$CZ$2) -> 1 | DA49: =COUNTIF(E49:CK49,$DA$2) -> 8 | DB49: =COUNTIF(E49:CK49,$DB$2) -> 1 | DC49: =COUNTIF(E49:CK49,$DC$2) -> 1 | DD49: =COUNTIF(E49:CK49,$DD$2) -> 0 | DF49: =IF(C49=$DF$2,COUNTIF(E49:CK49,1),"" ) | DG49: =IF(C49=$DG$2,COUNTIF(E49:CK49,1),"" ) -> 6
A50: 90 | B50: Ferrari | C50: Am | D50: 8 Star Motorsports | U50: Ret | V50: 7 | W50: 4 | X50: 5 | Y50: Ret | Z50: 3 | AA50: 5 | AB50: Ret | CL50: =AVERAGE(E50:CK50) -> 4.8 | CM50: =_xlfn.STDEV.S(E50:CK50) -> 1.4832397 | CN50: =COUNT(E50:CK50) -> 5 | CO50: =CQ50/CN50 -> 0 | CQ50: =COUNTIF(E50:CK50,$CQ$2) -> 0 | CR50: =COUNTIF(E50:CK50,$CR$2) -> 0 | CS50: =COUNTIF(E50:CK50,$CS$2) -> 1 | CT50: =COUNTIF(E50:CK50,$CT$2) -> 1 | CU50: =COUNTIF(E50:CK50,$CU$2) -> 2 | CV50: =COUNTIF(E50:CK50,$CV$2) -> 0 | CW50: =COUNTIF(E50:CK50,$CW$2) -> 1 | CX50: =COUNTIF(E50:CK50,$CX$2) -> 0 | CY50: =COUNTIF(E50:CK50,$CY$2) -> 0 | CZ50: =COUNTIF(E50:CK50,$CZ$2) -> 0 | DA50: =COUNTIF(E50:CK50,$DA$2) -> 3 | DB50: =COUNTIF(E50:CK50,$DB$2) -> 0 | DC50: =COUNTIF(E50:CK50,$DC$2) -> 0 | DD50: =COUNTIF(E50:CK50,$DD$2) -> 0 | DF50: =IF(C50=$DF$2,COUNTIF(E50:CK50,1),"" ) | DG50: =IF(C50=$DG$2,COUNTIF(E50:CK50,1),"" ) -> 0
A51: 90 | B51: Aston Martin | C51: Am | D51: TF Sport | BC51: 2 | BD51: Ret | BE51: 2 | BF51: 2 | BG51: 8 | BH51: 6 | BI51: 2 | BJ51: 6 | BK51: 7 | BL51: 1 | BM51: 1 | BN51: Ret | BO51: 1 | BP51: 3 | BQ51: 1 | BR51: 8 | CL51: =AVERAGE(E51:CK51) -> 3.5714286 | CM51: =_xlfn.STDEV.S(E51:CK51) -> 2.7655653 | CN51: =COUNT(E51:CK51) -> 14 | CO51: =CQ51/CN51 -> 0.28571429 | CQ51: =COUNTIF(E51:CK51,$CQ$2) -> 4 | CR51: =COUNTIF(E51:CK51,$CR$2) -> 4 | CS51: =COUNTIF(E51:CK51,$CS$2) -> 1 | CT51: =COUNTIF(E51:CK51,$CT$2) -> 0 | CU51: =COUNTIF(E51:CK51,$CU$2) -> 0 | CV51: =COUNTIF(E51:CK51,$CV$2) -> 2 | CW51: =COUNTIF(E51:CK51,$CW$2) -> 1 | CX51: =COUNTIF(E51:CK51,$CX$2) -> 2 | CY51: =COUNTIF(E51:CK51,$CY$2) -> 0 | CZ51: =COUNTIF(E51:CK51,$CZ$2) -> 0 | DA51: =COUNTIF(E51:CK51,$DA$2) -> 2 | DB51: =COUNTIF(E51:CK51,$DB$2) -> 0 | DC51: =COUNTIF(E51:CK51,$DC$2) -> 0 | DD51: =COUNTIF(E51:CK51,$DD$2) -> 0 | DF51: =IF(C51=$DF$2,COUNTIF(E51:CK51,1),"" ) | DG51: =IF(C51=$DG$2,COUNTIF(E51:CK51,1),"" ) -> 4
A52: 91 | B52: Porsche | C52: Pro | D52: Porsche GT Team | M52: 6 | N52: Ret | O52: 2 | P52: 3 | Q52: 5 | R52: 3 | S52: 3 | T52: 2 | U52: 2 | V52: 2 | W52: 4 | X52: 4 | Y52: 4 | Z52: 2 | AA52: 4 | AB52: 6 | AC52: 2 | AD52: 3 | AE52: 4 | AF52: 1 | AG52: 1 | AH52: 4 | AI52: 1 | AJ52: 5 | AT52: 3 | AU52: 5 | AV52: 3 | AW52: 2 | AX52: 3 | AY52: 6 | AZ52: 2 | BA52: 2 | BB52: 4 | BC52: 4 | BD52: 2 | BE52: DSQ | BF52: 5 | BG52: 2 | BH52: 1 | BI52: 8 | BJ52: 2 | BK52: 1 | BL52: 6 | BM52: 3 | BN52: 5 | BO52: 8 | BP52: 5 | BQ52: 9 | BR52: 2 | BS52: 4 | BT52: 4 | BU52: 3 | BV52: 3 | BW52: 2 | BX52: 4 | BY52: 3 | BZ52: 5 | CA52: 1 | CB52: 5 | CC52: 4 | CD52: 4 | CL52: =AVERAGE(E52:CK52) -> 3.5254237 | CM52: =_xlfn.STDEV.S(E52:CK52) -> 1.8037885 | CN52: =COUNT(E52:CK52) -> 59 | CO52: =CQ52/CN52 -> 0.10169492 | CQ52: =COUNTIF(E52:CK52,$CQ$2) -> 6 | CR52: =COUNTIF(E52:CK52,$CR$2) -> 14 | CS52: =COUNTIF(E52:CK52,$CS$2) -> 11 | CT52: =COUNTIF(E52:CK52,$CT$2) -> 13 | CU52: =COUNTIF(E52:CK52,$CU$2) -> 8 | CV52: =COUNTIF(E52:CK52,$CV$2) -> 4 | CW52: =COUNTIF(E52:CK52,$CW$2) -> 0 | CX52: =COUNTIF(E52:CK52,$CX$2) -> 2 | CY52: =COUNTIF(E52:CK52,$CY$2) -> 1 | CZ52: =COUNTIF(E52:CK52,$CZ$2) -> 0 | DA52: =COUNTIF(E52:CK52,$DA$2) -> 1 | DB52: =COUNTIF(E52:CK52,$DB$2) -> 0 | DC52: =COUNTIF(E52:CK52,$DC$2) -> 0 | DD52: =COUNTIF(E52:CK52,$DD$2) -> 0 | DF52: =IF(C52=$DF$2,COUNTIF(E52:CK52,1),"" ) -> 6 | DG52: =IF(C52=$DG$2,COUNTIF(E52:CK52,1),"" )
A53: 92 | B53: Porsche | C53: Pro | D53: Porsche GT Team | M53: 4 | N53: 4 | O53: 1 | P53: 4 | Q53: 4 | R53: 4 | S53: 6 | T53: 4 | U53: 1 | V53: 6 | W53: 2 | X53: 2 | Y53: 6 | Z53: 1 | AA53: 5 | AB53: 2 | AC53: 7 | AD53: 2 | AE53: Ret | AF53: 2 | AG53: 2 | AH53: 2 | AI53: 3 | AJ53: 1 | AT53: Ret | AU53: 6 | AV53: Ret | AW53: 3 | AX53: 5 | AY53: 2 | AZ53: 3 | BA53: Ret | BB53: Ret | BC53: 2 | BD53: 1 | BE53: 3 | BF53: 1 | BG53: 3 | BH53: 5 | BI53: 3 | BJ53: 5 | BK53: 2 | BL53: 2 | BM53: 2 | BN53: 7 | BO53: 2 | BP53: 1 | BQ53: 11 | BR53: 1 | BS53: 1 | BT53: 3 | BU53: 1 | BV53: 2 | BW53: 1 | BX53: 2 | BY53: 1 | BZ53: 2 | CA53: 4 | CB53: 4 | CC53: 3 | CD53: 3 | CL53: =AVERAGE(E53:CK53) -> 3.0714286 | CM53: =_xlfn.STDEV.S(E53:CK53) -> 1.9987009 | CN53: =COUNT(E53:CK53) -> 56 | CO53: =CQ53/CN53 -> 0.21428571 | CQ53: =COUNTIF(E53:CK53,$CQ$2) -> 12 | CR53: =COUNTIF(E53:CK53,$CR$2) -> 16 | CS53: =COUNTIF(E53:CK53,$CS$2) -> 9 | CT53: =COUNTIF(E53:CK53,$CT$2) -> 8 | CU53: =COUNTIF(E53:CK53,$CU$2) -> 4 | CV53: =COUNTIF(E53:CK53,$CV$2) -> 4 | CW53: =COUNTIF(E53:CK53,$CW$2) -> 2 | CX53: =COUNTIF(E53:CK53,$CX$2) -> 0 | CY53: =COUNTIF(E53:CK53,$CY$2) -> 0 | CZ53: =COUNTIF(E53:CK53,$CZ$2) -> 0 | DA53: =COUNTIF(E53:CK53,$DA$2) -> 5 | DB53: =COUNTIF(E53:CK53,$DB$2) -> 0 | DC53: =COUNTIF(E53:CK53,$DC$2) -> 0 | DD53: =COUNTIF(E53:CK53,$DD$2) -> 0 | DF53: =IF(C53=$DF$2,COUNTIF(E53:CK53,1),"" ) -> 12 | DG53: =IF(C53=$DG$2,COUNTIF(E53:CK53,1),"" )
A54: 95 | B54: Aston Martin | C54: Am | D54: Aston Martin Racing | M54: 1 | N54: 2 | O54: Ret | P54: Ret | Q54: 2 | R54: 1 | S54: Ret | T54: 1 | U54: 1 | V54: 2 | W54: 1 | X54: 2 | Y54: 1 | Z54: 2 | AA54: 1 | AB54: 2 | CL54: =AVERAGE(E54:CK54) -> 1.4615385 | CM54: =_xlfn.STDEV.S(E54:CK54) -> 0.51887452 | CN54: =COUNT(E54:CK54) -> 13 | CO54: =CQ54/CN54 -> 0.53846154 | CQ54: =COUNTIF(E54:CK54,$CQ$2) -> 7 | CR54: =COUNTIF(E54:CK54,$CR$2) -> 6 | CS54: =COUNTIF(E54:CK54,$CS$2) -> 0 | CT54: =COUNTIF(E54:CK54,$CT$2) -> 0 | CU54: =COUNTIF(E54:CK54,$CU$2) -> 0 | CV54: =COUNTIF(E54:CK54,$CV$2) -> 0 | CW54: =COUNTIF(E54:CK54,$CW$2) -> 0 | CX54: =COUNTIF(E54:CK54,$CX$2) -> 0 | CY54: =COUNTIF(E54:CK54,$CY$2) -> 0 | CZ54: =COUNTIF(E54:CK54,$CZ$2) -> 0 | DA54: =COUNTIF(E54:CK54,$DA$2) -> 3 | DB54: =COUNTIF(E54:CK54,$DB$2) -> 0 | DC54: =COUNTIF(E54:CK54,$DC$2) -> 0 | DD54: =COUNTIF(E54:CK54,$DD$2) -> 0 | DF54: =IF(C54=$DF$2,COUNTIF(E54:CK54,1),"" ) | DG54: =IF(C54=$DG$2,COUNTIF(E54:CK54,1),"" ) -> 7
A55: 95 | B55: Aston Martin | C55: Pro | D55: Aston Martin Racing | AC55: 4 | AD55: 6 | AE55: 3 | AF55: 4 | AG55: 5 | AH55: 5 | AJ55: 4 | AK55: 3 | AL55: Ret | AM55: 2 | AN55: 3 | AO55: 3 | AP55: 1 | AQ55: 5 | AR55: 4 | AS55: 1 | AT55: 6 | AU55: 8 | AV55: 5 | AW55: 4 | AX55: 1 | AY55: 4 | AZ55: 7 | BA55: 5 | BB55: 7 | BC55: 7 | BD55: 5 | BE55: 17 | BF55: 6 | BG55: 1 | BH55: 9 | BI55: 7 | BJ55: Ret | BK55: 5 | BL55: 1 | BM55: 5 | BN55: 1 | BO55: 1 | BP55: 2 | BQ55: 3 | BR55: 5 | CL55: =AVERAGE(E55:CK55) -> 4.4871795 | CM55: =_xlfn.STDEV.S(E55:CK55) -> 2.9635664 | CN55: =COUNT(E55:CK55) -> 39 | CO55: =CQ55/CN55 -> 0.17948718 | CQ55: =COUNTIF(E55:CK55,$CQ$2) -> 7 | CR55: =COUNTIF(E55:CK55,$CR$2) -> 2 | CS55: =COUNTIF(E55:CK55,$CS$2) -> 5 | CT55: =COUNTIF(E55:CK55,$CT$2) -> 6 | CU55: =COUNTIF(E55:CK55,$CU$2) -> 9 | CV55: =COUNTIF(E55:CK55,$CV$2) -> 3 | CW55: =COUNTIF(E55:CK55,$CW$2) -> 4 | CX55: =COUNTIF(E55:CK55,$CX$2) -> 1 | CY55: =COUNTIF(E55:CK55,$CY$2) -> 1 | CZ55: =COUNTIF(E55:CK55,$CZ$2) -> 0 | DA55: =COUNTIF(E55:CK55,$DA$2) -> 2 | DB55: =COUNTIF(E55:CK55,$DB$2) -> 0 | DC55: =COUNTIF(E55:CK55,$DC$2) -> 0 | DD55: =COUNTIF(E55:CK55,$DD$2) -> 0 | DF55: =IF(C55=$DF$2,COUNTIF(E55:CK55,1),"" ) -> 7 | DG55: =IF(C55=$DG$2,COUNTIF(E55:CK55,1),"" )
A56: 96 | B56: Aston Martin | C56: Am | D56: Aston Martin Racing | M56: 4 | N56: 4 | O56: 4 | P56: 1 | Q56: 1 | R56: 2 | S56: 3 | T56: 5 | AC56: 4 | AD56: 6 | AE56: Ret | AF56: 7 | AG56: 6 | AH56: 7 | AI56: 6 | AJ56: 7 | CL56: =AVERAGE(E56:CK56) -> 4.4666667 | CM56: =_xlfn.STDEV.S(E56:CK56) -> 2.0655911 | CN56: =COUNT(E56:CK56) -> 15 | CO56: =CQ56/CN56 -> 0.13333333 | CQ56: =COUNTIF(E56:CK56,$CQ$2) -> 2 | CR56: =COUNTIF(E56:CK56,$CR$2) -> 1 | CS56: =COUNTIF(E56:CK56,$CS$2) -> 1 | CT56: =COUNTIF(E56:CK56,$CT$2) -> 4 | CU56: =COUNTIF(E56:CK56,$CU$2) -> 1 | CV56: =COUNTIF(E56:CK56,$CV$2) -> 3 | CW56: =COUNTIF(E56:CK56,$CW$2) -> 3 | CX56: =COUNTIF(E56:CK56,$CX$2) -> 0 | CY56: =COUNTIF(E56:CK56,$CY$2) -> 0 | CZ56: =COUNTIF(E56:CK56,$CZ$2) -> 0 | DA56: =COUNTIF(E56:CK56,$DA$2) -> 1 | DB56: =COUNTIF(E56:CK56,$DB$2) -> 0 | DC56: =COUNTIF(E56:CK56,$DC$2) -> 0 | DD56: =COUNTIF(E56:CK56,$DD$2) -> 0 | DF56: =IF(C56=$DF$2,COUNTIF(E56:CK56,1),"" ) | DG56: =IF(C56=$DG$2,COUNTIF(E56:CK56,1),"" ) -> 2
A57: 97 | B57: Aston Martin | C57: Pro | D57: Aston Martin Racing | E57: 3 | F57: Ret | G57: 3 | H57: 2 | I57: 2 | J57: 2 | K57: 3 | L57: 1 | M57: 1 | N57: 3 | O57: 3 | P57: 2 | Q57: Ret | R57: 1 | S57: 1 | T57: Ret | U57: 3 | V57: 4 | W57: 3 | X57: 1 | Y57: 5 | Z57: Ret | AA57: 2 | AB57: 1 | AC57: 5 | AD57: 5 | AE57: Ret | AF57: 6 | AG57: 6 | AH57: 6 | AI57: 6 | AJ57: 3 | AK57: Ret | AL57: 3 | AM57: 3 | AN57: 5 | AO57: 1 | AP57: 5 | AQ57: 6 | AR57: Ret | AS57: 5 | AT57: 7 | AU57: 7 | AV57: 1 | AW57: 7 | AX57: Ret | AY57: 5 | AZ57: 6 | BA57: 7 | BB57: 6 | BC57: 6 | BD57: 13 | BE57: 4 | BF57: 9 | BG57: 4 | BH57: 8 | BI57: 1 | BJ57: 14 | BK57: 3 | BL57: 3 | BM57: 4 | BN57: 3 | BO57: 4 | BP57: 3 | BQ57: 1 | BR57: 4 | CL57: =AVERAGE(E57:CK57) -> 4.1551724 | CM57: =_xlfn.STDEV.S(E57:CK57) -> 2.7132018 | CN57: =COUNT(E57:CK57) -> 58 | CO57: =CQ57/CN57 -> 0.17241379 | CQ57: =COUNTIF(E57:CK57,$CQ$2) -> 10 | CR57: =COUNTIF(E57:CK57,$CR$2) -> 5 | CS57: =COUNTIF(E57:CK57,$CS$2) -> 14 | CT57: =COUNTIF(E57:CK57,$CT$2) -> 6 | CU57: =COUNTIF(E57:CK57,$CU$2) -> 7 | CV57: =COUNTIF(E57:CK57,$CV$2) -> 8 | CW57: =COUNTIF(E57:CK57,$CW$2) -> 4 | CX57: =COUNTIF(E57:CK57,$CX$2) -> 1 | CY57: =COUNTIF(E57:CK57,$CY$2) -> 1 | CZ57: =COUNTIF(E57:CK57,$CZ$2) -> 0 | DA57: =COUNTIF(E57:CK57,$DA$2) -> 8 | DB57: =COUNTIF(E57:CK57,$DB$2) -> 0 | DC57: =COUNTIF(E57:CK57,$DC$2) -> 0 | DD57: =COUNTIF(E57:CK57,$DD$2) -> 0 | DF57: =IF(C57=$DF$2,COUNTIF(E57:CK57,1),"" ) -> 10 | DG57: =IF(C57=$DG$2,COUNTIF(E57:CK57,1),"" )
A58: 98 | B58: Aston Martin | C58: Am | D58: Aston Martin Racing | U58: 2 | V58: 3 | W58: 5 | X58: 1 | Y58: 2 | Z58: 1 | AA58: 3 | AB58: 1 | AC58: 1 | AD58: 1 | AE58: NC | AF58: 2 | AG58: 5 | AH58: 2 | AI58: 2 | AJ58: 1 | AK58: 2 | AL58: 1 | AM58: Ret | AN58: 1 | AO58: Ret | AP58: 1 | AQ58: 1 | AR58: 1 | AS58: Ret | AT58: 2 | AU58: 1 | AV58: 3 | AW58: 3 | AX58: 2 | AY58: 1 | AZ58: 5 | BA58: 1 | BB58: 1 | BC58: 1 | BD58: Ret | BE58: 4 | BF58: 3 | BG58: 5 | BH58: 8 | BI58: 6 | BJ58: Ret | BK58: 2 | BL58: 11 | BM58: 3 | BN58: 2 | BO58: 2 | BP58: 9 | BQ58: 6 | BR58: 9 | BS58: 6 | BT58: 4 | BU58: 2 | BV58: Ret | BW58: 4 | BX58: 10 | BY58: 1 | BZ58: 3 | CA58: 2 | CB58: 8 | CC58: 5 | CD58: 5 | CE58: 11 | CF58: 13 | CG58: 7 | CH58: 6 | CJ58: 7 | CK58: 3 | CL58: =AVERAGE(E58:CK58) -> 3.704918 | CM58: =_xlfn.STDEV.S(E58:CK58) -> 3.0129955 | CN58: =COUNT(E58:CK58) -> 61 | CO58: =CQ58/CN58 -> 0.27868852 | CQ58: =COUNTIF(E58:CK58,$CQ$2) -> 17 | CR58: =COUNTIF(E58:CK58,$CR$2) -> 13 | CS58: =COUNTIF(E58:CK58,$CS$2) -> 8 | CT58: =COUNTIF(E58:CK58,$CT$2) -> 3 | CU58: =COUNTIF(E58:CK58,$CU$2) -> 6 | CV58: =COUNTIF(E58:CK58,$CV$2) -> 4 | CW58: =COUNTIF(E58:CK58,$CW$2) -> 2 | CX58: =COUNTIF(E58:CK58,$CX$2) -> 2 | CY58: =COUNTIF(E58:CK58,$CY$2) -> 2 | CZ58: =COUNTIF(E58:CK58,$CZ$2) -> 1 | DA58: =COUNTIF(E58:CK58,$DA$2) -> 6 | DB58: =COUNTIF(E58:CK58,$DB$2) -> 1 | DC58: =COUNTIF(E58:CK58,$DC$2) -> 0 | DD58: =COUNTIF(E58:CK58,$DD$2) -> 0 | DF58: =IF(C58=$DF$2,COUNTIF(E58:CK58,1),"" ) | DG58: =IF(C58=$DG$2,COUNTIF(E58:CK58,1),"" ) -> 17
A59: 99 | B59: Aston Martin | C59: Pro | D59: Aston Martin Racing | M59: 3 | N59: 5 | O59: Ret | P59: Ret | Q59: 1 | R59: 6 | S59: 2 | T59: Ret | U59: 7 | V59: 5 | W59: WD | X59: 6 | Y59: 3 | Z59: 4 | AA59: 6 | AB59: 5 | AC59: 6 | AD59: 1 | AE59: 5 | AF59: 5 | AG59: 4 | AH59: 7 | AI59: 5 | AJ59: 7 | CL59: =AVERAGE(E59:CK59) -> 4.65 | CM59: =_xlfn.STDEV.S(E59:CK59) -> 1.8431952 | CN59: =COUNT(E59:CK59) -> 20 | CO59: =CQ59/CN59 -> 0.1 | CQ59: =COUNTIF(E59:CK59,$CQ$2) -> 2 | CR59: =COUNTIF(E59:CK59,$CR$2) -> 1 | CS59: =COUNTIF(E59:CK59,$CS$2) -> 2 | CT59: =COUNTIF(E59:CK59,$CT$2) -> 2 | CU59: =COUNTIF(E59:CK59,$CU$2) -> 6 | CV59: =COUNTIF(E59:CK59,$CV$2) -> 4 | CW59: =COUNTIF(E59:CK59,$CW$2) -> 3 | CX59: =COUNTIF(E59:CK59,$CX$2) -> 0 | CY59: =COUNTIF(E59:CK59,$CY$2) -> 0 | CZ59: =COUNTIF(E59:CK59,$CZ$2) -> 0 | DA59: =COUNTIF(E59:CK59,$DA$2) -> 3 | DB59: =COUNTIF(E59:CK59,$DB$2) -> 0 | DC59: =COUNTIF(E59:CK59,$DC$2) -> 1 | DD59: =COUNTIF(E59:CK59,$DD$2) -> 0 | DF59: =IF(C59=$DF$2,COUNTIF(E59:CK59,1),"" ) -> 2 | DG59: =IF(C59=$DG$2,COUNTIF(E59:CK59,1),"" )
A60: 777 | B60: Aston Martin | C60: Am | D60: D'station Racing | BS60: 7 | BT60: Ret | BU60: 3 | BV60: 5 | BW60: 10 | BX60: 7 | BY60: 6 | BZ60: 7 | CA60: Ret | CB60: 11 | CC60: 3 | CD60: 10 | CE60: 10 | CF60: NC | CG60: 10 | CH60: Ret | CI60: Ret | CJ60: 10 | CK60: 2 | CL60: =AVERAGE(E60:CK60) -> 7.2142857 | CM60: =_xlfn.STDEV.S(E60:CK60) -> 3.0679126 | CN60: =COUNT(E60:CK60) -> 14 | CO60: =CQ60/CN60 -> 0 | CQ60: =COUNTIF(E60:CK60,$CQ$2) -> 0 | CR60: =COUNTIF(E60:CK60,$CR$2) -> 1 | CS60: =COUNTIF(E60:CK60,$CS$2) -> 2 | CT60: =COUNTIF(E60:CK60,$CT$2) -> 0 | CU60: =COUNTIF(E60:CK60,$CU$2) -> 1 | CV60: =COUNTIF(E60:CK60,$CV$2) -> 1 | CW60: =COUNTIF(E60:CK60,$CW$2) -> 3 | CX60: =COUNTIF(E60:CK60,$CX$2) -> 0 | CY60: =COUNTIF(E60:CK60,$CY$2) -> 0 | CZ60: =COUNTIF(E60:CK60,$CZ$2) -> 5 | DA60: =COUNTIF(E60:CK60,$DA$2) -> 4 | DB60: =COUNTIF(E60:CK60,$DB$2) -> 1 | DC60: =COUNTIF(E60:CK60,$DC$2) -> 0 | DD60: =COUNTIF(E60:CK60,$DD$2) -> 0 | DF60: =IF(C60=$DF$2,COUNTIF(E60:CK60,1),"" ) | DG60: =IF(C60=$DG$2,COUNTIF(E60:CK60,1),"" ) -> 0
CP61: Total | CQ61: =SUM(CQ3:CQ60) -> 163 | CR61: =SUM(CR3:CR60) -> 163 | CS61: =SUM(CS3:CS60) -> 161 | CT61: =SUM(CT3:CT60) -> 151 | CU61: =SUM(CU3:CU60) -> 132 | CV61: =SUM(CV3:CV60) -> 107 | CW61: =SUM(CW3:CW60) -> 73 | CX61: =SUM(CX3:CX60) -> 45 | ... DD61: =SUM(DD3:DD60) -> 4
CP62: Ratio | CQ62: =SUM(CQ3:CQ60)/COUNT($E$3:$CK$60) -> 0.14913083 | CR62: =SUM(CR3:CR60)/COUNT($E$3:$CK$60) -> 0.14913083 | CS62: =SUM(CS3:CS60)/COUNT($E$3:$CK$60) -> 0.14730101 | CT62: =SUM(CT3:CT60)/COUNT($E$3:$CK$60) -> 0.13815188 | CU62: =SUM(CU3:CU60)/COUNT($E$3:$CK$60) -> 0.12076853 | CV62: =SUM(CV3:CV60)/COUNT($E$3:$CK$60) -> 0.0978957 | CW62: =SUM(CW3:CW60)/COUNT($E$3:$CK$60) -> 0.066788655 | CX62: =SUM(CX3:CX60)/COUNT($E$3:$CK$60) -> 0.041171089 | ... DD62: =SUM(DD3:DD60)/COUNT($E$3:$CK$60) -> 0.0036596523

Sheet allResultsELMS
E1: 2012 | H1: 2013 | M1: 2014 | R1: 2015 | W1: 2016 | AC1: 2017 | AI1: 2018 | AO1: 2019 | AU1: 2020 | AZ1: 2021 | BF1: 2022 | BL1: 2023
A2: Num | B2: Manu | C2: Class | D2: Team | E2: Ricard | F2: Donno | G2: Atlanta | H2: Silverstone | I2: Imola | J2: RBR | K2: Hungary | L2: Ricard | M2: Silverstone | N2: Imola | O2: RBR | P2: Ricard | Q2: Estoril | R2: Silverstone | S2: Imola | T2: RBR | U2: Ricard | V2: Estoril | W2: Silverstone | X2: Imola | Y2: RBR | Z2: Ricard | AA2: Spa | AB2: Estoril | AC2: Silverstone | AD2: Monza | AE2: RBR | AF2: Ricarc | AG2: Spa | AH2: Portimao | AI2: Ricard | AJ2: Monza | AK2: RBR | AL2: Silverstibe | AM2: Spa | AN2: Portimao | AO2: Ricard | AP2: Monza | AQ2: Barcelona | AR2: Silverstone | AS2: Spa | AT2: Portimao | AU2: Ricard | AV2: Spa | AW2: Ricard2 | AX2: Monza | AY2: Portimao | AZ2: Barcelona | BA2: RBR | BB2: Ricard | BC2: Monza | BD2: Spa | BE2: Portimao | BF2: Ricard | BG2: Imola | BH2: Monza | BI2: Barcelona | BJ2: Spa | BK2: Portimao | BL2: Barcelona | BM2: Ricard | BN2: Aragon | BO2: Spa | BP2: Portimao | BQ2: Portimao2
A3: 61 | B3: Ferrari | C3: Pro | D3: Kessel Racing | E3: 3
A4: 66 | B4: Ferrari | C4: Pro | D4: JMW Motorsport | E4: 1 | F4: 1
A5: 83 | B5: Ferrari | C5: Pro | D5: JMB Racing | E5: 2
A6: 60 | B6: Ferrari | C6: Am | D6: AF Corse | E6: 5 | F6: 2 | G6: Ret
A7: 67 | B7: Porsche | C7: Am | D7: IMSA Performance Matmit | E7: 2 | F7: 1 | G7: 1
A8: 69 | B8: Aston Martin | C8: Am | D8: Gulf Racing | E8: 4
A9: 75 | B9: Porsche | C9: Am | D9: Prospeed Competition | E9: 1
A10: 99 | B10: Ferrari | C10: Am | D10: JMB Racing | E10: 3
A11: 52 | B11: Ferrari | C11: Am | D11: RAM Racing | H11: 2 | I11: 1 | J11: 1 | K11: 2 | L11: 1
A12: 77 | B12: Porsche | C12: Am | D12: Proton Competition | H12: 1 | I12: 5 | J12: 8 | K12: 1 | L12: 3
A13: 55 | B13: Ferrari | C13: Am | D13: AF Corse | H13: 7 | I13: 2 | J13: 4 | K13: 3 | L13: 4
A14: 53 | B14: Ferrari | C14: Am | D14: RAM Racing | H14: 3 | I14: 3 | J14: 3 | K14: 6 | L14: 5
A15: 66 | B15: Ferrari | C15: Am | D15: JMW Motorsport | H15: 4 | I15: 4 | J15: 2 | K15: Ret | L15: 2
A16: 75 | B16: Porsche | C16: Am | D16: Prospeed Competition | H16: 5 | I16: Ret | J16: 5 | K16: 4 | L16: 6
A17: 67 | B17: Porsche | C17: Am | D17: IMSA Performance Matmit | H17: 6 | I17: 6 | J17: 7 | K17: 5 | L17: 7
A18: 54 | B18: Ferrari | C18: Am | D18: AF Corse | H18: 8 | I18: 7 | J18: 9 | K18: Ret | L18: 8
A19: 88 | B19: Porsche | C19: Am | D19: Proton Competition | J19: 6
A20: 72 | B20: Ferrari | C20: Am | D20: SMP Racing | M20: 2 | N20: 1 | O20: 6 | P20: 7 | Q20: 1
A21: 55 | B21: Ferrari | C21: Am | D21: AF Corse | M21: 1 | N21: 7 | O21: 1 | P21: 1 | Q21: 11
A22: 66 | B22: Ferrari | C22: Am | D22: JMW Motorsport | M22: 5 | N22: 3 | O22: 3 | P22: 3 | Q22: 3
A23: 56 | B23: Ferrari | C23: Am | D23: AT Racing | M23: 4 | N23: 4 | O23: 4 | P23: 2 | Q23: 6
A24: 54 | B24: Ferrari | C24: Am | D24: AF Corse | M24: 6 | N24: Ret | O24: 5 | P24: 4 | Q24: 2
A25: 81 | B25: Ferrari | C25: Am | D25: Kessel Racing | M25: 11 | N25: 2 | O25: 2 | P25: 9
A26: 76 | B26: Porsche | C26: Am | D26: IMSA Performance Matmut | M26: 3 | N26: 6 | O26: Ret | P26: 8 | Q26: 9
A27: 86 | B27: Aston Martin | C27: Am | D27: Gulf Racing UK | M27: 9 | N27: 8 | O27: 9 | P27: 6 | Q27: 4
A28: 85 | B28: Aston Martin | C28: Am | D28: Gulf Racing UK | M28: 11 | N28: 9 | O28: 7 | P28: 10 | Q28: 5
A29: 58 | B29: Ferrari | C29: Am | D29: Team Sofrev-ASP | M29: 7 | N29: 4 | O29: 10 | P29: Ret | Q29: Ret
A30: 80 | B30: Ferrari | C30: Am | D30: Kessel Racing | M30: 10 | N30: Ret | P30: 5 | Q30: 7
A31: 70 | B31: Ferrari | C31: Am | D31: AF Corse | O31: 8 | P31: Ret | Q31: 8
A32: 82 | B32: Porsche | C32: Am | D32: Crubile Sport | M32: 12 | N32: 10
A33: 67 | B33: Porsche | C33: Am | D33: IMSA Performance Matmut | M33: 11 | N33: 11 | O33: 11 | P33: 11 | Q33: 10
A34: 65 | B34: Ferrari | C34: Am | D34: AF Corse | N34: 11
A35: 77 | B35: Porsche | C35: Am | D35: Proton Competition | O35: 11
A36: 60 | B36: Ferrari | C36: Am | D36: Formula Racing | R36: 6 | S36: 3 | T36: 1 | U36: 1 | V36: 5
A37: 52 | B37: BMW | C37: Am | D37: BMW Sports Trophy Marc VDS | R37: 4 | S37: 4 | T37: 4 | U37: 2 | V37: 1
A38: 55 | B38: Ferrari | C38: Am | D38: AF Corse | R38: 3 | S38: 5 | T38: 2 | U38: 6 | V38: 4
A39: 86 | B39: Aston Martin | C39: Am | D39: Gulf Racing UK | R39: 1 | S39: 8 | T39: 7 | U39: 7 | V39: 3
A40: 56 | B40: Ferrari | C40: Am | D40: AT Racing | R40: 7 | S40: 1 | T40: 8 | U40: 5 | V40: 6
A41: 88 | B41: Porsche | C41: Am | D41: Proton Competition | R41: 5 | S41: 2 | T41: 5 | U41: 4 | V41: 8
A42: 66 | B42: Ferrari | C42: Am | D42: JMW Motorsport | R42: 2 | S42: 6 | T42: 6 | U42: 3 | V42: Ret
A43: 51 | B43: Ferrari | C43: Am | D43: AF Corse | R43: Ret | S43: 7 | T43: 3 | U43: Ret | V43: 7
A44: 99 | B44: Aston Martin | C44: Am | D44: Aston Martin Racing | V44: 2
A45: 81 | B45: Ferrari | C45: Am | D45: AF Corse | R45: Ret | W45: 1 | X45: 5 | Y45: 4 | Z45: 3 | AA45: 5 | AB45: 1
A46: 99 | B46: Aston Martin | C46: Am | D46: Aston Martin Racing | W46: DSQ | X46: 2 | Y46: 1 | Z46: 1 | AA46: 1 | AB46: Ret
A47: 66 | B47: Ferrari | C47: Am | D47: JMW Motorsport | W47: 2 | X47: 3 | Y47: 3 | Z47: 4 | AA47: Ret | AB47: 2
A48: 56 | B48: Ferrari | C48: Am | D48: AT Racing | W48: 8 | X48: 1 | Y48: 6 | Z48: 6 | AA48: 4 | AB48: 6
A49: 77 | B49: Porsche | C49: Am | D49: Proton Competition | W49: 4 | X49: 6 | Y49: 8 | Z49: 5 | AA49: 3 | AB49: 3
A50: 55 | B50: Ferrari | C50: Am | D50: AF Corse | W50: 6 | X50: 4 | Y50: 5 | Z50: Ret | AA50: 2 | AB50: 5
A51: 88 | B51: Porsche | C51: Am | D51: Proton Competition | W51: 7 | X51: 7 | Y51: 2 | Z51: Ret | AA51: 6 | AB51: 4
A52: 51 | B52: Ferrari | C52: Am | D52: AF Corse | W52: 5 | X52: DNS | Y52: 7 | Z52: 2 | AA52: 7 | AB52: Ret
A53: 60 | B53: Ferrari | C53: Am | D53: Formula Racing | W53: 3
A54: 66 | B54: Ferrari | C54: Am | D54: JMW Motorsport | AC54: 5 | AD54: 1 | AE54: 2 | AF54: 3 | AG54: 2 | AH54: 2
A55: 90 | B55: Aston Martin | C55: Am | D55: TF Sport | AC55: 1 | AD55: 2 | AE55: 3 | AF55: 2 | AG55: 5 | AH55: 3
A56: 77 | B56: Porsche | C56: Am | D56: Proton Competition | AC56: 2 | AD56: 5 | AE56: 5 | AF56: 6 | AG56: 6 | AH56: 1
A57: 55 | B57: Ferrari | C57: Am | D57: Spirit Of Race | AC57: 4 | AD57: Ret | AE57: 1 | AF57: 1 | AG57: 4 | AH57: Ret
A58: 99 | B58: Aston Martin | C58: Am | D58: Beechdean AMR | AC58: 3 | AD58: 3 | AE58: 6 | AF58: 5 | AG58: 3 | AH58: 4
A59: 51 | B59: Ferrari | C59: Am | D59: Spirit Of Race | AC59: 6 | AD59: 4 | AE59: 4 | AF59: 4 | AG59: 1 | AH59: Ret
A60: 50 | B60: Corvette | C60: Am | D60: Larbre Compétition | AD60: 6
A61: 88 | B61: Porsche | C61: Am | D61: Proton Competition | AI61: 2 | AJ61: 5 | AK61: 1 | AL61: 2 | AM61: 3 | AN61: 3
A62: 66 | B62: Ferrari | C62: Am | D62: JMW Motorsport | AI62: 1 | AJ62: 4 | AK62: Ret | AL62: 1 | AM62: 4 | AN62: 2
A63: 77 | B63: Porsche | C63: Am | D63: Proton Competition | AI63: 5 | AJ63: 2 | AK63: 4 | AL63: 4 | AM63: 5 | AN63: 1
A64: 55 | B64: Ferrari | C64: Am | D64: Spirit of Race | AI64: Ret | AJ64: 1 | AK64: 2 | AL64: 3 | AM64: 2 | AN64: 4
A65: 80 | B65: Porsche | C65: Am | D65: EbiMotors | AI65: 3 | AJ65: 3 | AK65: 3 | AL65: Ret | AM65: 1 | AN65: Ret
A66: 83 | B66: Ferrari | C66: Am | D66: Krohn Racing | AI66: 4 | AJ66: 6 | AK66: 5 | AL66: 6 | AM66: Ret | AN66: 4
A67: 86 | B67: Porsche | C67: Am | D67: Gulf Racing | AI67: Ret | AL67: 5
A68: 54 | B68: Ferrari | C68: Am | D68: Spirit of Race | AI68: 6
A69: 51 | B69: Ferrari | C69: Am | D69: Luzich Racing | AO69: 1 | AP69: 3 | AQ69: 1 | AR69: 4 | AS69: 1 | AT69: 1
A70: 77 | B70: Porsche | C70: Am | D70: Dempsey-Proton Racing | AO70: 3 | AP70: 1 | AQ70: 6 | AR70: 7 | AS70: 2 | AT70: Ret
A71: 66 | B71: Ferrari | C71: Am | D71: JMW Motorsport | AO71: 4 | AP71: 2 | AQ71: 2 | AR71: 6 | AS71: 6 | AT71: 5
A72: 83 | B72: Ferrari | C72: Am | D72: Kessel Racing | AO72: 2 | AP72: 6 | AQ72: 4 | AR72: 2 | AS72: 4 | AT72: Ret
A73: 55 | B73: Ferrari | C73: Am | D73: Spirit of Race | AO73: 5 | AP73: 7 | AQ73: 3 | AR73: 5 | AS73: 3 | AT73: 4
A74: 60 | B74: Ferrari | C74: Am | D74: Kessel Racing | AO74: 9 | AP74: Ret | AQ74: 8 | AR74: 3 | AS74: 4 | AT74: 2
A75: 80 | B75: Porsche | C75: Am | D75: EbiMotors | AO75: 6 | AP75: 5 | AQ75: 7 | AT75: 3
A76: 88 | B76: Porsche | C76: Am | D76: Proton Competition | AO76: 7 | AP76: WD | AR76: 1 | AS76: WD | AT76: Ret
A77: 56 | B77: Porsche | C77: Am | D77: Team Project 1 | AO77: 8 | AP77: 4 | AQ77: 5
A78: 77 | B78: Porsche | C78: Am | D78: Proton Competition | AU78: 1 | AV78: 6 | AW78: 2 | AX78: 2 | AY78: 1
A79: 74 | B79: Ferrari | C79: Am | D79: Kessel Racing | AU79: 2 | AV79: 1 | AW79: 4 | AX79: 1 | AY79: 2
A80: 55 | B80: Ferrari | C80: Am | D80: Spirit of Race | AU80: Ret | AV80: 5 | AW80: 1 | AX80: 4 | AY80: 5
A81: 83 | B81: Ferrari | C81: Am | D81: Iron Lynx | AU81: 3 | AV81: 8 | AW81: 3 | AX81: 3 | AY81: 6
A82: 93 | B82: Porsche | C82: Am | D82: Proton Competition | AU82: 7 | AV82: 4 | AW82: DNS | AX82: 5 | AY82: 4
A83: 66 | B83: Ferrari | C83: Am | D83: JMW Motorsport | AU83: 4 | AV83: 9 | AW83: 7 | AX83: 6 | AY83: 7
A84: 60 | B84: Ferrari | C84: Am | D84: Iron Lynx | AU84: 6 | AV84: Ret | AW84: 5 | AX84: Ret | AY84: 3
A85: 51 | B85: Ferrari | C85: Am | D85: AF Corse | AU85: 5 | AV85: 7 | AW85: 6 | AY85: Ret
A86: 88 | B86: Ferrari | C86: Am | D86: AF Corse | AV86: 2 | AY86: 8
A87: 98 | B87: Aston Martin | C87: Am | D87: Aston Martin Racing | AU87: Ret | AV87: 3
A88: 54 | B88: Ferrari | C88: Am | D88: AF Corse | AV88: Ret
A89: 86 | B89: Porsche | C89: Am | D89: Gulf Racing UK | AY89: Ret
A90: 62 | B90: Ferrari | C90: Am | D90: Red River Sport | AV90: DNS
A91: 80 | B91: Ferrari | C91: Am | D91: Iron Lynx | AZ91: 1 | BA91: 3 | BB91: 1 | BC91: 2 | BD91: 2 | BE91: 1
A92: 55 | B92: Ferrari | C92: Am | D92: Spirit of Race | AZ92: 3 | BA92: 2 | BB92: 2 | BC92: 1 | BD92: NC | BE92: 4
A93: 88 | B93: Ferrari | C93: Am | D93: AF Corse | AZ93: WD | BA93: 1 | BB93: 3 | BC93: 3 | BD93: 1 | BE93: 10
A94: 93 | B94: Porsche | C94: Am | D94: Proton Competition | AZ94: 6 | BA94: 4 | BB94: 8 | BC94: 7 | BD94: 4 | BE94: 2
A95: 77 | B95: Porsche | C95: Am | D95: WeatherTech Racing | AZ95: 2 | BA95: 6 | BB95: 4 | BC95: 9 | BD95: 7 | BE95: 5
A96: 66 | B96: Ferrari | C96: Am | D96: JMW Motorsport | AZ96: 7 | BA96: 5 | BB96: 6 | BC96: 4 | BD96: 6 | BE96: 6
A97: 83 | B97: Ferrari | C97: Am | D97: Iron Lynx | AZ97: 4 | BA97: NC | BB97: NC | BC97: 6 | BD97: 3 | BE97: 3
A98: 60 | B98: Ferrari | C98: Am | D98: Iron Lynx | AZ98: 5 | BA98: 7 | BB98: 5 | BC98: 5 | BD98: 5 | BE98: 8
A99: 95 | B99: Aston Martin | C99: Am | D99: TF Sport | AZ99: 8 | BA99: 8 | BB99: 7 | BC99: 8 | BD99: 8 | BE99: 7
A100: 61 | B100: Ferrari | C100: Am | D100: AF Corse | BE100: 9
...

Sheet sortingELMS
E1: 2012 | H1: 2013 | M1: 2014 | R1: 2015 | W1: 2016 | AC1: 2017 | AI1: 2018 | AO1: 2019 | AU1: 2020 | AZ1: 2021 | BF1: 2022 | BL1: 2023 | BR1: Stats | BW1: Number of Specified Results | CL1: Wins | CX1: Number of Result by Manu
A2: Num | B2: Manu | C2: Class | D2: Team | E2: Ricard | F2: Donno | G2: Atlanta | H2: Silverstone | I2: Imola | J2: RBR | K2: Hungary | L2: Ricard | M2: Silverstone | N2: Imola | O2: RBR | P2: Ricard | Q2: Estoril | R2: Silverstone | S2: Imola | T2: RBR | U2: Ricard | V2: Estoril | W2: Silverstone | X2: Imola | Y2: RBR | Z2: Ricard | AA2: Spa | AB2: Estoril | AC2: Silverstone | AD2: Monza | AE2: RBR | AF2: Ricarc | AG2: Spa | AH2: Portimao | AI2: Ricard | AJ2: Monza | AK2: RBR | AL2: Silverstibe | AM2: Spa | AN2: Portimao | AO2: Ricard | AP2: Monza | AQ2: Barcelona | AR2: Silverstone | AS2: Spa | AT2: Portimao | AU2: Ricard | AV2: Spa | AW2: Ricard2 | AX2: Monza | AY2: Portimao | AZ2: Barcelona | BA2: RBR | BB2: Ricard | BC2: Monza | BD2: Spa | BE2: Portimao | BF2: Ricard | BG2: Imola | BH2: Monza | BI2: Barcelona | BJ2: Spa | BK2: Portimao | BL2: Barcelona | BM2: Ricard | BN2: Aragon | BO2: Spa | BP2: Portimao | BQ2: Portimao2 | BR2: avg | BS2: std | BT2: entries | BU2: fracWin | BW2: 1 | BX2: 2 | BY2: 3 | BZ2: 4 | CA2: 5 | CB2: 6 | CC2: 7 | CD2: 8 | CE2: 9 | CF2: 10 | CG2: Ret | CH2: NC | CI2: WD | CJ2: DNS | CL2: Pro | CM2: Am | CO2: Manufacturer | CP2: entries | CQ2: Pro | CR2: Am | CS2: Total | CT2: Podiums | CU2: AvgFinish | CV2: stdFinish | CX2: Manufacturer | CY2: 1 | CZ2: 2 | DA2: 3 | DB2: 4 | DC2: 5 | DD2: 6 | DE2: 7 | DF2: 8 | DG2: 9 | DH2: 10 | DI2: Ret | DJ2: NC | DK2: WD | DL2: DNS | DN2: Team | DO2: totEntries | DP2: Wins | DQ2: fracWin | DR2: Podiums | DS2: nunCars
A3: 16 | B3: Porsche | C3: Am | D3: Proton Competition | BL3: 1 | BM3: 9 | BN3: 2 | BO3: 3 | BP3: 2 | BQ3: 1 | BR3: =AVERAGE(E3:BQ3) -> 3 | BS3: =_xlfn.STDEV.S(E3:BQ3) -> 3.0331502 | BT3: =COUNT(E3:BQ3) -> 6 | BU3: =BW3/BT3 -> 0.33333333 | BW3: =COUNTIF(E3:BQ3,$BW$2) -> 2 | BX3: =COUNTIF(E3:BQ3,$BX$2) -> 2 | BY3: =COUNTIF(E3:BQ3,$BY$2) -> 1 | BZ3: =COUNTIF(E3:BQ3,$CA$2) -> 0 | CA3: =COUNTIF(E3:BQ3,$CB$2) -> 0 | CB3: =COUNTIF(E3:BQ3,$CB$2) -> 0 | CC3: =COUNTIF(E3:BQ3,$CC$2) -> 0 | CD3: =COUNTIF(E3:BQ3,$CD$2) -> 0 | CE3: =COUNTIF(E3:BQ3,$CE$2) -> 1 | CF3: =COUNTIF(E3:BQ3,$CF$2) -> 0 | CG3: =COUNTIF(E3:BQ3,$CG$2) -> 0 | CH3: =COUNTIF(E3:BQ3,$CH$2) -> 0 | CI3: =COUNTIF(E3:BQ3,$CI$2) -> 0 | CJ3: =COUNTIF(E3:BQ3,$CJ$2) -> 0 | CL3: =IF(C3=$CL$2,COUNTIF(E3:BQ3,1),"" ) | CM3: =IF(C3=$CM$2,COUNTIF(E3:BQ3,1),"" ) -> 2 | CO3: =sortingWEC!DI3 -> Aston Martin | CP3: =SUMIF($B$3:$B$100,CO3,$BT$3:$BT$100) -> 55 | CQ3: =SUMIF($B$3:$B$100,CO3,$CL$3:$CL$100) -> 0 | CR3: =SUMIF($B$3:$B$100,CO3,$CM$3:$CM$100) -> 5 | CS3: =SUM(CQ3:CR3) -> 5 | CT3: =SUM(CY3:DA3) -> 18 | CU3: =SUMIF($B$3:$B$1000,CO3,$BR$3:$BR$100)/COUNTIF($B$3:$B$100,CO3) -> 5.2046078 | CV3: =SUMIF($B$3:$B$100,CO3,$BS$3:$BS$100)/COUNTIF($B$3:$B$100,CO3) -> 1.7270015 | CX3: =CO3 -> Aston Martin | CY3: =SUMIF($B$3:$B$100,CX3,$BW$3:$BW$100) -> 5 | CZ3: =SUMIF($B$3:$B$100,CX3,$BX$3:$BX$100) -> 6 | DA3: =SUMIF($B$3:$B$100,CX3,$BY$3:$BY$100) -> 7 | DB3: =SUMIF($B$3:$B$100,CX3,$BZ$3:$BZ$100) -> 5 | DC3: =SUMIF($B$3:$B$100,CX3,$CA$3:$CA$100) -> 4 | DD3: =SUMIF($B$3:$B$100,CX3,$CB$3:$CB$100) -> 4 | DE3: =SUMIF($B$3:$B$100,CX3,$CC$3:$CC$100) -> 5 | DF3: =SUMIF($B$3:$B$100,CX3,$CD$3:$CD$100) -> 7 | DG3: =SUMIF($B$3:$B$100,CX3,$CE$3:$CE$100) -> 4 | DH3: =SUMIF($B$3:$B$100,CX3,$CF$3:$CF$100) -> 5 | DI3: =SUMIF($B$3:$B$100,CX3,$CG$3:$CG$100) -> 7 | DJ3: =SUMIF($B$3:$B$100,CX3,$CH$3:$CH$100) -> 0 | DK3: =SUMIF($B$3:$B$100,CX3,$CI$3:$CI$100) -> 0 | DL3: =SUMIF($B$3:$B$100,CX3,$CJ$3:$CJ$100) -> 0 | DN3: {=_xlfn._xlws.SORT(_xlfn.UNIQUE(D3:D65))} -> Absolute Racing | DO3: =SUMIF($D$3:$D$100,DN3,$BT$3:$BT$100) -> 5 | DP3: =SUMIF($D$3:$D$100,DN3,$BW$3:$BW$100) -> 0 | DQ3: =DP3/DO3 -> 0 | DR3: =SUMIF($D$3:$D$100,DN3,$BX$3:$BX$100)+SUMIF($D$3:$D$100,DN3,$BY$3:$BY$100)+DP3 -> 1 | DS3: =COUNTIF($D$3:$D$100,DN3) -> 1
A4: 18 | B4: Porsche | C4: Am | D4: Absolute Racing | BF4: 8 | BG4: Ret | BH4: 4 | BI4: 5 | BJ4: 3 | BK4: 6 | BR4: =AVERAGE(E4:BQ4) -> 5.2 | BS4: =_xlfn.STDEV.S(E4:BQ4) -> 1.9235384 | BT4: =COUNT(E4:BQ4) -> 5 | BU4: =BW4/BT4 -> 0 | BW4: =COUNTIF(E4:BQ4,$BW$2) -> 0 | BX4: =COUNTIF(E4:BQ4,$BX$2) -> 0 | BY4: =COUNTIF(E4:BQ4,$BY$2) -> 1 | BZ4: =COUNTIF(E4:BQ4,$CA$2) -> 1 | CA4: =COUNTIF(E4:BQ4,$CB$2) -> 1 | CB4: =COUNTIF(E4:BQ4,$CB$2) -> 1 | CC4: =COUNTIF(E4:BQ4,$CC$2) -> 0 | CD4: =COUNTIF(E4:BQ4,$CD$2) -> 1 | CE4: =COUNTIF(E4:BQ4,$CE$2) -> 0 | CF4: =COUNTIF(E4:BQ4,$CF$2) -> 0 | CG4: =COUNTIF(E4:BQ4,$CG$2) -> 1 | CH4: =COUNTIF(E4:BQ4,$CH$2) -> 0 | CI4: =COUNTIF(E4:BQ4,$CI$2) -> 0 | CJ4: =COUNTIF(E4:BQ4,$CJ$2) -> 0 | CL4: =IF(C4=$CL$2,COUNTIF(E4:BQ4,1),"" ) | CM4: =IF(C4=$CM$2,COUNTIF(E4:BQ4,1),"" ) -> 0 | CO4: =sortingWEC!DI4 -> BMW | CP4: =SUMIF($B$3:$B$100,CO4,$BT$3:$BT$100) -> 5 | CQ4: =SUMIF($B$3:$B$100,CO4,$CL$3:$CL$100) -> 0 | CR4: =SUMIF($B$3:$B$100,CO4,$CM$3:$CM$100) -> 1 | CS4: =SUM(CQ4:CR4) -> 1 | CT4: =SUM(CY4:DA4) -> 2 | CU4: =SUMIF($B$3:$B$1000,CO4,$BR$3:$BR$100)/COUNTIF($B$3:$B$100,CO4) -> 3 | CV4: =SUMIF($B$3:$B$100,CO4,$BS$3:$BS$100)/COUNTIF($B$3:$B$100,CO4) -> 1.4142136 | CX4: =CO4 -> BMW | CY4: =SUMIF($B$3:$B$100,CX4,$BW$3:$BW$100) -> 1 | CZ4: =SUMIF($B$3:$B$100,CX4,$BX$3:$BX$100) -> 1 | DA4: =SUMIF($B$3:$B$100,CX4,$BY$3:$BY$100) -> 0 | DB4: =SUMIF($B$3:$B$100,CX4,$BZ$3:$BZ$100) -> 0 | DC4: =SUMIF($B$3:$B$100,CX4,$CA$3:$CA$100) -> 0 | DD4: =SUMIF($B$3:$B$100,CX4,$CB$3:$CB$100) -> 0 | DE4: =SUMIF($B$3:$B$100,CX4,$CC$3:$CC$100) -> 0 | DF4: =SUMIF($B$3:$B$100,CX4,$CD$3:$CD$100) -> 0 | DG4: =SUMIF($B$3:$B$100,CX4,$CE$3:$CE$100) -> 0 | DH4: =SUMIF($B$3:$B$100,CX4,$CF$3:$CF$100) -> 0 | DI4: =SUMIF($B$3:$B$100,CX4,$CG$3:$CG$100) -> 0 | DJ4: =SUMIF($B$3:$B$100,CX4,$CH$3:$CH$100) -> 0 | DK4: =SUMIF($B$3:$B$100,CX4,$CI$3:$CI$100) -> 0 | DL4: =SUMIF($B$3:$B$100,CX4,$CJ$3:$CJ$100) -> 0 | DN4: AF Corse | DO4: =SUMIF($D$3:$D$100,DN4,$BT$3:$BT$100) -> 62 | DP4: =SUMIF($D$3:$D$100,DN4,$BW$3:$BW$100) -> 8 | DQ4: =DP4/DO4 -> 0.12903226 | DR4: =SUMIF($D$3:$D$100,DN4,$BX$3:$BX$100)+SUMIF($D$3:$D$100,DN4,$BY$3:$BY$100)+DP4 -> 21 | DS4: =COUNTIF($D$3:$D$100,DN4) -> 10
A5: 32 | B5: Ferrari | C5: Am | D5: Rinaldi Racing | BF5: 1 | BG5: Ret | BH5: 6 | BI5: 9 | BJ5: 10 | BK5: 9 | BR5: =AVERAGE(E5:BQ5) -> 7 | BS5: =_xlfn.STDEV.S(E5:BQ5) -> 3.6742346 | BT5: =COUNT(E5:BQ5) -> 5 | BU5: =BW5/BT5 -> 0.2 | BW5: =COUNTIF(E5:BQ5,$BW$2) -> 1 | BX5: =COUNTIF(E5:BQ5,$BX$2) -> 0 | BY5: =COUNTIF(E5:BQ5,$BY$2) -> 0 | BZ5: =COUNTIF(E5:BQ5,$CA$2) -> 0 | CA5: =COUNTIF(E5:BQ5,$CB$2) -> 1 | CB5: =COUNTIF(E5:BQ5,$CB$2) -> 1 | CC5: =COUNTIF(E5:BQ5,$CC$2) -> 0 | CD5: =COUNTIF(E5:BQ5,$CD$2) -> 0 | CE5: =COUNTIF(E5:BQ5,$CE$2) -> 2 | CF5: =COUNTIF(E5:BQ5,$CF$2) -> 1 | CG5: =COUNTIF(E5:BQ5,$CG$2) -> 1 | CH5: =COUNTIF(E5:BQ5,$CH$2) -> 0 | CI5: =COUNTIF(E5:BQ5,$CI$2) -> 0 | CJ5: =COUNTIF(E5:BQ5,$CJ$2) -> 0 | CL5: =IF(C5=$CL$2,COUNTIF(E5:BQ5,1),"" ) | CM5: =IF(C5=$CM$2,COUNTIF(E5:BQ5,1),"" ) -> 1 | CO5: =sortingWEC!DI5 -> Corvette | CP5: =SUMIF($B$3:$B$100,CO5,$BT$3:$BT$100) -> 1 | CQ5: =SUMIF($B$3:$B$100,CO5,$CL$3:$CL$100) -> 0 | CR5: =SUMIF($B$3:$B$100,CO5,$CM$3:$CM$100) -> 0 | CS5: =SUM(CQ5:CR5) -> 0 | CT5: =SUM(CY5:DA5) -> 0 | CU5: =SUMIF($B$3:$B$1000,CO5,$BR$3:$BR$100)/COUNTIF($B$3:$B$100,CO5) -> 6 | CV5: =SUMIF($B$3:$B$100,CO5,$BS$3:$BS$100)/COUNTIF($B$3:$B$100,CO5) -> 0 | CX5: =CO5 -> Corvette | CY5: =SUMIF($B$3:$B$100,CX5,$BW$3:$BW$100) -> 0 | CZ5: =SUMIF($B$3:$B$100,CX5,$BX$3:$BX$100) -> 0 | DA5: =SUMIF($B$3:$B$100,CX5,$BY$3:$BY$100) -> 0 | DB5: =SUMIF($B$3:$B$100,CX5,$BZ$3:$BZ$100) -> 0 | DC5: =SUMIF($B$3:$B$100,CX5,$CA$3:$CA$100) -> 1 | DD5: =SUMIF($B$3:$B$100,CX5,$CB$3:$CB$100) -> 1 | DE5: =SUMIF($B$3:$B$100,CX5,$CC$3:$CC$100) -> 0 | DF5: =SUMIF($B$3:$B$100,CX5,$CD$3:$CD$100) -> 0 | DG5: =SUMIF($B$3:$B$100,CX5,$CE$3:$CE$100) -> 0 | DH5: =SUMIF($B$3:$B$100,CX5,$CF$3:$CF$100) -> 0 | DI5: =SUMIF($B$3:$B$100,CX5,$CG$3:$CG$100) -> 0 | DJ5: =SUMIF($B$3:$B$100,CX5,$CH$3:$CH$100) -> 0 | DK5: =SUMIF($B$3:$B$100,CX5,$CI$3:$CI$100) -> 0 | DL5: =SUMIF($B$3:$B$100,CX5,$CJ$3:$CJ$100) -> 0 | DN5: Aston Martin Racing | DO5: =SUMIF($D$3:$D$100,DN5,$BT$3:$BT$100) -> 6 | DP5: =SUMIF($D$3:$D$100,DN5,$BW$3:$BW$100) -> 3 | DQ5: =DP5/DO5 -> 0.5 | DR5: =SUMIF($D$3:$D$100,DN5,$BX$3:$BX$100)+SUMIF($D$3:$D$100,DN5,$BY$3:$BY$100)+DP5 -> 6 | DS5: =COUNTIF($D$3:$D$100,DN5) -> 2
A6: 33 | B6: Ferrari | C6: Am | D6: Rinaldi Racing | BF6: 11 | BG6: 6 | BH6: 9 | BJ6: WD | BK6: Ret | BR6: =AVERAGE(E6:BQ6) -> 8.6666667 | BS6: =_xlfn.STDEV.S(E6:BQ6) -> 2.5166115 | BT6: =COUNT(E6:BQ6) -> 3 | BU6: =BW6/BT6 -> 0 | BW6: =COUNTIF(E6:BQ6,$BW$2) -> 0 | BX6: =COUNTIF(E6:BQ6,$BX$2) -> 0 | BY6: =COUNTIF(E6:BQ6,$BY$2) -> 0 | BZ6: =COUNTIF(E6:BQ6,$CA$2) -> 0 | CA6: =COUNTIF(E6:BQ6,$CB$2) -> 1 | CB6: =COUNTIF(E6:BQ6,$CB$2) -> 1 | CC6: =COUNTIF(E6:BQ6,$CC$2) -> 0 | CD6: =COUNTIF(E6:BQ6,$CD$2) -> 0 | CE6: =COUNTIF(E6:BQ6,$CE$2) -> 1 | CF6: =COUNTIF(E6:BQ6,$CF$2) -> 0 | CG6: =COUNTIF(E6:BQ6,$CG$2) -> 1 | CH6: =COUNTIF(E6:BQ6,$CH$2) -> 0 | CI6: =COUNTIF(E6:BQ6,$CI$2) -> 1 | CJ6: =COUNTIF(E6:BQ6,$CJ$2) -> 0 | CL6: =IF(C6=$CL$2,COUNTIF(E6:BQ6,1),"" ) | CM6: =IF(C6=$CM$2,COUNTIF(E6:BQ6,1),"" ) -> 0 | CO6: =sortingWEC!DI6 -> Dodge | CP6: =SUMIF($B$3:$B$100,CO6,$BT$3:$BT$100) -> 0 | CQ6: =SUMIF($B$3:$B$100,CO6,$CL$3:$CL$100) -> 0 | CR6: =SUMIF($B$3:$B$100,CO6,$CM$3:$CM$100) -> 0 | CS6: =SUM(CQ6:CR6) -> 0 | CT6: =SUM(CY6:DA6) -> 0 | CX6: =CO6 -> Dodge | CY6: =SUMIF($B$3:$B$100,CX6,$BW$3:$BW$100) -> 0 | CZ6: =SUMIF($B$3:$B$100,CX6,$BX$3:$BX$100) -> 0 | DA6: =SUMIF($B$3:$B$100,CX6,$BY$3:$BY$100) -> 0 | DB6: =SUMIF($B$3:$B$100,CX6,$BZ$3:$BZ$100) -> 0 | DC6: =SUMIF($B$3:$B$100,CX6,$CA$3:$CA$100) -> 0 | DD6: =SUMIF($B$3:$B$100,CX6,$CB$3:$CB$100) -> 0 | DE6: =SUMIF($B$3:$B$100,CX6,$CC$3:$CC$100) -> 0 | DF6: =SUMIF($B$3:$B$100,CX6,$CD$3:$CD$100) -> 0 | DG6: =SUMIF($B$3:$B$100,CX6,$CE$3:$CE$100) -> 0 | DH6: =SUMIF($B$3:$B$100,CX6,$CF$3:$CF$100) -> 0 | DI6: =SUMIF($B$3:$B$100,CX6,$CG$3:$CG$100) -> 0 | DJ6: =SUMIF($B$3:$B$100,CX6,$CH$3:$CH$100) -> 0 | DK6: =SUMIF($B$3:$B$100,CX6,$CI$3:$CI$100) -> 0 | DL6: =SUMIF($B$3:$B$100,CX6,$CJ$3:$CJ$100) -> 0 | DN6: AT Racing | DO6: =SUMIF($D$3:$D$100,DN6,$BT$3:$BT$100) -> 16 | DP6: =SUMIF($D$3:$D$100,DN6,$BW$3:$BW$100) -> 2 | DQ6: =DP6/DO6 -> 0.125 | DR6: =SUMIF($D$3:$D$100,DN6,$BX$3:$BX$100)+SUMIF($D$3:$D$100,DN6,$BY$3:$BY$100)+DP6 -> 3 | DS6: =COUNTIF($D$3:$D$100,DN6) -> 1
A7: 44 | B7: Aston Martin | C7: Am | D7: GMB Motorsport | BL7: Ret | BM7: 12 | BN7: 8 | BO7: Ret | BP7: 8 | BQ7: 5 | BR7: =AVERAGE(E7:BQ7) -> 8.25 | BS7: =_xlfn.STDEV.S(E7:BQ7) -> 2.8722813 | BT7: =COUNT(E7:BQ7) -> 4 | BU7: =BW7/BT7 -> 0 | BW7: =COUNTIF(E7:BQ7,$BW$2) -> 0 | BX7: =COUNTIF(E7:BQ7,$BX$2) -> 0 | BY7: =COUNTIF(E7:BQ7,$BY$2) -> 0 | BZ7: =COUNTIF(E7:BQ7,$CA$2) -> 1 | CA7: =COUNTIF(E7:BQ7,$CB$2) -> 0 | CB7: =COUNTIF(E7:BQ7,$CB$2) -> 0 | CC7: =COUNTIF(E7:BQ7,$CC$2) -> 0 | CD7: =COUNTIF(E7:BQ7,$CD$2) -> 2 | CE7: =COUNTIF(E7:BQ7,$CE$2) -> 0 | CF7: =COUNTIF(E7:BQ7,$CF$2) -> 0 | CG7: =COUNTIF(E7:BQ7,$CG$2) -> 2 | CH7: =COUNTIF(E7:BQ7,$CH$2) -> 0 | CI7: =COUNTIF(E7:BQ7,$CI$2) -> 0 | CJ7: =COUNTIF(E7:BQ7,$CJ$2) -> 0 | CL7: =IF(C7=$CL$2,COUNTIF(E7:BQ7,1),"" ) | CM7: =IF(C7=$CM$2,COUNTIF(E7:BQ7,1),"" ) -> 0 | CO7: =sortingWEC!DI7 -> Ferrari | CP7: =SUMIF($B$3:$B$100,CO7,$BT$3:$BT$100) -> 291 | CQ7: =SUMIF($B$3:$B$100,CO7,$CL$3:$CL$100) -> 2 | CR7: =SUMIF($B$3:$B$100,CO7,$CM$3:$CM$100) -> 39 | CS7: =SUM(CQ7:CR7) -> 41 | CT7: =SUM(CY7:DA7) -> 121 | CU7: =SUMIF($B$3:$B$1000,CO7,$BR$3:$BR$100)/COUNTIF($B$3:$B$100,CO7) -> 4.4304062 | CV7: =SUMIF($B$3:$B$100,CO7,$BS$3:$BS$100)/COUNTIF($B$3:$B$100,CO7) -> 1.633483 | CX7: =CO7 -> Ferrari | CY7: =SUMIF($B$3:$B$100,CX7,$BW$3:$BW$100) -> 41 | CZ7: =SUMIF($B$3:$B$100,CX7,$BX$3:$BX$100) -> 40 | DA7: =SUMIF($B$3:$B$100,CX7,$BY$3:$BY$100) -> 40 | DB7: =SUMIF($B$3:$B$100,CX7,$BZ$3:$BZ$100) -> 34 | DC7: =SUMIF($B$3:$B$100,CX7,$CA$3:$CA$100) -> 34 | DD7: =SUMIF($B$3:$B$100,CX7,$CB$3:$CB$100) -> 34 | DE7: =SUMIF($B$3:$B$100,CX7,$CC$3:$CC$100) -> 23 | DF7: =SUMIF($B$3:$B$100,CX7,$CD$3:$CD$100) -> 13 | DG7: =SUMIF($B$3:$B$100,CX7,$CE$3:$CE$100) -> 11 | DH7: =SUMIF($B$3:$B$100,CX7,$CF$3:$CF$100) -> 5 | DI7: =SUMIF($B$3:$B$100,CX7,$CG$3:$CG$100) -> 33 | DJ7: =SUMIF($B$3:$B$100,CX7,$CH$3:$CH$100) -> 3 | DK7: =SUMIF($B$3:$B$100,CX7,$CI$3:$CI$100) -> 4 | DL7: =SUMIF($B$3:$B$100,CX7,$CJ$3:$CJ$100) -> 2 | DN7: Beechdean AMR | DO7: =SUMIF($D$3:$D$100,DN7,$BT$3:$BT$100) -> 6 | DP7: =SUMIF($D$3:$D$100,DN7,$BW$3:$BW$100) -> 0 | DQ7: =DP7/DO7 -> 0 | DR7: =SUMIF($D$3:$D$100,DN7,$BX$3:$BX$100)+SUMIF($D$3:$D$100,DN7,$BY$3:$BY$100)+DP7 -> 3 | DS7: =COUNTIF($D$3:$D$100,DN7) -> 1
A8: 50 | B8: Corvette | C8: Am | D8: Larbre Compétition | AD8: 6 | BR8: =AVERAGE(E8:BQ8) -> 6 | BT8: =COUNT(E8:BQ8) -> 1 | BU8: =BW8/BT8 -> 0 | BW8: =COUNTIF(E8:BQ8,$BW$2) -> 0 | BX8: =COUNTIF(E8:BQ8,$BX$2) -> 0 | BY8: =COUNTIF(E8:BQ8,$BY$2) -> 0 | BZ8: =COUNTIF(E8:BQ8,$CA$2) -> 0 | CA8: =COUNTIF(E8:BQ8,$CB$2) -> 1 | CB8: =COUNTIF(E8:BQ8,$CB$2) -> 1 | CC8: =COUNTIF(E8:BQ8,$CC$2) -> 0 | CD8: =COUNTIF(E8:BQ8,$CD$2) -> 0 | CE8: =COUNTIF(E8:BQ8,$CE$2) -> 0 | CF8: =COUNTIF(E8:BQ8,$CF$2) -> 0 | CG8: =COUNTIF(E8:BQ8,$CG$2) -> 0 | CH8: =COUNTIF(E8:BQ8,$CH$2) -> 0 | CI8: =COUNTIF(E8:BQ8,$CI$2) -> 0 | CJ8: =COUNTIF(E8:BQ8,$CJ$2) -> 0 | CL8: =IF(C8=$CL$2,COUNTIF(E8:BQ8,1),"" ) | CM8: =IF(C8=$CM$2,COUNTIF(E8:BQ8,1),"" ) -> 0 | CO8: =sortingWEC!DI8 -> Ford | CP8: =SUMIF($B$3:$B$100,CO8,$BT$3:$BT$100) -> 0 | CQ8: =SUMIF($B$3:$B$100,CO8,$CL$3:$CL$100) -> 0 | CR8: =SUMIF($B$3:$B$100,CO8,$CM$3:$CM$100) -> 0 | CS8: =SUM(CQ8:CR8) -> 0 | CT8: =SUM(CY8:DA8) -> 0 | CX8: =CO8 -> Ford | CY8: =SUMIF($B$3:$B$100,CX8,$BW$3:$BW$100) -> 0 | CZ8: =SUMIF($B$3:$B$100,CX8,$BX$3:$BX$100) -> 0 | DA8: =SUMIF($B$3:$B$100,CX8,$BY$3:$BY$100) -> 0 | DB8: =SUMIF($B$3:$B$100,CX8,$BZ$3:$BZ$100) -> 0 | DC8: =SUMIF($B$3:$B$100,CX8,$CA$3:$CA$100) -> 0 | DD8: =SUMIF($B$3:$B$100,CX8,$CB$3:$CB$100) -> 0 | DE8: =SUMIF($B$3:$B$100,CX8,$CC$3:$CC$100) -> 0 | DF8: =SUMIF($B$3:$B$100,CX8,$CD$3:$CD$100) -> 0 | DG8: =SUMIF($B$3:$B$100,CX8,$CE$3:$CE$100) -> 0 | DH8: =SUMIF($B$3:$B$100,CX8,$CF$3:$CF$100) -> 0 | DI8: =SUMIF($B$3:$B$100,CX8,$CG$3:$CG$100) -> 0 | DJ8: =SUMIF($B$3:$B$100,CX8,$CH$3:$CH$100) -> 0 | DK8: =SUMIF($B$3:$B$100,CX8,$CI$3:$CI$100) -> 0 | DL8: =SUMIF($B$3:$B$100,CX8,$CJ$3:$CJ$100) -> 0 | DN8: BMW Sports Trophy Marc VDS | DO8: =SUMIF($D$3:$D$100,DN8,$BT$3:$BT$100) -> 5 | DP8: =SUMIF($D$3:$D$100,DN8,$BW$3:$BW$100) -> 1 | DQ8: =DP8/DO8 -> 0.2 | DR8: =SUMIF($D$3:$D$100,DN8,$BX$3:$BX$100)+SUMIF($D$3:$D$100,DN8,$BY$3:$BY$100)+DP8 -> 2 | DS8: =COUNTIF($D$3:$D$100,DN8) -> 1
A9: 50 | B9: Ferrari | C9: Am | D9: Formula Racing | BL9: 2 | BM9: 8 | BN9: Ret | BO9: 2 | BP9: 12 | BQ9: 9 | BR9: =AVERAGE(E9:BQ9) -> 6.6 | BS9: =_xlfn.STDEV.S(E9:BQ9) -> 4.4497191 | BT9: =COUNT(E9:BQ9) -> 5 | BU9: =BW9/BT9 -> 0 | BW9: =COUNTIF(E9:BQ9,$BW$2) -> 0 | BX9: =COUNTIF(E9:BQ9,$BX$2) -> 2 | BY9: =COUNTIF(E9:BQ9,$BY$2) -> 0 | BZ9: =COUNTIF(E9:BQ9,$CA$2) -> 0 | CA9: =COUNTIF(E9:BQ9,$CB$2) -> 0 | CB9: =COUNTIF(E9:BQ9,$CB$2) -> 0 | CC9: =COUNTIF(E9:BQ9,$CC$2) -> 0 | CD9: =COUNTIF(E9:BQ9,$CD$2) -> 1 | CE9: =COUNTIF(E9:BQ9,$CE$2) -> 1 | CF9: =COUNTIF(E9:BQ9,$CF$2) -> 0 | CG9: =COUNTIF(E9:BQ9,$CG$2) -> 1 | CH9: =COUNTIF(E9:BQ9,$CH$2) -> 0 | CI9: =COUNTIF(E9:BQ9,$CI$2) -> 0 | CJ9: =COUNTIF(E9:BQ9,$CJ$2) -> 0 | CL9: =IF(C9=$CL$2,COUNTIF(E9:BQ9,1),"" ) | CM9: =IF(C9=$CM$2,COUNTIF(E9:BQ9,1),"" ) -> 0 | CO9: =sortingWEC!DI9 -> Porsche | CP9: =SUMIF($B$3:$B$100,CO9,$BT$3:$BT$100) -> 152 | CQ9: =SUMIF($B$3:$B$100,CO9,$CL$3:$CL$100) -> 0 | CR9: =SUMIF($B$3:$B$100,CO9,$CM$3:$CM$100) -> 20 | CS9: =SUM(CQ9:CR9) -> 20 | CT9: =SUM(CY9:DA9) -> 55 | CU9: =SUMIF($B$3:$B$1000,CO9,$BR$3:$BR$100)/COUNTIF($B$3:$B$100,CO9) -> 5.3472088 | CV9: =SUMIF($B$3:$B$100,CO9,$BS$3:$BS$100)/COUNTIF($B$3:$B$100,CO9) -> 2.2965928 | CX9: =CO9 -> Porsche | CY9: =SUMIF($B$3:$B$100,CX9,$BW$3:$BW$100) -> 20 | CZ9: =SUMIF($B$3:$B$100,CX9,$BX$3:$BX$100) -> 18 | DA9: =SUMIF($B$3:$B$100,CX9,$BY$3:$BY$100) -> 17 | DB9: =SUMIF($B$3:$B$100,CX9,$BZ$3:$BZ$100) -> 20 | DC9: =SUMIF($B$3:$B$100,CX9,$CA$3:$CA$100) -> 16 | DD9: =SUMIF($B$3:$B$100,CX9,$CB$3:$CB$100) -> 16 | DE9: =SUMIF($B$3:$B$100,CX9,$CC$3:$CC$100) -> 15 | DF9: =SUMIF($B$3:$B$100,CX9,$CD$3:$CD$100) -> 14 | DG9: =SUMIF($B$3:$B$100,CX9,$CE$3:$CE$100) -> 6 | DH9: =SUMIF($B$3:$B$100,CX9,$CF$3:$CF$100) -> 3 | DI9: =SUMIF($B$3:$B$100,CX9,$CG$3:$CG$100) -> 14 | DJ9: =SUMIF($B$3:$B$100,CX9,$CH$3:$CH$100) -> 0 | DK9: =SUMIF($B$3:$B$100,CX9,$CI$3:$CI$100) -> 2 | DL9: =SUMIF($B$3:$B$100,CX9,$CJ$3:$CJ$100) -> 1 | DN9: Crubile Sport | DO9: =SUMIF($D$3:$D$100,DN9,$BT$3:$BT$100) -> 2 | DP9: =SUMIF($D$3:$D$100,DN9,$BW$3:$BW$100) -> 0 | DQ9: =DP9/DO9 -> 0 | DR9: =SUMIF($D$3:$D$100,DN9,$BX$3:$BX$100)+SUMIF($D$3:$D$100,DN9,$BY$3:$BY$100)+DP9 -> 0 | DS9: =COUNTIF($D$3:$D$100,DN9) -> 1
A10: 51 | B10: Ferrari | C10: Am | D10: AF Corse | R10: Ret | S10: 7 | T10: 3 | U10: Ret | V10: 7 | W10: 5 | X10: DNS | Y10: 7 | Z10: 2 | AA10: 7 | AB10: Ret | AC10: 6 | AD10: 4 | AE10: 4 | AF10: 4 | AG10: 1 | AH10: Ret | AU10: 5 | AV10: 7 | AW10: 6 | AY10: Ret | BR10: =AVERAGE(E10:BQ10) -> 5 | BS10: =_xlfn.STDEV.S(E10:BQ10) -> 1.963961 | BT10: =COUNT(E10:BQ10) -> 15 | BU10: =BW10/BT10 -> 0.066666667 | BW10: =COUNTIF(E10:BQ10,$BW$2) -> 1 | BX10: =COUNTIF(E10:BQ10,$BX$2) -> 1 | BY10: =COUNTIF(E10:BQ10,$BY$2) -> 1 | BZ10: =COUNTIF(E10:BQ10,$CA$2) -> 2 | CA10: =COUNTIF(E10:BQ10,$CB$2) -> 2 | CB10: =COUNTIF(E10:BQ10,$CB$2) -> 2 | CC10: =COUNTIF(E10:BQ10,$CC$2) -> 5 | CD10: =COUNTIF(E10:BQ10,$CD$2) -> 0 | CE10: =COUNTIF(E10:BQ10,$CE$2) -> 0 | CF10: =COUNTIF(E10:BQ10,$CF$2) -> 0 | CG10: =COUNTIF(E10:BQ10,$CG$2) -> 5 | CH10: =COUNTIF(E10:BQ10,$CH$2) -> 0 | CI10: =COUNTIF(E10:BQ10,$CI$2) -> 0 | CJ10: =COUNTIF(E10:BQ10,$CJ$2) -> 1 | CL10: =IF(C10=$CL$2,COUNTIF(E10:BQ10,1),"" ) | CM10: =IF(C10=$CM$2,COUNTIF(E10:BQ10,1),"" ) -> 1 | DN10: EbiMotors | DO10: =SUMIF($D$3:$D$100,DN10,$BT$3:$BT$100) -> 8 | DP10: =SUMIF($D$3:$D$100,DN10,$BW$3:$BW$100) -> 1 | DQ10: =DP10/DO10 -> 0.125 | DR10: =SUMIF($D$3:$D$100,DN10,$BX$3:$BX$100)+SUMIF($D$3:$D$100,DN10,$BY$3:$BY$100)+DP10 -> 5 | DS10: =COUNTIF($D$3:$D$100,DN10) -> 2
A11: 51 | B11: Ferrari | C11: Am | D11: Luzich Racing | AO11: 1 | AP11: 3 | AQ11: 1 | AR11: 4 | AS11: 1 | AT11: 1 | BR11: =AVERAGE(E11:BQ11) -> 1.8333333 | BS11: =_xlfn.STDEV.S(E11:BQ11) -> 1.3291601 | BT11: =COUNT(E11:BQ11) -> 6 | BU11: =BW11/BT11 -> 0.66666667 | BW11: =COUNTIF(E11:BQ11,$BW$2) -> 4 | BX11: =COUNTIF(E11:BQ11,$BX$2) -> 0 | BY11: =COUNTIF(E11:BQ11,$BY$2) -> 1 | BZ11: =COUNTIF(E11:BQ11,$CA$2) -> 0 | CA11: =COUNTIF(E11:BQ11,$CB$2) -> 0 | CB11: =COUNTIF(E11:BQ11,$CB$2) -> 0 | CC11: =COUNTIF(E11:BQ11,$CC$2) -> 0 | CD11: =COUNTIF(E11:BQ11,$CD$2) -> 0 | CE11: =COUNTIF(E11:BQ11,$CE$2) -> 0 | CF11: =COUNTIF(E11:BQ11,$CF$2) -> 0 | CG11: =COUNTIF(E11:BQ11,$CG$2) -> 0 | CH11: =COUNTIF(E11:BQ11,$CH$2) -> 0 | CI11: =COUNTIF(E11:BQ11,$CI$2) -> 0 | CJ11: =COUNTIF(E11:BQ11,$CJ$2) -> 0 | CL11: =IF(C11=$CL$2,COUNTIF(E11:BQ11,1),"" ) | CM11: =IF(C11=$CM$2,COUNTIF(E11:BQ11,1),"" ) -> 4 | DN11: Formula Racing | DO11: =SUMIF($D$3:$D$100,DN11,$BT$3:$BT$100) -> 11 | DP11: =SUMIF($D$3:$D$100,DN11,$BW$3:$BW$100) -> 2 | DQ11: =DP11/DO11 -> 0.18181818 | DR11: =SUMIF($D$3:$D$100,DN11,$BX$3:$BX$100)+SUMIF($D$3:$D$100,DN11,$BY$3:$BY$100)+DP11 -> 6 | DS11: =COUNTIF($D$3:$D$100,DN11) -> 3
A12: 52 | B12: Ferrari | C12: Am | D12: RAM Racing | H12: 2 | I12: 1 | J12: 1 | K12: 2 | L12: 1 | BR12: =AVERAGE(E12:BQ12) -> 1.4 | BS12: =_xlfn.STDEV.S(E12:BQ12) -> 0.54772256 | BT12: =COUNT(E12:BQ12) -> 5 | BU12: =BW12/BT12 -> 0.6 | BW12: =COUNTIF(E12:BQ12,$BW$2) -> 3 | BX12: =COUNTIF(E12:BQ12,$BX$2) -> 2 | BY12: =COUNTIF(E12:BQ12,$BY$2) -> 0 | BZ12: =COUNTIF(E12:BQ12,$CA$2) -> 0 | CA12: =COUNTIF(E12:BQ12,$CB$2) -> 0 | CB12: =COUNTIF(E12:BQ12,$CB$2) -> 0 | CC12: =COUNTIF(E12:BQ12,$CC$2) -> 0 | CD12: =COUNTIF(E12:BQ12,$CD$2) -> 0 | CE12: =COUNTIF(E12:BQ12,$CE$2) -> 0 | CF12: =COUNTIF(E12:BQ12,$CF$2) -> 0 | CG12: =COUNTIF(E12:BQ12,$CG$2) -> 0 | CH12: =COUNTIF(E12:BQ12,$CH$2) -> 0 | CI12: =COUNTIF(E12:BQ12,$CI$2) -> 0 | CJ12: =COUNTIF(E12:BQ12,$CJ$2) -> 0 | CL12: =IF(C12=$CL$2,COUNTIF(E12:BQ12,1),"" ) | CM12: =IF(C12=$CM$2,COUNTIF(E12:BQ12,1),"" ) -> 3 | DN12: GMB Motorsport | DO12: =SUMIF($D$3:$D$100,DN12,$BT$3:$BT$100) -> 4 | DP12: =SUMIF($D$3:$D$100,DN12,$BW$3:$BW$100) -> 0 | DQ12: =DP12/DO12 -> 0 | DR12: =SUMIF($D$3:$D$100,DN12,$BX$3:$BX$100)+SUMIF($D$3:$D$100,DN12,$BY$3:$BY$100)+DP12 -> 0 | DS12: =COUNTIF($D$3:$D$100,DN12) -> 1
A13: 52 | B13: BMW | C13: Am | D13: BMW Sports Trophy Marc VDS | R13: 4 | S13: 4 | T13: 4 | U13: 2 | V13: 1 | BR13: =AVERAGE(E13:BQ13) -> 3 | BS13: =_xlfn.STDEV.S(E13:BQ13) -> 1.4142136 | BT13: =COUNT(E13:BQ13) -> 5 | BU13: =BW13/BT13 -> 0.2 | BW13: =COUNTIF(E13:BQ13,$BW$2) -> 1 | BX13: =COUNTIF(E13:BQ13,$BX$2) -> 1 | BY13: =COUNTIF(E13:BQ13,$BY$2) -> 0 | BZ13: =COUNTIF(E13:BQ13,$CA$2) -> 0 | CA13: =COUNTIF(E13:BQ13,$CB$2) -> 0 | CB13: =COUNTIF(E13:BQ13,$CB$2) -> 0 | CC13: =COUNTIF(E13:BQ13,$CC$2) -> 0 | CD13: =COUNTIF(E13:BQ13,$CD$2) -> 0 | CE13: =COUNTIF(E13:BQ13,$CE$2) -> 0 | CF13: =COUNTIF(E13:BQ13,$CF$2) -> 0 | CG13: =COUNTIF(E13:BQ13,$CG$2) -> 0 | CH13: =COUNTIF(E13:BQ13,$CH$2) -> 0 | CI13: =COUNTIF(E13:BQ13,$CI$2) -> 0 | CJ13: =COUNTIF(E13:BQ13,$CJ$2) -> 0 | CL13: =IF(C13=$CL$2,COUNTIF(E13:BQ13,1),"" ) | CM13: =IF(C13=$CM$2,COUNTIF(E13:BQ13,1),"" ) -> 1 | DN13: Gulf Racing | DO13: =SUMIF($D$3:$D$100,DN13,$BT$3:$BT$100) -> 1 | DP13: =SUMIF($D$3:$D$100,DN13,$BW$3:$BW$100) -> 0 | DQ13: =DP13/DO13 -> 0 | DR13: =SUMIF($D$3:$D$100,DN13,$BX$3:$BX$100)+SUMIF($D$3:$D$100,DN13,$BY$3:$BY$100)+DP13 -> 0 | DS13: =COUNTIF($D$3:$D$100,DN13) -> 1
A14: 53 | B14: Ferrari | C14: Am | D14: RAM Racing | H14: 3 | I14: 3 | J14: 3 | K14: 6 | L14: 5 | BR14: =AVERAGE(E14:BQ14) -> 4 | BS14: =_xlfn.STDEV.S(E14:BQ14) -> 1.4142136 | BT14: =COUNT(E14:BQ14) -> 5 | BU14: =BW14/BT14 -> 0 | BW14: =COUNTIF(E14:BQ14,$BW$2) -> 0 | BX14: =COUNTIF(E14:BQ14,$BX$2) -> 0 | BY14: =COUNTIF(E14:BQ14,$BY$2) -> 3 | BZ14: =COUNTIF(E14:BQ14,$CA$2) -> 1 | CA14: =COUNTIF(E14:BQ14,$CB$2) -> 1 | CB14: =COUNTIF(E14:BQ14,$CB$2) -> 1 | CC14: =COUNTIF(E14:BQ14,$CC$2) -> 0 | CD14: =COUNTIF(E14:BQ14,$CD$2) -> 0 | CE14: =COUNTIF(E14:BQ14,$CE$2) -> 0 | CF14: =COUNTIF(E14:BQ14,$CF$2) -> 0 | CG14: =COUNTIF(E14:BQ14,$CG$2) -> 0 | CH14: =COUNTIF(E14:BQ14,$CH$2) -> 0 | CI14: =COUNTIF(E14:BQ14,$CI$2) -> 0 | CJ14: =COUNTIF(E14:BQ14,$CJ$2) -> 0 | CL14: =IF(C14=$CL$2,COUNTIF(E14:BQ14,1),"" ) | CM14: =IF(C14=$CM$2,COUNTIF(E14:BQ14,1),"" ) -> 0 | DN14: Gulf Racing UK | DO14: =SUMIF($D$3:$D$100,DN14,$BT$3:$BT$100) -> 16 | DP14: =SUMIF($D$3:$D$100,DN14,$BW$3:$BW$100) -> 1 | DQ14: =DP14/DO14 -> 0.0625 | DR14: =SUMIF($D$3:$D$100,DN14,$BX$3:$BX$100)+SUMIF($D$3:$D$100,DN14,$BY$3:$BY$100)+DP14 -> 2 | DS14: =COUNTIF($D$3:$D$100,DN14) -> 2
A15: 54 | B15: Ferrari | C15: Am | D15: AF Corse | H15: 8 | I15: 7 | J15: 9 | K15: Ret | L15: 8 | M15: 6 | N15: Ret | O15: 5 | P15: 4 | Q15: 2 | BR15: =AVERAGE(E15:BQ15) -> 6.125 | BS15: =_xlfn.STDEV.S(E15:BQ15) -> 2.3566017 | BT15: =COUNT(E15:BQ15) -> 8 | BU15: =BW15/BT15 -> 0 | BW15: =COUNTIF(E15:BQ15,$BW$2) -> 0 | BX15: =COUNTIF(E15:BQ15,$BX$2) -> 1 | BY15: =COUNTIF(E15:BQ15,$BY$2) -> 0 | BZ15: =COUNTIF(E15:BQ15,$CA$2) -> 1 | CA15: =COUNTIF(E15:BQ15,$CB$2) -> 1 | CB15: =COUNTIF(E15:BQ15,$CB$2) -> 1 | CC15: =COUNTIF(E15:BQ15,$CC$2) -> 1 | CD15: =COUNTIF(E15:BQ15,$CD$2) -> 2 | CE15: =COUNTIF(E15:BQ15,$CE$2) -> 1 | CF15: =COUNTIF(E15:BQ15,$CF$2) -> 0 | CG15: =COUNTIF(E15:BQ15,$CG$2) -> 2 | CH15: =COUNTIF(E15:BQ15,$CH$2) -> 0 | CI15: =COUNTIF(E15:BQ15,$CI$2) -> 0 | CJ15: =COUNTIF(E15:BQ15,$CJ$2) -> 0 | CL15: =IF(C15=$CL$2,COUNTIF(E15:BQ15,1),"" ) | CM15: =IF(C15=$CM$2,COUNTIF(E15:BQ15,1),"" ) -> 0 | DN15: IMSA Performance Matmut | DO15: =SUMIF($D$3:$D$100,DN15,$BT$3:$BT$100) -> 17 | DP15: =SUMIF($D$3:$D$100,DN15,$BW$3:$BW$100) -> 2 | DQ15: =DP15/DO15 -> 0.11764706 | DR15: =SUMIF($D$3:$D$100,DN15,$BX$3:$BX$100)+SUMIF($D$3:$D$100,DN15,$BY$3:$BY$100)+DP15 -> 4 | DS15: =COUNTIF($D$3:$D$100,DN15) -> 2
A16: 54 | B16: Ferrari | C16: Am | D16: Spirit of Race | AI16: 6 | BR16: =AVERAGE(E16:BQ16) -> 6 | BT16: =COUNT(E16:BQ16) -> 1 | BU16: =BW16/BT16 -> 0 | BW16: =COUNTIF(E16:BQ16,$BW$2) -> 0 | BX16: =COUNTIF(E16:BQ16,$BX$2) -> 0 | BY16: =COUNTIF(E16:BQ16,$BY$2) -> 0 | BZ16: =COUNTIF(E16:BQ16,$CA$2) -> 0 | CA16: =COUNTIF(E16:BQ16,$CB$2) -> 1 | CB16: =COUNTIF(E16:BQ16,$CB$2) -> 1 | CC16: =COUNTIF(E16:BQ16,$CC$2) -> 0 | CD16: =COUNTIF(E16:BQ16,$CD$2) -> 0 | CE16: =COUNTIF(E16:BQ16,$CE$2) -> 0 | CF16: =COUNTIF(E16:BQ16,$CF$2) -> 0 | CG16: =COUNTIF(E16:BQ16,$CG$2) -> 0 | CH16: =COUNTIF(E16:BQ16,$CH$2) -> 0 | CI16: =COUNTIF(E16:BQ16,$CI$2) -> 0 | CJ16: =COUNTIF(E16:BQ16,$CJ$2) -> 0 | CL16: =IF(C16=$CL$2,COUNTIF(E16:BQ16,1),"" ) | CM16: =IF(C16=$CM$2,COUNTIF(E16:BQ16,1),"" ) -> 0 | DN16: Iron Lynx | DO16: =SUMIF($D$3:$D$100,DN16,$BT$3:$BT$100) -> 51 | DP16: =SUMIF($D$3:$D$100,DN16,$BW$3:$BW$100) -> 6 | DQ16: =DP16/DO16 -> 0.11764706 | DR16: =SUMIF($D$3:$D$100,DN16,$BX$3:$BX$100)+SUMIF($D$3:$D$100,DN16,$BY$3:$BY$100)+DP16 -> 22 | DS16: =COUNTIF($D$3:$D$100,DN16) -> 4
A17: 54 | B17: Ferrari | C17: Am | D17: AF Corse | AV17: Ret | BT17: =COUNT(E17:BQ17) -> 0 | BU17: =BW17/BT17 -> #DIV/0! | BW17: =COUNTIF(E17:BQ17,$BW$2) -> 0 | BX17: =COUNTIF(E17:BQ17,$BX$2) -> 0 | BY17: =COUNTIF(E17:BQ17,$BY$2) -> 0 | BZ17: =COUNTIF(E17:BQ17,$CA$2) -> 0 | CA17: =COUNTIF(E17:BQ17,$CB$2) -> 0 | CB17: =COUNTIF(E17:BQ17,$CB$2) -> 0 | CC17: =COUNTIF(E17:BQ17,$CC$2) -> 0 | CD17: =COUNTIF(E17:BQ17,$CD$2) -> 0 | CE17: =COUNTIF(E17:BQ17,$CE$2) -> 0 | CF17: =COUNTIF(E17:BQ17,$CF$2) -> 0 | CG17: =COUNTIF(E17:BQ17,$CG$2) -> 1 | CH17: =COUNTIF(E17:BQ17,$CH$2) -> 0 | CI17: =COUNTIF(E17:BQ17,$CI$2) -> 0 | CJ17: =COUNTIF(E17:BQ17,$CJ$2) -> 0 | CL17: =IF(C17=$CL$2,COUNTIF(E17:BQ17,1),"" ) | CM17: =IF(C17=$CM$2,COUNTIF(E17:BQ17,1),"" ) -> 0 | DN17: JMB Racing | DO17: =SUMIF($D$3:$D$100,DN17,$BT$3:$BT$100) -> 2 | DP17: =SUMIF($D$3:$D$100,DN17,$BW$3:$BW$100) -> 0 | DQ17: =DP17/DO17 -> 0 | DR17: =SUMIF($D$3:$D$100,DN17,$BX$3:$BX$100)+SUMIF($D$3:$D$100,DN17,$BY$3:$BY$100)+DP17 -> 2 | DS17: =COUNTIF($D$3:$D$100,DN17) -> 2
A18: 55 | B18: Ferrari | C18: Am | D18: AF Corse | H18: 7 | I18: 2 | J18: 4 | K18: 3 | L18: 4 | M18: 1 | N18: 7 | O18: 1 | P18: 1 | Q18: 11 | R18: 3 | S18: 5 | T18: 2 | U18: 6 | V18: 4 | W18: 6 | X18: 4 | Y18: 5 | Z18: Ret | AA18: 2 | AB18: 5 | BR18: =AVERAGE(E18:BQ18) -> 4.15 | BS18: =_xlfn.STDEV.S(E18:BQ18) -> 2.4978938 | BT18: =COUNT(E18:BQ18) -> 20 | BU18: =BW18/BT18 -> 0.15 | BW18: =COUNTIF(E18:BQ18,$BW$2) -> 3 | BX18: =COUNTIF(E18:BQ18,$BX$2) -> 3 | BY18: =COUNTIF(E18:BQ18,$BY$2) -> 2 | BZ18: =COUNTIF(E18:BQ18,$CA$2) -> 3 | CA18: =COUNTIF(E18:BQ18,$CB$2) -> 2 | CB18: =COUNTIF(E18:BQ18,$CB$2) -> 2 | CC18: =COUNTIF(E18:BQ18,$CC$2) -> 2 | CD18: =COUNTIF(E18:BQ18,$CD$2) -> 0 | CE18: =COUNTIF(E18:BQ18,$CE$2) -> 0 | CF18: =COUNTIF(E18:BQ18,$CF$2) -> 0 | CG18: =COUNTIF(E18:BQ18,$CG$2) -> 1 | CH18: =COUNTIF(E18:BQ18,$CH$2) -> 0 | CI18: =COUNTIF(E18:BQ18,$CI$2) -> 0 | CJ18: =COUNTIF(E18:BQ18,$CJ$2) -> 0 | CL18: =IF(C18=$CL$2,COUNTIF(E18:BQ18,1),"" ) | CM18: =IF(C18=$CM$2,COUNTIF(E18:BQ18,1),"" ) -> 3 | DN18: JMW Motorsport | DO18: =SUMIF($D$3:$D$100,DN18,$BT$3:$BT$100) -> 59 | DP18: =SUMIF($D$3:$D$100,DN18,$BW$3:$BW$100) -> 5 | DQ18: =DP18/DO18 -> 0.084745763 | DR18: =SUMIF($D$3:$D$100,DN18,$BX$3:$BX$100)+SUMIF($D$3:$D$100,DN18,$BY$3:$BY$100)+DP18 -> 26 | DS18: =COUNTIF($D$3:$D$100,DN18) -> 2
A19: 55 | B19: Ferrari | C19: Am | D19: Spirit Of Race | AC19: 4 | AD19: Ret | AE19: 1 | AF19: 1 | AG19: 4 | AH19: Ret | AI19: Ret | AJ19: 1 | AK19: 2 | AL19: 3 | AM19: 2 | AN19: 4 | AO19: 5 | AP19: 7 | AQ19: 3 | AR19: 5 | AS19: 3 | AT19: 4 | AU19: Ret | AV19: 5 | AW19: 1 | AX19: 4 | AY19: 5 | AZ19: 3 | BA19: 2 | BB19: 2 | BC19: 1 | BD19: NC | BE19: 4 | BF19: 9 | BG19: 3 | BH19: 8 | BI19: 2 | BJ19: WD | BK19: WD | BL19: 5 | BM19: 5 | BN19: 6 | BO19: 7 | BP19: 7 | BQ19: 3 | BR19: =AVERAGE(E19:BQ19) -> 3.8529412 | BS19: =_xlfn.STDEV.S(E19:BQ19) -> 2.1196391 | BT19: =COUNT(E19:BQ19) -> 34 | BU19: =BW19/BT19 -> 0.14705882 | BW19: =COUNTIF(E19:BQ19,$BW$2) -> 5 | BX19: =COUNTIF(E19:BQ19,$BX$2) -> 5 | BY19: =COUNTIF(E19:BQ19,$BY$2) -> 6 | BZ19: =COUNTIF(E19:BQ19,$CA$2) -> 6 | CA19: =COUNTIF(E19:BQ19,$CB$2) -> 1 | CB19: =COUNTIF(E19:BQ19,$CB$2) -> 1 | CC19: =COUNTIF(E19:BQ19,$CC$2) -> 3 | CD19: =COUNTIF(E19:BQ19,$CD$2) -> 1 | CE19: =COUNTIF(E19:BQ19,$CE$2) -> 1 | CF19: =COUNTIF(E19:BQ19,$CF$2) -> 0 | CG19: =COUNTIF(E19:BQ19,$CG$2) -> 4 | CH19: =COUNTIF(E19:BQ19,$CH$2) -> 1 | CI19: =COUNTIF(E19:BQ19,$CI$2) -> 2 | CJ19: =COUNTIF(E19:BQ19,$CJ$2) -> 0 | CL19: =IF(C19=$CL$2,COUNTIF(E19:BQ19,1),"" ) | CM19: =IF(C19=$CM$2,COUNTIF(E19:BQ19,1),"" ) -> 5 | DN19: Kessel Racing | DO19: =SUMIF($D$3:$D$100,DN19,$BT$3:$BT$100) -> 24 | DP19: =SUMIF($D$3:$D$100,DN19,$BW$3:$BW$100) -> 4 | DQ19: =DP19/DO19 -> 0.16666667 | DR19: =SUMIF($D$3:$D$100,DN19,$BX$3:$BX$100)+SUMIF($D$3:$D$100,DN19,$BY$3:$BY$100)+DP19 -> 11 | DS19: =COUNTIF($D$3:$D$100,DN19) -> 5
A20: 56 | B20: Ferrari | C20: Am | D20: AT Racing | M20: 4 | N20: 4 | O20: 4 | P20: 2 | Q20: 6 | R20: 7 | S20: 1 | T20: 8 | U20: 5 | V20: 6 | W20: 8 | X20: 1 | Y20: 6 | Z20: 6 | AA20: 4 | AB20: 6 | BR20: =AVERAGE(E20:BQ20) -> 4.875 | BS20: =_xlfn.STDEV.S(E20:BQ20) -> 2.1870833 | BT20: =COUNT(E20:BQ20) -> 16 | BU20: =BW20/BT20 -> 0.125 | BW20: =COUNTIF(E20:BQ20,$BW$2) -> 2 | BX20: =COUNTIF(E20:BQ20,$BX$2) -> 1 | BY20: =COUNTIF(E20:BQ20,$BY$2) -> 0 | BZ20: =COUNTIF(E20:BQ20,$CA$2) -> 1 | CA20: =COUNTIF(E20:BQ20,$CB$2) -> 5 | CB20: =COUNTIF(E20:BQ20,$CB$2) -> 5 | CC20: =COUNTIF(E20:BQ20,$CC$2) -> 1 | CD20: =COUNTIF(E20:BQ20,$CD$2) -> 2 | CE20: =COUNTIF(E20:BQ20,$CE$2) -> 0 | CF20: =COUNTIF(E20:BQ20,$CF$2) -> 0 | CG20: =COUNTIF(E20:BQ20,$CG$2) -> 0 | CH20: =COUNTIF(E20:BQ20,$CH$2) -> 0 | CI20: =COUNTIF(E20:BQ20,$CI$2) -> 0 | CJ20: =COUNTIF(E20:BQ20,$CJ$2) -> 0 | CL20: =IF(C20=$CL$2,COUNTIF(E20:BQ20,1),"" ) | CM20: =IF(C20=$CM$2,COUNTIF(E20:BQ20,1),"" ) -> 2 | DN20: Krohn Racing | DO20: =SUMIF($D$3:$D$100,DN20,$BT$3:$BT$100) -> 5 | DP20: =SUMIF($D$3:$D$100,DN20,$BW$3:$BW$100) -> 0 | DQ20: =DP20/DO20 -> 0 | DR20: =SUMIF($D$3:$D$100,DN20,$BX$3:$BX$100)+SUMIF($D$3:$D$100,DN20,$BY$3:$BY$100)+DP20 -> 0 | DS20: =COUNTIF($D$3:$D$100,DN20) -> 1
A21: 56 | B21: Porsche | C21: Am | D21: Team Project 1 | AO21: 8 | AP21: 4 | AQ21: 5 | BR21: =AVERAGE(E21:BQ21) -> 5.6666667 | BS21: =_xlfn.STDEV.S(E21:BQ21) -> 2.081666 | BT21: =COUNT(E21:BQ21) -> 3 | BU21: =BW21/BT21 -> 0 | BW21: =COUNTIF(E21:BQ21,$BW$2) -> 0 | BX21: =COUNTIF(E21:BQ21,$BX$2) -> 0 | BY21: =COUNTIF(E21:BQ21,$BY$2) -> 0 | BZ21: =COUNTIF(E21:BQ21,$CA$2) -> 1 | CA21: =COUNTIF(E21:BQ21,$CB$2) -> 0 | CB21: =COUNTIF(E21:BQ21,$CB$2) -> 0 | CC21: =COUNTIF(E21:BQ21,$CC$2) -> 0 | CD21: =COUNTIF(E21:BQ21,$CD$2) -> 1 | CE21: =COUNTIF(E21:BQ21,$CE$2) -> 0 | CF21: =COUNTIF(E21:BQ21,$CF$2) -> 0 | CG21: =COUNTIF(E21:BQ21,$CG$2) -> 0 | CH21: =COUNTIF(E21:BQ21,$CH$2) -> 0 | CI21: =COUNTIF(E21:BQ21,$CI$2) -> 0 | CJ21: =COUNTIF(E21:BQ21,$CJ$2) -> 0 | CL21: =IF(C21=$CL$2,COUNTIF(E21:BQ21,1),"" ) | CM21: =IF(C21=$CM$2,COUNTIF(E21:BQ21,1),"" ) -> 0 | DN21: Larbre Compétition | DO21: =SUMIF($D$3:$D$100,DN21,$BT$3:$BT$100) -> 1 | DP21: =SUMIF($D$3:$D$100,DN21,$BW$3:$BW$100) -> 0 | DQ21: =DP21/DO21 -> 0 | DR21: =SUMIF($D$3:$D$100,DN21,$BX$3:$BX$100)+SUMIF($D$3:$D$100,DN21,$BY$3:$BY$100)+DP21 -> 0 | DS21: =COUNTIF($D$3:$D$100,DN21) -> 1
A22: 57 | B22: Ferrari | C22: Am | D22: Kessel Racing | BF22: 5 | BG22: DSQ | BH22: 3 | BI22: 4 | BJ22: 1 | BK22: 3 | BL22: 7 | BM22: 4 | BN22: 1 | BO22: 5 | BP22: 4 | BQ22: 12 | BR22: =AVERAGE(E22:BQ22) -> 4.4545455 | BS22: =_xlfn.STDEV.S(E22:BQ22) -> 3.0451153 | BT22: =COUNT(E22:BQ22) -> 11 | BU22: =BW22/BT22 -> 0.18181818 | BW22: =COUNTIF(E22:BQ22,$BW$2) -> 2 | BX22: =COUNTIF(E22:BQ22,$BX$2) -> 0 | BY22: =COUNTIF(E22:BQ22,$BY$2) -> 2 | BZ22: =COUNTIF(E22:BQ22,$CA$2) -> 2 | CA22: =COUNTIF(E22:BQ22,$CB$2) -> 0 | CB22: =COUNTIF(E22:BQ22,$CB$2) -> 0 | CC22: =COUNTIF(E22:BQ22,$CC$2) -> 1 | CD22: =COUNTIF(E22:BQ22,$CD$2) -> 0 | CE22: =COUNTIF(E22:BQ22,$CE$2) -> 0 | CF22: =COUNTIF(E22:BQ22,$CF$2) -> 0 | CG22: =COUNTIF(E22:BQ22,$CG$2) -> 0 | CH22: =COUNTIF(E22:BQ22,$CH$2) -> 0 | CI22: =COUNTIF(E22:BQ22,$CI$2) -> 0 | CJ22: =COUNTIF(E22:BQ22,$CJ$2) -> 0 | CL22: =IF(C22=$CL$2,COUNTIF(E22:BQ22,1),"" ) | CM22: =IF(C22=$CM$2,COUNTIF(E22:BQ22,1),"" ) -> 2 | DN22: Luzich Racing | DO22: =SUMIF($D$3:$D$100,DN22,$BT$3:$BT$100) -> 6 | DP22: =SUMIF($D$3:$D$100,DN22,$BW$3:$BW$100) -> 4 | DQ22: =DP22/DO22 -> 0.66666667 | DR22: =SUMIF($D$3:$D$100,DN22,$BX$3:$BX$100)+SUMIF($D$3:$D$100,DN22,$BY$3:$BY$100)+DP22 -> 5 | DS22: =COUNTIF($D$3:$D$100,DN22) -> 1
A23: 58 | B23: Ferrari | C23: Am | D23: Team Sofrev-ASP | M23: 7 | N23: 4 | O23: 10 | P23: Ret | Q23: Ret | BR23: =AVERAGE(E23:BQ23) -> 7 | BS23: =_xlfn.STDEV.S(E23:BQ23) -> 3 | BT23: =COUNT(E23:BQ23) -> 3 | BU23: =BW23/BT23 -> 0 | BW23: =COUNTIF(E23:BQ23,$BW$2) -> 0 | BX23: =COUNTIF(E23:BQ23,$BX$2) -> 0 | BY23: =COUNTIF(E23:BQ23,$BY$2) -> 0 | BZ23: =COUNTIF(E23:BQ23,$CA$2) -> 0 | CA23: =COUNTIF(E23:BQ23,$CB$2) -> 0 | CB23: =COUNTIF(E23:BQ23,$CB$2) -> 0 | CC23: =COUNTIF(E23:BQ23,$CC$2) -> 1 | CD23: =COUNTIF(E23:BQ23,$CD$2) -> 0 | CE23: =COUNTIF(E23:BQ23,$CE$2) -> 0 | CF23: =COUNTIF(E23:BQ23,$CF$2) -> 1 | CG23: =COUNTIF(E23:BQ23,$CG$2) -> 2 | CH23: =COUNTIF(E23:BQ23,$CH$2) -> 0 | CI23: =COUNTIF(E23:BQ23,$CI$2) -> 0 | CJ23: =COUNTIF(E23:BQ23,$CJ$2) -> 0 | CL23: =IF(C23=$CL$2,COUNTIF(E23:BQ23,1),"" ) | CM23: =IF(C23=$CM$2,COUNTIF(E23:BQ23,1),"" ) -> 0 | DN23: Prospeed Competition | DO23: =SUMIF($D$3:$D$100,DN23,$BT$3:$BT$100) -> 5 | DP23: =SUMIF($D$3:$D$100,DN23,$BW$3:$BW$100) -> 1 | DQ23: =DP23/DO23 -> 0.2 | DR23: =SUMIF($D$3:$D$100,DN23,$BX$3:$BX$100)+SUMIF($D$3:$D$100,DN23,$BY$3:$BY$100)+DP23 -> 1 | DS23: =COUNTIF($D$3:$D$100,DN23) -> 1
A24: 60 | B24: Ferrari | C24: Am | D24: AF Corse | E24: 5 | F24: 2 | G24: Ret | BR24: =AVERAGE(E24:BQ24) -> 3.5 | BS24: =_xlfn.STDEV.S(E24:BQ24) -> 2.1213203 | BT24: =COUNT(E24:BQ24) -> 2 | BU24: =BW24/BT24 -> 0 | BW24: =COUNTIF(E24:BQ24,$BW$2) -> 0 | BX24: =COUNTIF(E24:BQ24,$BX$2) -> 1 | BY24: =COUNTIF(E24:BQ24,$BY$2) -> 0 | BZ24: =COUNTIF(E24:BQ24,$CA$2) -> 1 | CA24: =COUNTIF(E24:BQ24,$CB$2) -> 0 | CB24: =COUNTIF(E24:BQ24,$CB$2) -> 0 | CC24: =COUNTIF(E24:BQ24,$CC$2) -> 0 | CD24: =COUNTIF(E24:BQ24,$CD$2) -> 0 | CE24: =COUNTIF(E24:BQ24,$CE$2) -> 0 | CF24: =COUNTIF(E24:BQ24,$CF$2) -> 0 | CG24: =COUNTIF(E24:BQ24,$CG$2) -> 1 | CH24: =COUNTIF(E24:BQ24,$CH$2) -> 0 | CI24: =COUNTIF(E24:BQ24,$CI$2) -> 0 | CJ24: =COUNTIF(E24:BQ24,$CJ$2) -> 0 | CL24: =IF(C24=$CL$2,COUNTIF(E24:BQ24,1),"" ) | CM24: =IF(C24=$CM$2,COUNTIF(E24:BQ24,1),"" ) -> 0 | DN24: Proton Competition | DO24: =SUMIF($D$3:$D$100,DN24,$BT$3:$BT$100) -> 95 | DP24: =SUMIF($D$3:$D$100,DN24,$BW$3:$BW$100) -> 14 | DQ24: =DP24/DO24 -> 0.14736842 | DR24: =SUMIF($D$3:$D$100,DN24,$BX$3:$BX$100)+SUMIF($D$3:$D$100,DN24,$BY$3:$BY$100)+DP24 -> 39 | DS24: =COUNTIF($D$3:$D$100,DN24) -> 4
A25: 60 | B25: Ferrari | C25: Am | D25: Formula Racing | R25: 6 | S25: 3 | T25: 1 | U25: 1 | V25: 5 | BR25: =AVERAGE(E25:BQ25) -> 3.2 | BS25: =_xlfn.STDEV.S(E25:BQ25) -> 2.2803509 | BT25: =COUNT(E25:BQ25) -> 5 | BU25: =BW25/BT25 -> 0.4 | BW25: =COUNTIF(E25:BQ25,$BW$2) -> 2 | BX25: =COUNTIF(E25:BQ25,$BX$2) -> 0 | BY25: =COUNTIF(E25:BQ25,$BY$2) -> 1 | BZ25: =COUNTIF(E25:BQ25,$CA$2) -> 1 | CA25: =COUNTIF(E25:BQ25,$CB$2) -> 1 | CB25: =COUNTIF(E25:BQ25,$CB$2) -> 1 | CC25: =COUNTIF(E25:BQ25,$CC$2) -> 0 | CD25: =COUNTIF(E25:BQ25,$CD$2) -> 0 | CE25: =COUNTIF(E25:BQ25,$CE$2) -> 0 | CF25: =COUNTIF(E25:BQ25,$CF$2) -> 0 | CG25: =COUNTIF(E25:BQ25,$CG$2) -> 0 | CH25: =COUNTIF(E25:BQ25,$CH$2) -> 0 | CI25: =COUNTIF(E25:BQ25,$CI$2) -> 0 | CJ25: =COUNTIF(E25:BQ25,$CJ$2) -> 0 | CL25: =IF(C25=$CL$2,COUNTIF(E25:BQ25,1),"" ) | CM25: =IF(C25=$CM$2,COUNTIF(E25:BQ25,1),"" ) -> 2 | DN25: RAM Racing | DO25: =SUMIF($D$3:$D$100,DN25,$BT$3:$BT$100) -> 10 | DP25: =SUMIF($D$3:$D$100,DN25,$BW$3:$BW$100) -> 3 | DQ25: =DP25/DO25 -> 0.3 | DR25: =SUMIF($D$3:$D$100,DN25,$BX$3:$BX$100)+SUMIF($D$3:$D$100,DN25,$BY$3:$BY$100)+DP25 -> 8 | DS25: =COUNTIF($D$3:$D$100,DN25) -> 2
A26: 60 | B26: Ferrari | C26: Am | D26: Formula Racing | W26: 3 | BR26: =AVERAGE(E26:BQ26) -> 3 | BT26: =COUNT(E26:BQ26) -> 1 | BU26: =BW26/BT26 -> 0 | BW26: =COUNTIF(E26:BQ26,$BW$2) -> 0 | BX26: =COUNTIF(E26:BQ26,$BX$2) -> 0 | BY26: =COUNTIF(E26:BQ26,$BY$2) -> 1 | BZ26: =COUNTIF(E26:BQ26,$CA$2) -> 0 | CA26: =COUNTIF(E26:BQ26,$CB$2) -> 0 | CB26: =COUNTIF(E26:BQ26,$CB$2) -> 0 | CC26: =COUNTIF(E26:BQ26,$CC$2) -> 0 | CD26: =COUNTIF(E26:BQ26,$CD$2) -> 0 | CE26: =COUNTIF(E26:BQ26,$CE$2) -> 0 | CF26: =COUNTIF(E26:BQ26,$CF$2) -> 0 | CG26: =COUNTIF(E26:BQ26,$CG$2) -> 0 | CH26: =COUNTIF(E26:BQ26,$CH$2) -> 0 | CI26: =COUNTIF(E26:BQ26,$CI$2) -> 0 | CJ26: =COUNTIF(E26:BQ26,$CJ$2) -> 0 | CL26: =IF(C26=$CL$2,COUNTIF(E26:BQ26,1),"" ) | CM26: =IF(C26=$CM$2,COUNTIF(E26:BQ26,1),"" ) -> 0 | DN26: Red River Sport | DO26: =SUMIF($D$3:$D$100,DN26,$BT$3:$BT$100) -> 0 | DP26: =SUMIF($D$3:$D$100,DN26,$BW$3:$BW$100) -> 0 | DQ26: =DP26/DO26 -> #DIV/0! | DR26: =SUMIF($D$3:$D$100,DN26,$BX$3:$BX$100)+SUMIF($D$3:$D$100,DN26,$BY$3:$BY$100)+DP26 -> 0 | DS26: =COUNTIF($D$3:$D$100,DN26) -> 1
A27: 60 | B27: Ferrari | C27: Am | D27: Iron Lynx | AO27: 9 | AP27: Ret | AQ27: 8 | AR27: 3 | AS27: 4 | AT27: 2 | AU27: 6 | AV27: Ret | AW27: 5 | AX27: Ret | AY27: 3 | AZ27: 5 | BA27: 7 | BB27: 5 | BC27: 5 | BD27: 5 | BE27: 8 | BF27: 7 | BG27: 5 | BH27: 1 | BI27: 6 | BJ27: 9 | BK27: 4 | BR27: =AVERAGE(E27:BQ27) -> 5.35 | BS27: =_xlfn.STDEV.S(E27:BQ27) -> 2.2070461 | BT27: =COUNT(E27:BQ27) -> 20 | BU27: =BW27/BT27 -> 0.05 | BW27: =COUNTIF(E27:BQ27,$BW$2) -> 1 | BX27: =COUNTIF(E27:BQ27,$BX$2) -> 1 | BY27: =COUNTIF(E27:BQ27,$BY$2) -> 2 | BZ27: =COUNTIF(E27:BQ27,$CA$2) -> 6 | CA27: =COUNTIF(E27:BQ27,$CB$2) -> 2 | CB27: =COUNTIF(E27:BQ27,$CB$2) -> 2 | CC27: =COUNTIF(E27:BQ27,$CC$2) -> 2 | CD27: =COUNTIF(E27:BQ27,$CD$2) -> 2 | CE27: =COUNTIF(E27:BQ27,$CE$2) -> 2 | CF27: =COUNTIF(E27:BQ27,$CF$2) -> 0 | CG27: =COUNTIF(E27:BQ27,$CG$2) -> 3 | CH27: =COUNTIF(E27:BQ27,$CH$2) -> 0 | CI27: =COUNTIF(E27:BQ27,$CI$2) -> 0 | CJ27: =COUNTIF(E27:BQ27,$CJ$2) -> 0 | CL27: =IF(C27=$CL$2,COUNTIF(E27:BQ27,1),"" ) | CM27: =IF(C27=$CM$2,COUNTIF(E27:BQ27,1),"" ) -> 1 | DN27: Rinaldi Racing | DO27: =SUMIF($D$3:$D$100,DN27,$BT$3:$BT$100) -> 8 | DP27: =SUMIF($D$3:$D$100,DN27,$BW$3:$BW$100) -> 1 | DQ27: =DP27/DO27 -> 0.125 | DR27: =SUMIF($D$3:$D$100,DN27,$BX$3:$BX$100)+SUMIF($D$3:$D$100,DN27,$BY$3:$BY$100)+DP27 -> 1 | DS27: =COUNTIF($D$3:$D$100,DN27) -> 2
A28: 60 | B28: Porsche | C28: Am | D28: Iron Lynx | BL28: 4 | BM28: 2 | BN28: 7 | BO28: 1 | BP28: 3 | BQ28: 8 | BR28: =AVERAGE(E28:BQ28) -> 4.1666667 | BS28: =_xlfn.STDEV.S(E28:BQ28) -> 2.786874 | BT28: =COUNT(E28:BQ28) -> 6 | BU28: =BW28/BT28 -> 0.16666667 | BW28: =COUNTIF(E28:BQ28,$BW$2) -> 1 | BX28: =COUNTIF(E28:BQ28,$BX$2) -> 1 | BY28: =COUNTIF(E28:BQ28,$BY$2) -> 1 | BZ28: =COUNTIF(E28:BQ28,$CA$2) -> 0 | CA28: =COUNTIF(E28:BQ28,$CB$2) -> 0 | CB28: =COUNTIF(E28:BQ28,$CB$2) -> 0 | CC28: =COUNTIF(E28:BQ28,$CC$2) -> 1 | CD28: =COUNTIF(E28:BQ28,$CD$2) -> 1 | CE28: =COUNTIF(E28:BQ28,$CE$2) -> 0 | CF28: =COUNTIF(E28:BQ28,$CF$2) -> 0 | CG28: =COUNTIF(E28:BQ28,$CG$2) -> 0 | CH28: =COUNTIF(E28:BQ28,$CH$2) -> 0 | CI28: =COUNTIF(E28:BQ28,$CI$2) -> 0 | CJ28: =COUNTIF(E28:BQ28,$CJ$2) -> 0 | CL28: =IF(C28=$CL$2,COUNTIF(E28:BQ28,1),"" ) | CM28: =IF(C28=$CM$2,COUNTIF(E28:BQ28,1),"" ) -> 1 | DN28: SMP Racing | DO28: =SUMIF($D$3:$D$100,DN28,$BT$3:$BT$100) -> 5 | DP28: =SUMIF($D$3:$D$100,DN28,$BW$3:$BW$100) -> 2 | DQ28: =DP28/DO28 -> 0.4 | DR28: =SUMIF($D$3:$D$100,DN28,$BX$3:$BX$100)+SUMIF($D$3:$D$100,DN28,$BY$3:$BY$100)+DP28 -> 3 | DS28: =COUNTIF($D$3:$D$100,DN28) -> 1
A29: 61 | B29: Ferrari | C29: Pro | D29: Kessel Racing | E29: 3 | BR29: =AVERAGE(E29:BQ29) -> 3 | BT29: =COUNT(E29:BQ29) -> 1 | BU29: =BW29/BT29 -> 0 | BW29: =COUNTIF(E29:BQ29,$BW$2) -> 0 | BX29: =COUNTIF(E29:BQ29,$BX$2) -> 0 | BY29: =COUNTIF(E29:BQ29,$BY$2) -> 1 | BZ29: =COUNTIF(E29:BQ29,$CA$2) -> 0 | CA29: =COUNTIF(E29:BQ29,$CB$2) -> 0 | CB29: =COUNTIF(E29:BQ29,$CB$2) -> 0 | CC29: =COUNTIF(E29:BQ29,$CC$2) -> 0 | CD29: =COUNTIF(E29:BQ29,$CD$2) -> 0 | CE29: =COUNTIF(E29:BQ29,$CE$2) -> 0 | CF29: =COUNTIF(E29:BQ29,$CF$2) -> 0 | CG29: =COUNTIF(E29:BQ29,$CG$2) -> 0 | CH29: =COUNTIF(E29:BQ29,$CH$2) -> 0 | CI29: =COUNTIF(E29:BQ29,$CI$2) -> 0 | CJ29: =COUNTIF(E29:BQ29,$CJ$2) -> 0 | CL29: =IF(C29=$CL$2,COUNTIF(E29:BQ29,1),"" ) -> 0 | CM29: =IF(C29=$CM$2,COUNTIF(E29:BQ29,1),"" ) | DN29: Spirit of Race | DO29: =SUMIF($D$3:$D$100,DN29,$BT$3:$BT$100) -> 35 | DP29: =SUMIF($D$3:$D$100,DN29,$BW$3:$BW$100) -> 5 | DQ29: =DP29/DO29 -> 0.14285714 | DR29: =SUMIF($D$3:$D$100,DN29,$BX$3:$BX$100)+SUMIF($D$3:$D$100,DN29,$BY$3:$BY$100)+DP29 -> 16 | DS29: =COUNTIF($D$3:$D$100,DN29) -> 2
A30: 61 | B30: Ferrari | C30: Am | D30: AF Corse | BE30: 9 | BR30: =AVERAGE(E30:BQ30) -> 9 | BT30: =COUNT(E30:BQ30) -> 1 | BU30: =BW30/BT30 -> 0 | BW30: =COUNTIF(E30:BQ30,$BW$2) -> 0 | BX30: =COUNTIF(E30:BQ30,$BX$2) -> 0 | BY30: =COUNTIF(E30:BQ30,$BY$2) -> 0 | BZ30: =COUNTIF(E30:BQ30,$CA$2) -> 0 | CA30: =COUNTIF(E30:BQ30,$CB$2) -> 0 | CB30: =COUNTIF(E30:BQ30,$CB$2) -> 0 | CC30: =COUNTIF(E30:BQ30,$CC$2) -> 0 | CD30: =COUNTIF(E30:BQ30,$CD$2) -> 0 | CE30: =COUNTIF(E30:BQ30,$CE$2) -> 1 | CF30: =COUNTIF(E30:BQ30,$CF$2) -> 0 | CG30: =COUNTIF(E30:BQ30,$CG$2) -> 0 | CH30: =COUNTIF(E30:BQ30,$CH$2) -> 0 | CI30: =COUNTIF(E30:BQ30,$CI$2) -> 0 | CJ30: =COUNTIF(E30:BQ30,$CJ$2) -> 0 | CL30: =IF(C30=$CL$2,COUNTIF(E30:BQ30,1),"" ) | CM30: =IF(C30=$CM$2,COUNTIF(E30:BQ30,1),"" ) -> 0 | DN30: Team Project 1 | DO30: =SUMIF($D$3:$D$100,DN30,$BT$3:$BT$100) -> 3 | DP30: =SUMIF($D$3:$D$100,DN30,$BW$3:$BW$100) -> 0 | DQ30: =DP30/DO30 -> 0 | DR30: =SUMIF($D$3:$D$100,DN30,$BX$3:$BX$100)+SUMIF($D$3:$D$100,DN30,$BY$3:$BY$100)+DP30 -> 0 | DS30: =COUNTIF($D$3:$D$100,DN30) -> 1
A31: 62 | B31: Ferrari | C31: Am | D31: Red River Sport | AV31: DNS | BT31: =COUNT(E31:BQ31) -> 0 | BU31: =BW31/BT31 -> #DIV/0! | BW31: =COUNTIF(E31:BQ31,$BW$2) -> 0 | BX31: =COUNTIF(E31:BQ31,$BX$2) -> 0 | BY31: =COUNTIF(E31:BQ31,$BY$2) -> 0 | BZ31: =COUNTIF(E31:BQ31,$CA$2) -> 0 | CA31: =COUNTIF(E31:BQ31,$CB$2) -> 0 | CB31: =COUNTIF(E31:BQ31,$CB$2) -> 0 | CC31: =COUNTIF(E31:BQ31,$CC$2) -> 0 | CD31: =COUNTIF(E31:BQ31,$CD$2) -> 0 | CE31: =COUNTIF(E31:BQ31,$CE$2) -> 0 | CF31: =COUNTIF(E31:BQ31,$CF$2) -> 0 | CG31: =COUNTIF(E31:BQ31,$CG$2) -> 0 | CH31: =COUNTIF(E31:BQ31,$CH$2) -> 0 | CI31: =COUNTIF(E31:BQ31,$CI$2) -> 0 | CJ31: =COUNTIF(E31:BQ31,$CJ$2) -> 1 | CL31: =IF(C31=$CL$2,COUNTIF(E31:BQ31,1),"" ) | CM31: =IF(C31=$CM$2,COUNTIF(E31:BQ31,1),"" ) -> 0 | DN31: Team Sofrev-ASP | DO31: =SUMIF($D$3:$D$100,DN31,$BT$3:$BT$100) -> 3 | DP31: =SUMIF($D$3:$D$100,DN31,$BW$3:$BW$100) -> 0 | DQ31: =DP31/DO31 -> 0 | DR31: =SUMIF($D$3:$D$100,DN31,$BX$3:$BX$100)+SUMIF($D$3:$D$100,DN31,$BY$3:$BY$100)+DP31 -> 0 | DS31: =COUNTIF($D$3:$D$100,DN31) -> 1
A32: 65 | B32: Ferrari | C32: Am | D32: AF Corse | N32: 11 | BR32: =AVERAGE(E32:BQ32) -> 11 | BT32: =COUNT(E32:BQ32) -> 1 | BU32: =BW32/BT32 -> 0 | BW32: =COUNTIF(E32:BQ32,$BW$2) -> 0 | BX32: =COUNTIF(E32:BQ32,$BX$2) -> 0 | BY32: =COUNTIF(E32:BQ32,$BY$2) -> 0 | BZ32: =COUNTIF(E32:BQ32,$CA$2) -> 0 | CA32: =COUNTIF(E32:BQ32,$CB$2) -> 0 | CB32: =COUNTIF(E32:BQ32,$CB$2) -> 0 | CC32: =COUNTIF(E32:BQ32,$CC$2) -> 0 | CD32: =COUNTIF(E32:BQ32,$CD$2) -> 0 | CE32: =COUNTIF(E32:BQ32,$CE$2) -> 0 | CF32: =COUNTIF(E32:BQ32,$CF$2) -> 0 | CG32: =COUNTIF(E32:BQ32,$CG$2) -> 0 | CH32: =COUNTIF(E32:BQ32,$CH$2) -> 0 | CI32: =COUNTIF(E32:BQ32,$CI$2) -> 0 | CJ32: =COUNTIF(E32:BQ32,$CJ$2) -> 0 | CL32: =IF(C32=$CL$2,COUNTIF(E32:BQ32,1),"" ) | CM32: =IF(C32=$CM$2,COUNTIF(E32:BQ32,1),"" ) -> 0 | DN32: TF Sport | DO32: =SUMIF($D$3:$D$100,DN32,$BT$3:$BT$100) -> 33 | DP32: =SUMIF($D$3:$D$100,DN32,$BW$3:$BW$100) -> 2 | DQ32: =DP32/DO32 -> 0.060606061 | DR32: =SUMIF($D$3:$D$100,DN32,$BX$3:$BX$100)+SUMIF($D$3:$D$100,DN32,$BY$3:$BY$100)+DP32 -> 9 | DS32: =COUNTIF($D$3:$D$100,DN32) -> 4
A33: 66 | B33: Ferrari | C33: Pro | D33: JMW Motorsport | E33: 1 | F33: 1 | BR33: =AVERAGE(E33:BQ33) -> 1 | BS33: =_xlfn.STDEV.S(E33:BQ33) -> 0 | BT33: =COUNT(E33:BQ33) -> 2 | BU33: =BW33/BT33 -> 1 | BW33: =COUNTIF(E33:BQ33,$BW$2) -> 2 | BX33: =COUNTIF(E33:BQ33,$BX$2) -> 0 | BY33: =COUNTIF(E33:BQ33,$BY$2) -> 0 | BZ33: =COUNTIF(E33:BQ33,$CA$2) -> 0 | CA33: =COUNTIF(E33:BQ33,$CB$2) -> 0 | CB33: =COUNTIF(E33:BQ33,$CB$2) -> 0 | CC33: =COUNTIF(E33:BQ33,$CC$2) -> 0 | CD33: =COUNTIF(E33:BQ33,$CD$2) -> 0 | CE33: =COUNTIF(E33:BQ33,$CE$2) -> 0 | CF33: =COUNTIF(E33:BQ33,$CF$2) -> 0 | CG33: =COUNTIF(E33:BQ33,$CG$2) -> 0 | CH33: =COUNTIF(E33:BQ33,$CH$2) -> 0 | CI33: =COUNTIF(E33:BQ33,$CI$2) -> 0 | CJ33: =COUNTIF(E33:BQ33,$CJ$2) -> 0 | CL33: =IF(C33=$CL$2,COUNTIF(E33:BQ33,1),"" ) -> 2 | CM33: =IF(C33=$CM$2,COUNTIF(E33:BQ33,1),"" )
A34: 66 | B34: Ferrari | C34: Am | D34: JMW Motorsport | H34: 4 | I34: 4 | J34: 2 | K34: Ret | L34: 2 | M34: 5 | N34: 3 | O34: 3 | P34: 3 | Q34: 3 | R34: 2 | S34: 6 | T34: 6 | U34: 3 | V34: Ret | W34: 2 | X34: 3 | Y34: 3 | Z34: 4 | AA34: Ret | AB34: 2 | AC34: 5 | AD34: 1 | AE34: 2 | AF34: 3 | AG34: 2 | AH34: 2 | AI34: 1 | AJ34: 4 | AK34: Ret | AL34: 1 | AM34: 4 | AN34: 2 | AO34: 4 | AP34: 2 | AQ34: 2 | AR34: 6 | AS34: 6 | AT34: 5 | AU34: 4 | AV34: 9 | AW34: 7 | AX34: 6 | AY34: 7 | AZ34: 7 | BA34: 5 | BB34: 6 | BC34: 4 | BD34: 6 | BE34: 6 | BF34: 10 | BG34: 4 | BH34: 7 | BI34: 3 | BJ34: 6 | BK34: 7 | BL34: 3 | BM34: 6 | BN34: 5 | BO34: Ret | BP34: 11 | BQ34: 4 | BR34: =AVERAGE(E34:BQ34) -> 4.2982456 | BS34: =_xlfn.STDEV.S(E34:BQ34) -> 2.2197564 | BT34: =COUNT(E34:BQ34) -> 57 | BU34: =BW34/BT34 -> 0.052631579 | BW34: =COUNTIF(E34:BQ34,$BW$2) -> 3 | BX34: =COUNTIF(E34:BQ34,$BX$2) -> 11 | BY34: =COUNTIF(E34:BQ34,$BY$2) -> 10 | BZ34: =COUNTIF(E34:BQ34,$CA$2) -> 5 | CA34: =COUNTIF(E34:BQ34,$CB$2) -> 10 | CB34: =COUNTIF(E34:BQ34,$CB$2) -> 10 | CC34: =COUNTIF(E34:BQ34,$CC$2) -> 5 | CD34: =COUNTIF(E34:BQ34,$CD$2) -> 0 | CE34: =COUNTIF(E34:BQ34,$CE$2) -> 1 | CF34: =COUNTIF(E34:BQ34,$CF$2) -> 1 | CG34: =COUNTIF(E34:BQ34,$CG$2) -> 5 | CH34: =COUNTIF(E34:BQ34,$CH$2) -> 0 | CI34: =COUNTIF(E34:BQ34,$CI$2) -> 0 | CJ34: =COUNTIF(E34:BQ34,$CJ$2) -> 0 | CL34: =IF(C34=$CL$2,COUNTIF(E34:BQ34,1),"" ) | CM34: =IF(C34=$CM$2,COUNTIF(E34:BQ34,1),"" ) -> 3
A35: 67 | B35: Porsche | C35: Am | D35: IMSA Performance Matmut | E35: 2 | F35: 1 | G35: 1 | H35: 6 | I35: 6 | J35: 7 | K35: 5 | L35: 7 | M35: 11 | N35: 11 | O35: 11 | P35: 11 | Q35: 10 | BR35: =AVERAGE(E35:BQ35) -> 6.8461538 | BS35: =_xlfn.STDEV.S(E35:BQ35) -> 3.8263593 | BT35: =COUNT(E35:BQ35) -> 13 | BU35: =BW35/BT35 -> 0.15384615 | BW35: =COUNTIF(E35:BQ35,$BW$2) -> 2 | BX35: =COUNTIF(E35:BQ35,$BX$2) -> 1 | BY35: =COUNTIF(E35:BQ35,$BY$2) -> 0 | BZ35: =COUNTIF(E35:BQ35,$CA$2) -> 1 | CA35: =COUNTIF(E35:BQ35,$CB$2) -> 2 | CB35: =COUNTIF(E35:BQ35,$CB$2) -> 2 | CC35: =COUNTIF(E35:BQ35,$CC$2) -> 2 | CD35: =COUNTIF(E35:BQ35,$CD$2) -> 0 | CE35: =COUNTIF(E35:BQ35,$CE$2) -> 0 | CF35: =COUNTIF(E35:BQ35,$CF$2) -> 1 | CG35: =COUNTIF(E35:BQ35,$CG$2) -> 0 | CH35: =COUNTIF(E35:BQ35,$CH$2) -> 0 | CI35: =COUNTIF(E35:BQ35,$CI$2) -> 0 | CJ35: =COUNTIF(E35:BQ35,$CJ$2) -> 0 | CL35: =IF(C35=$CL$2,COUNTIF(E35:BQ35,1),"" ) | CM35: =IF(C35=$CM$2,COUNTIF(E35:BQ35,1),"" ) -> 2
A36: 69 | B36: Aston Martin | C36: Am | D36: Gulf Racing | E36: 4 | BR36: =AVERAGE(E36:BQ36) -> 4 | BT36: =COUNT(E36:BQ36) -> 1 | BU36: =BW36/BT36 -> 0 | BW36: =COUNTIF(E36:BQ36,$BW$2) -> 0 | BX36: =COUNTIF(E36:BQ36,$BX$2) -> 0 | BY36: =COUNTIF(E36:BQ36,$BY$2) -> 0 | BZ36: =COUNTIF(E36:BQ36,$CA$2) -> 0 | CA36: =COUNTIF(E36:BQ36,$CB$2) -> 0 | CB36: =COUNTIF(E36:BQ36,$CB$2) -> 0 | CC36: =COUNTIF(E36:BQ36,$CC$2) -> 0 | CD36: =COUNTIF(E36:BQ36,$CD$2) -> 0 | CE36: =COUNTIF(E36:BQ36,$CE$2) -> 0 | CF36: =COUNTIF(E36:BQ36,$CF$2) -> 0 | CG36: =COUNTIF(E36:BQ36,$CG$2) -> 0 | CH36: =COUNTIF(E36:BQ36,$CH$2) -> 0 | CI36: =COUNTIF(E36:BQ36,$CI$2) -> 0 | CJ36: =COUNTIF(E36:BQ36,$CJ$2) -> 0 | CL36: =IF(C36=$CL$2,COUNTIF(E36:BQ36,1),"" ) | CM36: =IF(C36=$CM$2,COUNTIF(E36:BQ36,1),"" ) -> 0
A37: 69 | B37: Aston Martin | C37: Am | D37: TF Sport | BF37: Ret | BG37: 1 | BH37: 10 | BI37: 10 | BJ37: 4 | BK37: 2 | BR37: =AVERAGE(E37:BQ37) -> 5.4 | BS37: =_xlfn.STDEV.S(E37:BQ37) -> 4.3358967 | BT37: =COUNT(E37:BQ37) -> 5 | BU37: =BW37/BT37 -> 0.2 | BW37: =COUNTIF(E37:BQ37,$BW$2) -> 1 | BX37: =COUNTIF(E37:BQ37,$BX$2) -> 1 | BY37: =COUNTIF(E37:BQ37,$BY$2) -> 0 | BZ37: =COUNTIF(E37:BQ37,$CA$2) -> 0 | CA37: =COUNTIF(E37:BQ37,$CB$2) -> 0 | CB37: =COUNTIF(E37:BQ37,$CB$2) -> 0 | CC37: =COUNTIF(E37:BQ37,$CC$2) -> 0 | CD37: =COUNTIF(E37:BQ37,$CD$2) -> 0 | CE37: =COUNTIF(E37:BQ37,$CE$2) -> 0 | CF37: =COUNTIF(E37:BQ37,$CF$2) -> 2 | CG37: =COUNTIF(E37:BQ37,$CG$2) -> 1 | CH37: =COUNTIF(E37:BQ37,$CH$2) -> 0 | CI37: =COUNTIF(E37:BQ37,$CI$2) -> 0 | CJ37: =COUNTIF(E37:BQ37,$CJ$2) -> 0 | CL37: =IF(C37=$CL$2,COUNTIF(E37:BQ37,1),"" ) | CM37: =IF(C37=$CM$2,COUNTIF(E37:BQ37,1),"" ) -> 1
A38: 70 | B38: Ferrari | C38: Am | D38: AF Corse | O38: 8 | P38: Ret | Q38: 8 | BR38: =AVERAGE(E38:BQ38) -> 8 | BS38: =_xlfn.STDEV.S(E38:BQ38) -> 0 | BT38: =COUNT(E38:BQ38) -> 2 | BU38: =BW38/BT38 -> 0 | BW38: =COUNTIF(E38:BQ38,$BW$2) -> 0 | BX38: =COUNTIF(E38:BQ38,$BX$2) -> 0 | BY38: =COUNTIF(E38:BQ38,$BY$2) -> 0 | BZ38: =COUNTIF(E38:BQ38,$CA$2) -> 0 | CA38: =COUNTIF(E38:BQ38,$CB$2) -> 0 | CB38: =COUNTIF(E38:BQ38,$CB$2) -> 0 | CC38: =COUNTIF(E38:BQ38,$CC$2) -> 0 | CD38: =COUNTIF(E38:BQ38,$CD$2) -> 2 | CE38: =COUNTIF(E38:BQ38,$CE$2) -> 0 | CF38: =COUNTIF(E38:BQ38,$CF$2) -> 0 | CG38: =COUNTIF(E38:BQ38,$CG$2) -> 1 | CH38: =COUNTIF(E38:BQ38,$CH$2) -> 0 | CI38: =COUNTIF(E38:BQ38,$CI$2) -> 0 | CJ38: =COUNTIF(E38:BQ38,$CJ$2) -> 0 | CL38: =IF(C38=$CL$2,COUNTIF(E38:BQ38,1),"" ) | CM38: =IF(C38=$CM$2,COUNTIF(E38:BQ38,1),"" ) -> 0
A39: 72 | B39: Ferrari | C39: Am | D39: SMP Racing | M39: 2 | N39: 1 | O39: 6 | P39: 7 | Q39: 1 | BR39: =AVERAGE(E39:BQ39) -> 3.4 | BS39: =_xlfn.STDEV.S(E39:BQ39) -> 2.8809721 | BT39: =COUNT(E39:BQ39) -> 5 | BU39: =BW39/BT39 -> 0.4 | BW39: =COUNTIF(E39:BQ39,$BW$2) -> 2 | BX39: =COUNTIF(E39:BQ39,$BX$2) -> 1 | BY39: =COUNTIF(E39:BQ39,$BY$2) -> 0 | BZ39: =COUNTIF(E39:BQ39,$CA$2) -> 0 | CA39: =COUNTIF(E39:BQ39,$CB$2) -> 1 | CB39: =COUNTIF(E39:BQ39,$CB$2) -> 1 | CC39: =COUNTIF(E39:BQ39,$CC$2) -> 1 | CD39: =COUNTIF(E39:BQ39,$CD$2) -> 0 | CE39: =COUNTIF(E39:BQ39,$CE$2) -> 0 | CF39: =COUNTIF(E39:BQ39,$CF$2) -> 0 | CG39: =COUNTIF(E39:BQ39,$CG$2) -> 0 | CH39: =COUNTIF(E39:BQ39,$CH$2) -> 0 | CI39: =COUNTIF(E39:BQ39,$CI$2) -> 0 | CJ39: =COUNTIF(E39:BQ39,$CJ$2) -> 0 | CL39: =IF(C39=$CL$2,COUNTIF(E39:BQ39,1),"" ) | CM39: =IF(C39=$CM$2,COUNTIF(E39:BQ39,1),"" ) -> 2
A40: 72 | B40: Aston Martin | C40: Am | D40: TF Sport | BL40: Ret | BM40: 7 | BN40: 9 | BO40: 6 | BP40: 5 | BQ40: 10 | BR40: =AVERAGE(E40:BQ40) -> 7.4 | BS40: =_xlfn.STDEV.S(E40:BQ40) -> 2.0736441 | BT40: =COUNT(E40:BQ40) -> 5 | BU40: =BW40/BT40 -> 0 | BW40: =COUNTIF(E40:BQ40,$BW$2) -> 0 | BX40: =COUNTIF(E40:BQ40,$BX$2) -> 0 | BY40: =COUNTIF(E40:BQ40,$BY$2) -> 0 | BZ40: =COUNTIF(E40:BQ40,$CA$2) -> 1 | CA40: =COUNTIF(E40:BQ40,$CB$2) -> 1 | CB40: =COUNTIF(E40:BQ40,$CB$2) -> 1 | CC40: =COUNTIF(E40:BQ40,$CC$2) -> 1 | CD40: =COUNTIF(E40:BQ40,$CD$2) -> 0 | CE40: =COUNTIF(E40:BQ40,$CE$2) -> 1 | CF40: =COUNTIF(E40:BQ40,$CF$2) -> 1 | CG40: =COUNTIF(E40:BQ40,$CG$2) -> 1 | CH40: =COUNTIF(E40:BQ40,$CH$2) -> 0 | CI40: =COUNTIF(E40:BQ40,$CI$2) -> 0 | CJ40: =COUNTIF(E40:BQ40,$CJ$2) -> 0 | CL40: =IF(C40=$CL$2,COUNTIF(E40:BQ40,1),"" ) | CM40: =IF(C40=$CM$2,COUNTIF(E40:BQ40,1),"" ) -> 0
A41: 74 | B41: Ferrari | C41: Am | D41: Kessel Racing | AU41: 2 | AV41: 1 | AW41: 4 | AX41: 1 | AY41: 2 | BR41: =AVERAGE(E41:BQ41) -> 2 | BS41: =_xlfn.STDEV.S(E41:BQ41) -> 1.2247449 | BT41: =COUNT(E41:BQ41) -> 5 | BU41: =BW41/BT41 -> 0.4 | BW41: =COUNTIF(E41:BQ41,$BW$2) -> 2 | BX41: =COUNTIF(E41:BQ41,$BX$2) -> 2 | BY41: =COUNTIF(E41:BQ41,$BY$2) -> 0 | BZ41: =COUNTIF(E41:BQ41,$CA$2) -> 0 | CA41: =COUNTIF(E41:BQ41,$CB$2) -> 0 | CB41: =COUNTIF(E41:BQ41,$CB$2) -> 0 | CC41: =COUNTIF(E41:BQ41,$CC$2) -> 0 | CD41: =COUNTIF(E41:BQ41,$CD$2) -> 0 | CE41: =COUNTIF(E41:BQ41,$CE$2) -> 0 | CF41: =COUNTIF(E41:BQ41,$CF$2) -> 0 | CG41: =COUNTIF(E41:BQ41,$CG$2) -> 0 | CH41: =COUNTIF(E41:BQ41,$CH$2) -> 0 | CI41: =COUNTIF(E41:BQ41,$CI$2) -> 0 | CJ41: =COUNTIF(E41:BQ41,$CJ$2) -> 0 | CL41: =IF(C41=$CL$2,COUNTIF(E41:BQ41,1),"" ) | CM41: =IF(C41=$CM$2,COUNTIF(E41:BQ41,1),"" ) -> 2
A42: 75 | B42: Porsche | C42: Am | D42: Prospeed Competition | E42: 1 | H42: 5 | I42: Ret | J42: 5 | K42: 4 | L42: 6 | BR42: =AVERAGE(E42:BQ42) -> 4.2 | BS42: =_xlfn.STDEV.S(E42:BQ42) -> 1.9235384 | BT42: =COUNT(E42:BQ42) -> 5 | BU42: =BW42/BT42 -> 0.2 | BW42: =COUNTIF(E42:BQ42,$BW$2) -> 1 | BX42: =COUNTIF(E42:BQ42,$BX$2) -> 0 | BY42: =COUNTIF(E42:BQ42,$BY$2) -> 0 | BZ42: =COUNTIF(E42:BQ42,$CA$2) -> 2 | CA42: =COUNTIF(E42:BQ42,$CB$2) -> 1 | CB42: =COUNTIF(E42:BQ42,$CB$2) -> 1 | CC42: =COUNTIF(E42:BQ42,$CC$2) -> 0 | CD42: =COUNTIF(E42:BQ42,$CD$2) -> 0 | CE42: =COUNTIF(E42:BQ42,$CE$2) -> 0 | CF42: =COUNTIF(E42:BQ42,$CF$2) -> 0 | CG42: =COUNTIF(E42:BQ42,$CG$2) -> 1 | CH42: =COUNTIF(E42:BQ42,$CH$2) -> 0 | CI42: =COUNTIF(E42:BQ42,$CI$2) -> 0 | CJ42: =COUNTIF(E42:BQ42,$CJ$2) -> 0 | CL42: =IF(C42=$CL$2,COUNTIF(E42:BQ42,1),"" ) | CM42: =IF(C42=$CM$2,COUNTIF(E42:BQ42,1),"" ) -> 1
A43: 76 | B43: Porsche | C43: Am | D43: IMSA Performance Matmut | M43: 3 | N43: 6 | O43: Ret | P43: 8 | Q43: 9 | BR43: =AVERAGE(E43:BQ43) -> 6.5 | BS43: =_xlfn.STDEV.S(E43:BQ43) -> 2.6457513 | BT43: =COUNT(E43:BQ43) -> 4 | BU43: =BW43/BT43 -> 0 | BW43: =COUNTIF(E43:BQ43,$BW$2) -> 0 | BX43: =COUNTIF(E43:BQ43,$BX$2) -> 0 | BY43: =COUNTIF(E43:BQ43,$BY$2) -> 1 | BZ43: =COUNTIF(E43:BQ43,$CA$2) -> 0 | CA43: =COUNTIF(E43:BQ43,$CB$2) -> 1 | CB43: =COUNTIF(E43:BQ43,$CB$2) -> 1 | CC43: =COUNTIF(E43:BQ43,$CC$2) -> 0 | CD43: =COUNTIF(E43:BQ43,$CD$2) -> 1 | CE43: =COUNTIF(E43:BQ43,$CE$2) -> 1 | CF43: =COUNTIF(E43:BQ43,$CF$2) -> 0 | CG43: =COUNTIF(E43:BQ43,$CG$2) -> 1 | CH43: =COUNTIF(E43:BQ43,$CH$2) -> 0 | CI43: =COUNTIF(E43:BQ43,$CI$2) -> 0 | CJ43: =COUNTIF(E43:BQ43,$CJ$2) -> 0 | CL43: =IF(C43=$CL$2,COUNTIF(E43:BQ43,1),"" ) | CM43: =IF(C43=$CM$2,COUNTIF(E43:BQ43,1),"" ) -> 0
A44: 77 | B44: Porsche | C44: Am | D44: Proton Competition | H44: 1 | I44: 5 | J44: 8 | K44: 1 | L44: 3 | O44: 11 | W44: 4 | X44: 6 | Y44: 8 | Z44: 5 | AA44: 3 | AB44: 3 | AC44: 2 | AD44: 5 | AE44: 5 | AF44: 6 | AG44: 6 | AH44: 1 | AI44: 5 | AJ44: 2 | AK44: 4 | AL44: 4 | AM44: 5 | AN44: 1 | AO44: 3 | AP44: 1 | AQ44: 6 | AR44: 7 | AS44: 2 | AT44: Ret | AU44: 1 | AV44: 6 | AW44: 2 | AX44: 2 | AY44: 1 | AZ44: 2 | BA44: 6 | BB44: 4 | BC44: 9 | BD44: 7 | BE44: 5 | BF44: 2 | BG44: Ret | BH44: 2 | BI44: 1 | BJ44: 5 | BK44: 5 | BL44: Ret | BM44: 1 | BN44: 4 | BO44: 8 | BP44: 1 | BQ44: 2 | BR44: =AVERAGE(E44:BQ44) -> 3.98 | BS44: =_xlfn.STDEV.S(E44:BQ44) -> 2.4866172 | BT44: =COUNT(E44:BQ44) -> 50 | BU44: =BW44/BT44 -> 0.2 | BW44: =COUNTIF(E44:BQ44,$BW$2) -> 10 | BX44: =COUNTIF(E44:BQ44,$BX$2) -> 9 | BY44: =COUNTIF(E44:BQ44,$BY$2) -> 4 | BZ44: =COUNTIF(E44:BQ44,$CA$2) -> 9 | CA44: =COUNTIF(E44:BQ44,$CB$2) -> 6 | CB44: =COUNTIF(E44:BQ44,$CB$2) -> 6 | CC44: =COUNTIF(E44:BQ44,$CC$2) -> 2 | CD44: =COUNTIF(E44:BQ44,$CD$2) -> 3 | CE44: =COUNTIF(E44:BQ44,$CE$2) -> 1 | CF44: =COUNTIF(E44:BQ44,$CF$2) -> 0 | CG44: =COUNTIF(E44:BQ44,$CG$2) -> 3 | CH44: =COUNTIF(E44:BQ44,$CH$2) -> 0 | CI44: =COUNTIF(E44:BQ44,$CI$2) -> 0 | CJ44: =COUNTIF(E44:BQ44,$CJ$2) -> 0 | CL44: =IF(C44=$CL$2,COUNTIF(E44:BQ44,1),"" ) | CM44: =IF(C44=$CM$2,COUNTIF(E44:BQ44,1),"" ) -> 10
A45: 80 | B45: Ferrari | C45: Am | D45: Kessel Racing | M45: 10 | N45: Ret | P45: 5 | Q45: 7 | BR45: =AVERAGE(E45:BQ45) -> 7.3333333 | BS45: =_xlfn.STDEV.S(E45:BQ45) -> 2.5166115 | BT45: =COUNT(E45:BQ45) -> 3 | BU45: =BW45/BT45 -> 0 | BW45: =COUNTIF(E45:BQ45,$BW$2) -> 0 | BX45: =COUNTIF(E45:BQ45,$BX$2) -> 0 | BY45: =COUNTIF(E45:BQ45,$BY$2) -> 0 | BZ45: =COUNTIF(E45:BQ45,$CA$2) -> 1 | CA45: =COUNTIF(E45:BQ45,$CB$2) -> 0 | CB45: =COUNTIF(E45:BQ45,$CB$2) -> 0 | CC45: =COUNTIF(E45:BQ45,$CC$2) -> 1 | CD45: =COUNTIF(E45:BQ45,$CD$2) -> 0 | CE45: =COUNTIF(E45:BQ45,$CE$2) -> 0 | CF45: =COUNTIF(E45:BQ45,$CF$2) -> 1 | CG45: =COUNTIF(E45:BQ45,$CG$2) -> 1 | CH45: =COUNTIF(E45:BQ45,$CH$2) -> 0 | CI45: =COUNTIF(E45:BQ45,$CI$2) -> 0 | CJ45: =COUNTIF(E45:BQ45,$CJ$2) -> 0 | CL45: =IF(C45=$CL$2,COUNTIF(E45:BQ45,1),"" ) | CM45: =IF(C45=$CM$2,COUNTIF(E45:BQ45,1),"" ) -> 0
A46: 80 | B46: Porsche | C46: Am | D46: EbiMotors | AI46: 3 | AJ46: 3 | AK46: 3 | AL46: Ret | AM46: 1 | AN46: Ret | BR46: =AVERAGE(E46:BQ46) -> 2.5 | BS46: =_xlfn.STDEV.S(E46:BQ46) -> 1 | BT46: =COUNT(E46:BQ46) -> 4 | BU46: =BW46/BT46 -> 0.25 | BW46: =COUNTIF(E46:BQ46,$BW$2) -> 1 | BX46: =COUNTIF(E46:BQ46,$BX$2) -> 0 | BY46: =COUNTIF(E46:BQ46,$BY$2) -> 3 | BZ46: =COUNTIF(E46:BQ46,$CA$2) -> 0 | CA46: =COUNTIF(E46:BQ46,$CB$2) -> 0 | CB46: =COUNTIF(E46:BQ46,$CB$2) -> 0 | CC46: =COUNTIF(E46:BQ46,$CC$2) -> 0 | CD46: =COUNTIF(E46:BQ46,$CD$2) -> 0 | CE46: =COUNTIF(E46:BQ46,$CE$2) -> 0 | CF46: =COUNTIF(E46:BQ46,$CF$2) -> 0 | CG46: =COUNTIF(E46:BQ46,$CG$2) -> 2 | CH46: =COUNTIF(E46:BQ46,$CH$2) -> 0 | CI46: =COUNTIF(E46:BQ46,$CI$2) -> 0 | CJ46: =COUNTIF(E46:BQ46,$CJ$2) -> 0 | CL46: =IF(C46=$CL$2,COUNTIF(E46:BQ46,1),"" ) | CM46: =IF(C46=$CM$2,COUNTIF(E46:BQ46,1),"" ) -> 1
A47: 80 | B47: Porsche | C47: Am | D47: EbiMotors | AO47: 6 | AP47: 5 | AQ47: 7 | AT47: 3 | BR47: =AVERAGE(E47:BQ47) -> 5.25 | BS47: =_xlfn.STDEV.S(E47:BQ47) -> 1.7078251 | BT47: =COUNT(E47:BQ47) -> 4 | BU47: =BW47/BT47 -> 0 | BW47: =COUNTIF(E47:BQ47,$BW$2) -> 0 | BX47: =COUNTIF(E47:BQ47,$BX$2) -> 0 | BY47: =COUNTIF(E47:BQ47,$BY$2) -> 1 | BZ47: =COUNTIF(E47:BQ47,$CA$2) -> 1 | CA47: =COUNTIF(E47:BQ47,$CB$2) -> 1 | CB47: =COUNTIF(E47:BQ47,$CB$2) -> 1 | CC47: =COUNTIF(E47:BQ47,$CC$2) -> 1 | CD47: =COUNTIF(E47:BQ47,$CD$2) -> 0 | CE47: =COUNTIF(E47:BQ47,$CE$2) -> 0 | CF47: =COUNTIF(E47:BQ47,$CF$2) -> 0 | CG47: =COUNTIF(E47:BQ47,$CG$2) -> 0 | CH47: =COUNTIF(E47:BQ47,$CH$2) -> 0 | CI47: =COUNTIF(E47:BQ47,$CI$2) -> 0 | CJ47: =COUNTIF(E47:BQ47,$CJ$2) -> 0 | CL47: =IF(C47=$CL$2,COUNTIF(E47:BQ47,1),"" ) | CM47: =IF(C47=$CM$2,COUNTIF(E47:BQ47,1),"" ) -> 0
A48: 80 | B48: Ferrari | C48: Am | D48: Iron Lynx | AZ48: 1 | BA48: 3 | BB48: 1 | BC48: 2 | BD48: 2 | BE48: 1 | BR48: =AVERAGE(E48:BQ48) -> 1.6666667 | BS48: =_xlfn.STDEV.S(E48:BQ48) -> 0.81649658 | BT48: =COUNT(E48:BQ48) -> 6 | BU48: =BW48/BT48 -> 0.5 | BW48: =COUNTIF(E48:BQ48,$BW$2) -> 3 | BX48: =COUNTIF(E48:BQ48,$BX$2) -> 2 | BY48: =COUNTIF(E48:BQ48,$BY$2) -> 1 | BZ48: =COUNTIF(E48:BQ48,$CA$2) -> 0 | CA48: =COUNTIF(E48:BQ48,$CB$2) -> 0 | CB48: =COUNTIF(E48:BQ48,$CB$2) -> 0 | CC48: =COUNTIF(E48:BQ48,$CC$2) -> 0 | CD48: =COUNTIF(E48:BQ48,$CD$2) -> 0 | CE48: =COUNTIF(E48:BQ48,$CE$2) -> 0 | CF48: =COUNTIF(E48:BQ48,$CF$2) -> 0 | CG48: =COUNTIF(E48:BQ48,$CG$2) -> 0 | CH48: =COUNTIF(E48:BQ48,$CH$2) -> 0 | CI48: =COUNTIF(E48:BQ48,$CI$2) -> 0 | CJ48: =COUNTIF(E48:BQ48,$CJ$2) -> 0 | CL48: =IF(C48=$CL$2,COUNTIF(E48:BQ48,1),"" ) | CM48: =IF(C48=$CM$2,COUNTIF(E48:BQ48,1),"" ) -> 3
A49: 81 | B49: Ferrari | C49: Am | D49: Kessel Racing | M49: 11 | N49: 2 | O49: 2 | P49: 9 | BR49: =AVERAGE(E49:BQ49) -> 6 | BS49: =_xlfn.STDEV.S(E49:BQ49) -> 4.6904158 | BT49: =COUNT(E49:BQ49) -> 4 | BU49: =BW49/BT49 -> 0 | BW49: =COUNTIF(E49:BQ49,$BW$2) -> 0 | BX49: =COUNTIF(E49:BQ49,$BX$2) -> 2 | BY49: =COUNTIF(E49:BQ49,$BY$2) -> 0 | BZ49: =COUNTIF(E49:BQ49,$CA$2) -> 0 | CA49: =COUNTIF(E49:BQ49,$CB$2) -> 0 | CB49: =COUNTIF(E49:BQ49,$CB$2) -> 0 | CC49: =COUNTIF(E49:BQ49,$CC$2) -> 0 | CD49: =COUNTIF(E49:BQ49,$CD$2) -> 0 | CE49: =COUNTIF(E49:BQ49,$CE$2) -> 1 | CF49: =COUNTIF(E49:BQ49,$CF$2) -> 0 | CG49: =COUNTIF(E49:BQ49,$CG$2) -> 0 | CH49: =COUNTIF(E49:BQ49,$CH$2) -> 0 | CI49: =COUNTIF(E49:BQ49,$CI$2) -> 0 | CJ49: =COUNTIF(E49:BQ49,$CJ$2) -> 0 | CL49: =IF(C49=$CL$2,COUNTIF(E49:BQ49,1),"" ) | CM49: =IF(C49=$CM$2,COUNTIF(E49:BQ49,1),"" ) -> 0
A50: 81 | B50: Ferrari | C50: Am | D50: AF Corse | R50: Ret | W50: 1 | X50: 5 | Y50: 4 | Z50: 3 | AA50: 5 | AB50: 1 | BR50: =AVERAGE(E50:BQ50) -> 3.1666667 | BS50: =_xlfn.STDEV.S(E50:BQ50) -> 1.8348479 | BT50: =COUNT(E50:BQ50) -> 6 | BU50: =BW50/BT50 -> 0.33333333 | BW50: =COUNTIF(E50:BQ50,$BW$2) -> 2 | BX50: =COUNTIF(E50:BQ50,$BX$2) -> 0 | BY50: =COUNTIF(E50:BQ50,$BY$2) -> 1 | BZ50: =COUNTIF(E50:BQ50,$CA$2) -> 2 | CA50: =COUNTIF(E50:BQ50,$CB$2) -> 0 | CB50: =COUNTIF(E50:BQ50,$CB$2) -> 0 | CC50: =COUNTIF(E50:BQ50,$CC$2) -> 0 | CD50: =COUNTIF(E50:BQ50,$CD$2) -> 0 | CE50: =COUNTIF(E50:BQ50,$CE$2) -> 0 | CF50: =COUNTIF(E50:BQ50,$CF$2) -> 0 | CG50: =COUNTIF(E50:BQ50,$CG$2) -> 1 | CH50: =COUNTIF(E50:BQ50,$CH$2) -> 0 | CI50: =COUNTIF(E50:BQ50,$CI$2) -> 0 | CJ50: =COUNTIF(E50:BQ50,$CJ$2) -> 0 | CL50: =IF(C50=$CL$2,COUNTIF(E50:BQ50,1),"" ) | CM50: =IF(C50=$CM$2,COUNTIF(E50:BQ50,1),"" ) -> 2
A51: 82 | B51: Porsche | C51: Am | D51: Crubile Sport | M51: 12 | N51: 10 | BR51: =AVERAGE(E51:BQ51) -> 11 | BS51: =_xlfn.STDEV.S(E51:BQ51) -> 1.4142136 | BT51: =COUNT(E51:BQ51) -> 2 | BU51: =BW51/BT51 -> 0 | BW51: =COUNTIF(E51:BQ51,$BW$2) -> 0 | BX51: =COUNTIF(E51:BQ51,$BX$2) -> 0 | BY51: =COUNTIF(E51:BQ51,$BY$2) -> 0 | BZ51: =COUNTIF(E51:BQ51,$CA$2) -> 0 | CA51: =COUNTIF(E51:BQ51,$CB$2) -> 0 | CB51: =COUNTIF(E51:BQ51,$CB$2) -> 0 | CC51: =COUNTIF(E51:BQ51,$CC$2) -> 0 | CD51: =COUNTIF(E51:BQ51,$CD$2) -> 0 | CE51: =COUNTIF(E51:BQ51,$CE$2) -> 0 | CF51: =COUNTIF(E51:BQ51,$CF$2) -> 1 | CG51: =COUNTIF(E51:BQ51,$CG$2) -> 0 | CH51: =COUNTIF(E51:BQ51,$CH$2) -> 0 | CI51: =COUNTIF(E51:BQ51,$CI$2) -> 0 | CJ51: =COUNTIF(E51:BQ51,$CJ$2) -> 0 | CL51: =IF(C51=$CL$2,COUNTIF(E51:BQ51,1),"" ) | CM51: =IF(C51=$CM$2,COUNTIF(E51:BQ51,1),"" ) -> 0
A52: 83 | B52: Ferrari | C52: Pro | D52: JMB Racing | E52: 2 | BR52: =AVERAGE(E52:BQ52) -> 2 | BT52: =COUNT(E52:BQ52) -> 1 | BU52: =BW52/BT52 -> 0 | BW52: =COUNTIF(E52:BQ52,$BW$2) -> 0 | BX52: =COUNTIF(E52:BQ52,$BX$2) -> 1 | BY52: =COUNTIF(E52:BQ52,$BY$2) -> 0 | BZ52: =COUNTIF(E52:BQ52,$CA$2) -> 0 | CA52: =COUNTIF(E52:BQ52,$CB$2) -> 0 | CB52: =COUNTIF(E52:BQ52,$CB$2) -> 0 | CC52: =COUNTIF(E52:BQ52,$CC$2) -> 0 | CD52: =COUNTIF(E52:BQ52,$CD$2) -> 0 | CE52: =COUNTIF(E52:BQ52,$CE$2) -> 0 | CF52: =COUNTIF(E52:BQ52,$CF$2) -> 0 | CG52: =COUNTIF(E52:BQ52,$CG$2) -> 0 | CH52: =COUNTIF(E52:BQ52,$CH$2) -> 0 | CI52: =COUNTIF(E52:BQ52,$CI$2) -> 0 | CJ52: =COUNTIF(E52:BQ52,$CJ$2) -> 0 | CL52: =IF(C52=$CL$2,COUNTIF(E52:BQ52,1),"" ) -> 0 | CM52: =IF(C52=$CM$2,COUNTIF(E52:BQ52,1),"" )
A53: 83 | B53: Ferrari | C53: Am | D53: Krohn Racing | AI53: 4 | AJ53: 6 | AK53: 5 | AL53: 6 | AM53: Ret | AN53: 4 | BR53: =AVERAGE(E53:BQ53) -> 5 | BS53: =_xlfn.STDEV.S(E53:BQ53) -> 1 | BT53: =COUNT(E53:BQ53) -> 5 | BU53: =BW53/BT53 -> 0 | BW53: =COUNTIF(E53:BQ53,$BW$2) -> 0 | BX53: =COUNTIF(E53:BQ53,$BX$2) -> 0 | BY53: =COUNTIF(E53:BQ53,$BY$2) -> 0 | BZ53: =COUNTIF(E53:BQ53,$CA$2) -> 1 | CA53: =COUNTIF(E53:BQ53,$CB$2) -> 2 | CB53: =COUNTIF(E53:BQ53,$CB$2) -> 2 | CC53: =COUNTIF(E53:BQ53,$CC$2) -> 0 | CD53: =COUNTIF(E53:BQ53,$CD$2) -> 0 | CE53: =COUNTIF(E53:BQ53,$CE$2) -> 0 | CF53: =COUNTIF(E53:BQ53,$CF$2) -> 0 | CG53: =COUNTIF(E53:BQ53,$CG$2) -> 1 | CH53: =COUNTIF(E53:BQ53,$CH$2) -> 0 | CI53: =COUNTIF(E53:BQ53,$CI$2) -> 0 | CJ53: =COUNTIF(E53:BQ53,$CJ$2) -> 0 | CL53: =IF(C53=$CL$2,COUNTIF(E53:BQ53,1),"" ) | CM53: =IF(C53=$CM$2,COUNTIF(E53:BQ53,1),"" ) -> 0
A54: 83 | B54: Ferrari | C54: Am | D54: Iron Lynx | AO54: 2 | AP54: 6 | AQ54: 4 | AR54: 2 | AS54: 4 | AT54: Ret | AU54: 3 | AV54: 8 | AW54: 3 | AX54: 3 | AY54: 6 | AZ54: 4 | BA54: NC | BB54: NC | BC54: 6 | BD54: 3 | BE54: 3 | BF54: 4 | BG54: 8 | BH54: 5 | BI54: Ret | BJ54: 2 | BK54: 1 | BR54: =AVERAGE(E54:BQ54) -> 4.0526316 | BS54: =_xlfn.STDEV.S(E54:BQ54) -> 1.9853263 | BT54: =COUNT(E54:BQ54) -> 19 | BU54: =BW54/BT54 -> 0.052631579 | BW54: =COUNTIF(E54:BQ54,$BW$2) -> 1 | BX54: =COUNTIF(E54:BQ54,$BX$2) -> 3 | BY54: =COUNTIF(E54:BQ54,$BY$2) -> 5 | BZ54: =COUNTIF(E54:BQ54,$CA$2) -> 1 | CA54: =COUNTIF(E54:BQ54,$CB$2) -> 3 | CB54: =COUNTIF(E54:BQ54,$CB$2) -> 3 | CC54: =COUNTIF(E54:BQ54,$CC$2) -> 0 | CD54: =COUNTIF(E54:BQ54,$CD$2) -> 2 | CE54: =COUNTIF(E54:BQ54,$CE$2) -> 0 | CF54: =COUNTIF(E54:BQ54,$CF$2) -> 0 | CG54: =COUNTIF(E54:BQ54,$CG$2) -> 2 | CH54: =COUNTIF(E54:BQ54,$CH$2) -> 2 | CI54: =COUNTIF(E54:BQ54,$CI$2) -> 0 | CJ54: =COUNTIF(E54:BQ54,$CJ$2) -> 0 | CL54: =IF(C54=$CL$2,COUNTIF(E54:BQ54,1),"" ) | CM54: =IF(C54=$CM$2,COUNTIF(E54:BQ54,1),"" ) -> 1
A55: 85 | B55: Aston Martin | C55: Am | D55: Gulf Racing UK | M55: 11 | N55: 9 | O55: 7 | P55: 10 | Q55: 5 | BR55: =AVERAGE(E55:BQ55) -> 8.4 | BS55: =_xlfn.STDEV.S(E55:BQ55) -> 2.4083189 | BT55: =COUNT(E55:BQ55) -> 5 | BU55: =BW55/BT55 -> 0 | BW55: =COUNTIF(E55:BQ55,$BW$2) -> 0 | BX55: =COUNTIF(E55:BQ55,$BX$2) -> 0 | BY55: =COUNTIF(E55:BQ55,$BY$2) -> 0 | BZ55: =COUNTIF(E55:BQ55,$CA$2) -> 1 | CA55: =COUNTIF(E55:BQ55,$CB$2) -> 0 | CB55: =COUNTIF(E55:BQ55,$CB$2) -> 0 | CC55: =COUNTIF(E55:BQ55,$CC$2) -> 1 | CD55: =COUNTIF(E55:BQ55,$CD$2) -> 0 | CE55: =COUNTIF(E55:BQ55,$CE$2) -> 1 | CF55: =COUNTIF(E55:BQ55,$CF$2) -> 1 | CG55: =COUNTIF(E55:BQ55,$CG$2) -> 0 | CH55: =COUNTIF(E55:BQ55,$CH$2) -> 0 | CI55: =COUNTIF(E55:BQ55,$CI$2) -> 0 | CJ55: =COUNTIF(E55:BQ55,$CJ$2) -> 0 | CL55: =IF(C55=$CL$2,COUNTIF(E55:BQ55,1),"" ) | CM55: =IF(C55=$CM$2,COUNTIF(E55:BQ55,1),"" ) -> 0
A56: 86 | B56: Porsche | C56: Am | D56: Gulf Racing UK | M56: 9 | N56: 8 | O56: 9 | P56: 6 | Q56: 4 | R56: 1 | S56: 8 | T56: 7 | U56: 7 | V56: 3 | AI56: Ret | AL56: 5 | AY56: Ret | BR56: =AVERAGE(E56:BQ56) -> 6.0909091 | BS56: =_xlfn.STDEV.S(E56:BQ56) -> 2.5866792 | BT56: =COUNT(E56:BQ56) -> 11 | BU56: =BW56/BT56 -> 0.090909091 | BW56: =COUNTIF(E56:BQ56,$BW$2) -> 1 | BX56: =COUNTIF(E56:BQ56,$BX$2) -> 0 | BY56: =COUNTIF(E56:BQ56,$BY$2) -> 1 | BZ56: =COUNTIF(E56:BQ56,$CA$2) -> 1 | CA56: =COUNTIF(E56:BQ56,$CB$2) -> 1 | CB56: =COUNTIF(E56:BQ56,$CB$2) -> 1 | CC56: =COUNTIF(E56:BQ56,$CC$2) -> 2 | CD56: =COUNTIF(E56:BQ56,$CD$2) -> 2 | CE56: =COUNTIF(E56:BQ56,$CE$2) -> 2 | CF56: =COUNTIF(E56:BQ56,$CF$2) -> 0 | CG56: =COUNTIF(E56:BQ56,$CG$2) -> 2 | CH56: =COUNTIF(E56:BQ56,$CH$2) -> 0 | CI56: =COUNTIF(E56:BQ56,$CI$2) -> 0 | CJ56: =COUNTIF(E56:BQ56,$CJ$2) -> 0 | CL56: =IF(C56=$CL$2,COUNTIF(E56:BQ56,1),"" ) | CM56: =IF(C56=$CM$2,COUNTIF(E56:BQ56,1),"" ) -> 1
A57: 88 | B57: Porsche | C57: Am | D57: Proton Competition | J57: 6 | R57: 5 | S57: 2 | T57: 5 | U57: 4 | V57: 8 | W57: 7 | X57: 7 | Y57: 2 | Z57: Ret | AA57: 6 | AB57: 4 | AI57: 2 | AJ57: 5 | AK57: 1 | AL57: 2 | AM57: 3 | AN57: 3 | AO57: 7 | AP57: WD | AR57: 1 | AS57: WD | AT57: Ret | BR57: =AVERAGE(E57:BQ57) -> 4.2105263 | BS57: =_xlfn.STDEV.S(E57:BQ57) -> 2.2255823 | BT57: =COUNT(E57:BQ57) -> 19 | BU57: =BW57/BT57 -> 0.10526316 | BW57: =COUNTIF(E57:BQ57,$BW$2) -> 2 | BX57: =COUNTIF(E57:BQ57,$BX$2) -> 4 | BY57: =COUNTIF(E57:BQ57,$BY$2) -> 2 | BZ57: =COUNTIF(E57:BQ57,$CA$2) -> 3 | CA57: =COUNTIF(E57:BQ57,$CB$2) -> 2 | CB57: =COUNTIF(E57:BQ57,$CB$2) -> 2 | CC57: =COUNTIF(E57:BQ57,$CC$2) -> 3 | CD57: =COUNTIF(E57:BQ57,$CD$2) -> 1 | CE57: =COUNTIF(E57:BQ57,$CE$2) -> 0 | CF57: =COUNTIF(E57:BQ57,$CF$2) -> 0 | CG57: =COUNTIF(E57:BQ57,$CG$2) -> 2 | CH57: =COUNTIF(E57:BQ57,$CH$2) -> 0 | CI57: =COUNTIF(E57:BQ57,$CI$2) -> 2 | CJ57: =COUNTIF(E57:BQ57,$CJ$2) -> 0 | CL57: =IF(C57=$CL$2,COUNTIF(E57:BQ57,1),"" ) | CM57: =IF(C57=$CM$2,COUNTIF(E57:BQ57,1),"" ) -> 2
A58: 88 | B58: Ferrari | C58: Am | D58: AF Corse | AV58: 2 | AY58: 8 | AZ58: WD | BA58: 1 | BB58: 3 | BC58: 3 | BD58: 1 | BE58: 10 | BR58: =AVERAGE(E58:BQ58) -> 4 | BS58: =_xlfn.STDEV.S(E58:BQ58) -> 3.5590261 | BT58: =COUNT(E58:BQ58) -> 7 | BU58: =BW58/BT58 -> 0.28571429 | BW58: =COUNTIF(E58:BQ58,$BW$2) -> 2 | BX58: =COUNTIF(E58:BQ58,$BX$2) -> 1 | BY58: =COUNTIF(E58:BQ58,$BY$2) -> 2 | BZ58: =COUNTIF(E58:BQ58,$CA$2) -> 0 | CA58: =COUNTIF(E58:BQ58,$CB$2) -> 0 | CB58: =COUNTIF(E58:BQ58,$CB$2) -> 0 | CC58: =COUNTIF(E58:BQ58,$CC$2) -> 0 | CD58: =COUNTIF(E58:BQ58,$CD$2) -> 1 | CE58: =COUNTIF(E58:BQ58,$CE$2) -> 0 | CF58: =COUNTIF(E58:BQ58,$CF$2) -> 1 | CG58: =COUNTIF(E58:BQ58,$CG$2) -> 0 | CH58: =COUNTIF(E58:BQ58,$CH$2) -> 0 | CI58: =COUNTIF(E58:BQ58,$CI$2) -> 1 | CJ58: =COUNTIF(E58:BQ58,$CJ$2) -> 0 | CL58: =IF(C58=$CL$2,COUNTIF(E58:BQ58,1),"" ) | CM58: =IF(C58=$CM$2,COUNTIF(E58:BQ58,1),"" ) -> 2
A59: 90 | B59: Aston Martin | C59: Am | D59: TF Sport | AC59: 1 | AD59: 2 | AE59: 3 | AF59: 2 | AG59: 5 | AH59: 3 | BR59: =AVERAGE(E59:BQ59) -> 2.6666667 | BS59: =_xlfn.STDEV.S(E59:BQ59) -> 1.3662601 | BT59: =COUNT(E59:BQ59) -> 6 | BU59: =BW59/BT59 -> 0.16666667 | BW59: =COUNTIF(E59:BQ59,$BW$2) -> 1 | BX59: =COUNTIF(E59:BQ59,$BX$2) -> 2 | BY59: =COUNTIF(E59:BQ59,$BY$2) -> 2 | BZ59: =COUNTIF(E59:BQ59,$CA$2) -> 1 | CA59: =COUNTIF(E59:BQ59,$CB$2) -> 0 | CB59: =COUNTIF(E59:BQ59,$CB$2) -> 0 | CC59: =COUNTIF(E59:BQ59,$CC$2) -> 0 | CD59: =COUNTIF(E59:BQ59,$CD$2) -> 0 | CE59: =COUNTIF(E59:BQ59,$CE$2) -> 0 | CF59: =COUNTIF(E59:BQ59,$CF$2) -> 0 | CG59: =COUNTIF(E59:BQ59,$CG$2) -> 0 | CH59: =COUNTIF(E59:BQ59,$CH$2) -> 0 | CI59: =COUNTIF(E59:BQ59,$CI$2) -> 0 | CJ59: =COUNTIF(E59:BQ59,$CJ$2) -> 0 | CL59: =IF(C59=$CL$2,COUNTIF(E59:BQ59,1),"" ) | CM59: =IF(C59=$CM$2,COUNTIF(E59:BQ59,1),"" ) -> 1
A60: 93 | B60: Porsche | C60: Am | D60: Proton Competition | AU60: 7 | AV60: 4 | AW60: DNS | AX60: 5 | AY60: 4 | AZ60: 6 | BA60: 4 | BB60: 8 | BC60: 7 | BD60: 4 | BE60: 2 | BF60: 3 | BG60: 7 | BH60: Ret | BI60: 8 | BJ60: 7 | BK60: 8 | BL60: 8 | BM60: 10 | BN60: 3 | BO60: Ret | BP60: 9 | BQ60: 11 | BR60: =AVERAGE(E60:BQ60) -> 6.25 | BS60: =_xlfn.STDEV.S(E60:BQ60) -> 2.5105042 | BT60: =COUNT(E60:BQ60) -> 20 | BU60: =BW60/BT60 -> 0 | BW60: =COUNTIF(E60:BQ60,$BW$2) -> 0 | BX60: =COUNTIF(E60:BQ60,$BX$2) -> 1 | BY60: =COUNTIF(E60:BQ60,$BY$2) -> 2 | BZ60: =COUNTIF(E60:BQ60,$CA$2) -> 1 | CA60: =COUNTIF(E60:BQ60,$CB$2) -> 1 | CB60: =COUNTIF(E60:BQ60,$CB$2) -> 1 | CC60: =COUNTIF(E60:BQ60,$CC$2) -> 4 | CD60: =COUNTIF(E60:BQ60,$CD$2) -> 4 | CE60: =COUNTIF(E60:BQ60,$CE$2) -> 1 | CF60: =COUNTIF(E60:BQ60,$CF$2) -> 1 | CG60: =COUNTIF(E60:BQ60,$CG$2) -> 2 | CH60: =COUNTIF(E60:BQ60,$CH$2) -> 0 | CI60: =COUNTIF(E60:BQ60,$CI$2) -> 0 | CJ60: =COUNTIF(E60:BQ60,$CJ$2) -> 1 | CL60: =IF(C60=$CL$2,COUNTIF(E60:BQ60,1),"" ) | CM60: =IF(C60=$CM$2,COUNTIF(E60:BQ60,1),"" ) -> 0
A61: 95 | B61: Aston Martin | C61: Am | D61: TF Sport | AZ61: 8 | BA61: 8 | BB61: 7 | BC61: 8 | BD61: 8 | BE61: 7 | BF61: 6 | BG61: 2 | BH61: 11 | BI61: 7 | BJ61: 8 | BK61: Ret | BL61: 9 | BM61: 3 | BN61: 11 | BO61: 9 | BP61: 10 | BQ61: 6 | BR61: =AVERAGE(E61:BQ61) -> 7.5294118 | BS61: =_xlfn.STDEV.S(E61:BQ61) -> 2.4009802 | BT61: =COUNT(E61:BQ61) -> 17 | BU61: =BW61/BT61 -> 0 | BW61: =COUNTIF(E61:BQ61,$BW$2) -> 0 | BX61: =COUNTIF(E61:BQ61,$BX$2) -> 1 | BY61: =COUNTIF(E61:BQ61,$BY$2) -> 1 | BZ61: =COUNTIF(E61:BQ61,$CA$2) -> 0 | CA61: =COUNTIF(E61:BQ61,$CB$2) -> 2 | CB61: =COUNTIF(E61:BQ61,$CB$2) -> 2 | CC61: =COUNTIF(E61:BQ61,$CC$2) -> 3 | CD61: =COUNTIF(E61:BQ61,$CD$2) -> 5 | CE61: =COUNTIF(E61:BQ61,$CE$2) -> 2 | CF61: =COUNTIF(E61:BQ61,$CF$2) -> 1 | CG61: =COUNTIF(E61:BQ61,$CG$2) -> 1 | CH61: =COUNTIF(E61:BQ61,$CH$2) -> 0 | CI61: =COUNTIF(E61:BQ61,$CI$2) -> 0 | CJ61: =COUNTIF(E61:BQ61,$CJ$2) -> 0 | CL61: =IF(C61=$CL$2,COUNTIF(E61:BQ61,1),"" ) | CM61: =IF(C61=$CM$2,COUNTIF(E61:BQ61,1),"" ) -> 0
A62: 98 | B62: Aston Martin | C62: Am | D62: Aston Martin Racing | AU62: Ret | AV62: 3 | BR62: =AVERAGE(E62:BQ62) -> 3 | BT62: =COUNT(E62:BQ62) -> 1 | BU62: =BW62/BT62 -> 0 | BW62: =COUNTIF(E62:BQ62,$BW$2) -> 0 | BX62: =COUNTIF(E62:BQ62,$BX$2) -> 0 | BY62: =COUNTIF(E62:BQ62,$BY$2) -> 1 | BZ62: =COUNTIF(E62:BQ62,$CA$2) -> 0 | CA62: =COUNTIF(E62:BQ62,$CB$2) -> 0 | CB62: =COUNTIF(E62:BQ62,$CB$2) -> 0 | CC62: =COUNTIF(E62:BQ62,$CC$2) -> 0 | CD62: =COUNTIF(E62:BQ62,$CD$2) -> 0 | CE62: =COUNTIF(E62:BQ62,$CE$2) -> 0 | CF62: =COUNTIF(E62:BQ62,$CF$2) -> 0 | CG62: =COUNTIF(E62:BQ62,$CG$2) -> 1 | CH62: =COUNTIF(E62:BQ62,$CH$2) -> 0 | CI62: =COUNTIF(E62:BQ62,$CI$2) -> 0 | CJ62: =COUNTIF(E62:BQ62,$CJ$2) -> 0 | CL62: =IF(C62=$CL$2,COUNTIF(E62:BQ62,1),"" ) | CM62: =IF(C62=$CM$2,COUNTIF(E62:BQ62,1),"" ) -> 0
A63: 99 | B63: Ferrari | C63: Am | D63: JMB Racing | E63: 3 | BR63: =AVERAGE(E63:BQ63) -> 3 | BT63: =COUNT(E63:BQ63) -> 1 | BU63: =BW63/BT63 -> 0 | BW63: =COUNTIF(E63:BQ63,$BW$2) -> 0 | BX63: =COUNTIF(E63:BQ63,$BX$2) -> 0 | BY63: =COUNTIF(E63:BQ63,$BY$2) -> 1 | BZ63: =COUNTIF(E63:BQ63,$CA$2) -> 0 | CA63: =COUNTIF(E63:BQ63,$CB$2) -> 0 | CB63: =COUNTIF(E63:BQ63,$CB$2) -> 0 | CC63: =COUNTIF(E63:BQ63,$CC$2) -> 0 | CD63: =COUNTIF(E63:BQ63,$CD$2) -> 0 | CE63: =COUNTIF(E63:BQ63,$CE$2) -> 0 | CF63: =COUNTIF(E63:BQ63,$CF$2) -> 0 | CG63: =COUNTIF(E63:BQ63,$CG$2) -> 0 | CH63: =COUNTIF(E63:BQ63,$CH$2) -> 0 | CI63: =COUNTIF(E63:BQ63,$CI$2) -> 0 | CJ63: =COUNTIF(E63:BQ63,$CJ$2) -> 0 | CL63: =IF(C63=$CL$2,COUNTIF(E63:BQ63,1),"" ) | CM63: =IF(C63=$CM$2,COUNTIF(E63:BQ63,1),"" ) -> 0
A64: 99 | B64: Aston Martin | C64: Am | D64: Aston Martin Racing | V64: 2 | W64: DSQ | X64: 2 | Y64: 1 | Z64: 1 | AA64: 1 | AB64: Ret | BR64: =AVERAGE(E64:BQ64) -> 1.4 | BS64: =_xlfn.STDEV.S(E64:BQ64) -> 0.54772256 | BT64: =COUNT(E64:BQ64) -> 5 | BU64: =BW64/BT64 -> 0.6 | BW64: =COUNTIF(E64:BQ64,$BW$2) -> 3 | BX64: =COUNTIF(E64:BQ64,$BX$2) -> 2 | BY64: =COUNTIF(E64:BQ64,$BY$2) -> 0 | BZ64: =COUNTIF(E64:BQ64,$CA$2) -> 0 | CA64: =COUNTIF(E64:BQ64,$CB$2) -> 0 | CB64: =COUNTIF(E64:BQ64,$CB$2) -> 0 | CC64: =COUNTIF(E64:BQ64,$CC$2) -> 0 | CD64: =COUNTIF(E64:BQ64,$CD$2) -> 0 | CE64: =COUNTIF(E64:BQ64,$CE$2) -> 0 | CF64: =COUNTIF(E64:BQ64,$CF$2) -> 0 | CG64: =COUNTIF(E64:BQ64,$CG$2) -> 1 | CH64: =COUNTIF(E64:BQ64,$CH$2) -> 0 | CI64: =COUNTIF(E64:BQ64,$CI$2) -> 0 | CJ64: =COUNTIF(E64:BQ64,$CJ$2) -> 0 | CL64: =IF(C64=$CL$2,COUNTIF(E64:BQ64,1),"" ) | CM64: =IF(C64=$CM$2,COUNTIF(E64:BQ64,1),"" ) -> 3
A65: 99 | B65: Aston Martin | C65: Am | D65: Beechdean AMR | AC65: 3 | AD65: 3 | AE65: 6 | AF65: 5 | AG65: 3 | AH65: 4 | BR65: =AVERAGE(E65:BQ65) -> 4 | BS65: =_xlfn.STDEV.S(E65:BQ65) -> 1.2649111 | BT65: =COUNT(E65:BQ65) -> 6 | BU65: =BW65/BT65 -> 0 | BW65: =COUNTIF(E65:BQ65,$BW$2) -> 0 | BX65: =COUNTIF(E65:BQ65,$BX$2) -> 0 | BY65: =COUNTIF(E65:BQ65,$BY$2) -> 3 | BZ65: =COUNTIF(E65:BQ65,$CA$2) -> 1 | CA65: =COUNTIF(E65:BQ65,$CB$2) -> 1 | CB65: =COUNTIF(E65:BQ65,$CB$2) -> 1 | CC65: =COUNTIF(E65:BQ65,$CC$2) -> 0 | CD65: =COUNTIF(E65:BQ65,$CD$2) -> 0 | CE65: =COUNTIF(E65:BQ65,$CE$2) -> 0 | CF65: =COUNTIF(E65:BQ65,$CF$2) -> 0 | CG65: =COUNTIF(E65:BQ65,$CG$2) -> 0 | CH65: =COUNTIF(E65:BQ65,$CH$2) -> 0 | CI65: =COUNTIF(E65:BQ65,$CI$2) -> 0 | CJ65: =COUNTIF(E65:BQ65,$CJ$2) -> 0 | CL65: =IF(C65=$CL$2,COUNTIF(E65:BQ65,1),"" ) | CM65: =IF(C65=$CM$2,COUNTIF(E65:BQ65,1),"" ) -> 0

Sheet allResultsIMSA
E1: 2014 | P1: 2015 | Z1: 2016 | AK1: 2017 | AV1: 2018 | BG1: 2019 | BR1: 2020 | CC1: 2021
A2: Num | B2: Manu | C2: Class | D2: Team | E2: DAY | F2: SEB | G2: LBH | H2: LGA | I2: WGL | J2: MOS | K2: IMS | L2: ELK | M2: VIR | N2: AUS | O2: ATL | P2: DAY | Q2: SEB | R2: LBH | S2: LGA | T2: WGL | U2: MOS | V2: ELK | W2: VIR | X2: AUS | Y2: ATL | Z2: DAY | AA2: SEB | AB2: LBH | AC2: LGA | AD2: WGL | AE2: MOS | AF2: LIM | AG2: ELK | AH2: VIR | AI2: AUS | AJ2: ATL | AK2: DAY | AL2: SEB | AM2: LBH | AN2: AUS | AO2: WGL | AP2: MOS | AQ2: LIM | AR2: ELK | AS2: VIR | AT2: LGA | AU2: ATL | AV2: DAY | AW2: SEB | AX2: LBH | AY2: MOH | AZ2: WGL | BA2: MOS | BB2: LIM | BC2: ELK | BD2: VIR | BE2: LGA | BF2: ATL | BG2: DAY | BH2: SEB | BI2: LBH | BJ2: MOH | BK2: WGL | BL2: MOS | BM2: LIM | BN2: ELK | BO2: VIR | BP2: LGA | BQ2: ATL | BR2: DAY1 | BS2: DAY2 | BT2: SEB1 | BU2: ELK | BV2: VIR | BW2: ATL1 | BX2: MOH | BY2: CLT | BZ2: ATL2 | CA2: LGA | CB2: SEB2 | CC2: DAYQ | CD2: DayR | CE2: SEB | CF2: BEL‡ | CG2: WGL1 | CH2: WGL2 | CI2: LIM | CJ2: ELK | CK2: LGA | CL2: LBH | CM2: VIR | CN2: ATL
A3: 93 | B3: Dodge | C3: GTLM | D3: SRT Motorsports | E3: 6 | F3: 2 | G3: Ret | H3: 7 | I3: 3 | J3: 2 | K3: 1 | L3: 3 | M3: 5 | N3: 1 | O3: 6
A4: 3 | B4: Corvette | C4: GTLM | D4: Corvette Racing | E4: Ret | F4: 8 | G4: 1 | H4: 1 | I4: 1 | J4: 1 | K4: 4 | L4: 6 | M4: 7 | N4: 9 | O4: 8
A5: 91 | B5: Dodge | C5: GTLM | D5: SRT Motorsports | E5: 3 | F5: 7 | G5: 7 | H5: 6 | I5: 2 | J5: 3 | K5: 8 | L5: 4 | M5: 6 | N5: 2 | O5: 3
A6: 912 | B6: Porsche | C6: GTLM | D6: Porsche North America | E6: Ret | F6: 1 | G6: 5 | H6: 8 | I6: 8 | J6: 9 | K6: 3 | L6: 5 | M6: 8 | N6: 3 | O6: 2
A7: 56 | B7: BMW | C7: GTLM | D7: BMW Team RLL | E7: 4 | F7: 10 | G7: 2 | H7: 10 | I7: 6 | J7: 4 | K7: 7 | L7: 2 | M7: 3 | N7: 7 | O7: 7
A8: 62 | B8: Ferrari | C8: GTLM | D8: Risi Competizione | E8: Ret | F8: r | G8: 9 | H8: 3 | I8: 7 | J8: 10 | K8: 2 | L8: 1 | M8: 1 | N8: 4 | O8: Ret
A9: 55 | B9: BMW | C9: GTLM | D9: BMW Team RLL | E9: 2 | F9: 3 | G9: 6 | H9: 2 | I9: 10 | J9: 6 | K9: 6 | L9: 8 | M9: 4 | N9: 6 | O9: 10
A10: 4 | B10: Corvette | C10: GTLM | D10: Corvette Racing | E10: 5 | F10: 6 | G10: 3 | H10: 5 | I10: 5 | J10: 7 | K10: 5 | L10: 7 | M10: 9 | N10: 10 | O10: 4
A11: 911 | B11: Porsche | C11: GTLM | D11: Porsche North America | E11: 1 | F11: 9 | G11: 4 | H11: 9 | I11: 5 | J11: 5 | K11: 10 | L11: 10 | M11: Ret | N11: Ret | O11: 5
A12: 17 | B12: Porsche | C12: GTLM | D12: Team Falken Tire | F12: 5 | G12: 8 | H12: 4 | I12: 9 | J12: 8 | K12: 9 | L12: 9 | M12: 2 | N12: 8 | O12: 1
A13: 911 | B13: Porsche | C13: GTLM | D13: Porsche North America | P13: 5 | Q13: 5 | R13: 4 | S13: 3 | T13: 6 | U13: 1 | V13: 1 | W13: 1 | X13: 3 | Y13: 1
A14: 25 | B14: BMW | C14: GTLM | D14: BMW Team RLL | P14: 2 | Q14: 8 | R14: 1 | S14: 2 | T14: 3 | U14: 4 | V14: 5 | W14: 5 | X14: 1 | Y14: 4
A15: 3 | B15: Corvette | C15: GTLM | D15: Corvette Racing | P15: 1 | Q15: 1 | R15: 3 | S15: 7 | T15: 4 | U15: 3 | V15: 4 | W15: 6 | X15: 6 | Y15: 6
A16: 62 | B16: Ferrari | C16: GTLM | D16: Risi Competizione | P16: Ret | Q16: 2 | R16: 2 | S16: 4 | T16: 5 | U16: 6 | V16: 3 | W16: 3 | X16: 2 | Y16: 5
A17: 24 | B17: BMW | C17: GTLM | D17: BMW Team RLL | P17: 4 | Q17: 4 | R17: 5 | S17: 1 | T17: Ret | U17: 2 | V17: 6 | W17: 4 | X17: 7 | Y17: 2
A18: 912 | B18: Porsche | C18: GTLM | D18: Porsche North America | P18: Ret | Q18: 7 | R18: 8 | S18: 5 | T18: 2 | U18: 7 | V18: 2 | W18: 2 | X18: 5 | Y18: 8
A19: 17 | B19: Porsche | C19: GTLM | D19: Team Falken Tire | P19: Ret | Q19: 3 | R19: 6 | S19: 8 | T19: 1 | U19: Ret | V19: 8 | W19: 7 | X19: 4 | Y19: 7
A20: 4 | B20: Corvette | C20: GTLM | D20: Corvette Racing | P20: 3 | Q20: Ret | R20: 7 | S20: 6 | T20: Ret | U20: 5 | V20: 7 | W20: 8 | X20: 8 | Y20: 3
A21: 98 | B21: Aston Martin | C21: GTLM | D21: Aston Martin Racing | P21: 6 | Q21: 6
A22: 51 | B22: Ferrari | C22: GTLM | D22: AF Corse | P22: Ret
A23: 4 | B23: Corvette | C23: GTLM | D23: Corvette Racing | Z23: 1 | AA23: 1 | AB23: 2 | AC23: 7 | AD23: 4 | AE23: 2 | AF23: 1 | AG23: 1 | AH23: Ret | AI23: 5 | AJ23: 3
A24: 67 | B24: Ford | C24: GTLM | D24: Ford Chip Ganassi Racing | Z24: 9 | AA24: 5 | AB24: 4 | AC24: 1 | AD24: 1 | AE24: 1 | AF24: 3 | AG24: 2 | AH24: 4 | AI24: 9 | AJ24: 7
A25: 3 | B25: Corvette | C25: GTLM | D25: Corvette Racing | Z25: 2 | AA25: 9 | AB25: Ret | AC25: 4 | AD25: 7 | AE25: 3 | AF25: 2 | AG25: 6 | AH25: 1 | AI25: 3 | AJ25: 4
A26: 912 | B26: Porsche | C26: GTLM | D26: Porsche North America | Z26: 3 | AA26: 3 | AB26: Ret | AC26: 3 | AD26: 10 | AE26: 6 | AF26: Ret | AG26: 4 | AH26: 3 | AI26: 1 | AJ26: 5
A27: 62 | B27: Ferrari | C27: GTLM | D27: Risi Competizione | Z27: 6 | AA27: 4 | AB27: 3 | AC27: 5 | AD27: 6 | AE27: 7 | AF27: 4 | AG27: 5 | AH27: 7 | AI27: 8 | AJ27: 1
A28: 66 | B28: Ford | C28: GTLM | D28: Ford Chip Ganassi Racing | Z28: 7 | AA28: 8 | AB28: Ret | AC28: 6 | AD28: 2 | AE28: 5 | AF28: 5 | AG28: 9 | AH28: 2 | AI28: 6 | AJ28: 2
A29: 25 | B29: BMW | C29: GTLM | D29: BMW Team RLL | Z29: 5 | AA29: 2 | AB29: 5 | AC29: 9 | AD29: 3 | AE29: 4 | AF29: Ret | AG29: 8 | AH29: 5 | AI29: 4 | AJ29: Ret
A30: 911 | B30: Porsche | C30: GTLM | D30: Porsche North America | Z30: 8 | AA30: Ret | AB30: 1 | AC30: 8 | AD30: 9 | AE30: 8 | AF30: 6 | AG30: 7 | AH30: 6 | AI30: 2 | AJ30: Ret
A31: 100 | B31: BMW | C31: GTLM | D31: BMW Team RLL | Z31: Ret | AA31: 6 | AB31: Ret | AC31: 10 | AD31: 8 | AE31: 9 | AF31: Ret | AG31: 3 | AH31: 8 | AI31: 7 | AJ31: 6
A32: 68 | B32: Ferrari | C32: GTLM | D32: Scuderia Corsa | Z32: 4 | AA32: 7 | AB32: 6 | AC32: 2 | AD32: 5 | AJ32: Ret
A33: 72 | B33: Ferrari | C33: GTLM | D33: SMP Racing | Z33: Ret
A34: 3 | B34: Corvette | C34: GTLM | D34: Corvette Racing | AK34: 4 | AL34: 1 | AM34: 5 | AN34: 1 | AO34: 3 | AP34: 4 | AQ34: 4 | AR34: 4 | AS34: 1 | AT34: 4 | AU34: 2
A35: 25 | B35: BMW | C35: GTLM | D35: BMW Team RLL | AK35: 8 | AL35: 6 | AM35: 4 | AN35: 2 | AO35: 1 | AP35: 1 | AQ35: 6 | AR35: 6 | AS35: 4 | AT35: 8 | AU35: 1
A36: 66 | B36: Ford | C36: GTLM | D36: Ford Chip Ganassi Racing | AK36: 1 | AL36: 2 | AM36: 8 | AN36: 5 | AO36: 4 | AP36: 5 | AQ36: 7 | AR36: 1 | AS36: 5 | AT36: 6 | AU36: 7
A37: 67 | B37: Ford | C37: GTLM | D37: Ford Chip Ganassi Racing | AK37: 10 | AL37: 4 | AM37: 2 | AN37: 6 | AO37: 2 | AP37: 3 | AQ37: 5 | AR37: 3 | AS37: 2 | AT37: 5 | AU37: 8
A38: 911 | B38: Porsche | C38: GTLM | D38: Porsche GT Team | AK38: 2 | AL38: 7 | AM38: 6 | AN38: 4 | AO38: 7 | AP38: 7 | AQ38: 1 | AR38: Ret | AS38: 8 | AT38: 3 | AU38: 6
A39: 912 | B39: Porsche | C39: GTLM | D39: Porsche GT Team | AK39: 6 | AL39: 8 | AM39: 3 | AN39: Ret | AO39: 6 | AP39: 6 | AQ39: 2 | AR39: 2 | AS39: 7 | AT39: 7 | AU39: 5
A40: 24 | B40: BMW | C40: GTLM | D40: BMW Team RLL | AK40: Ret | AL40: Ret | AM40: 7 | AN40: 3 | AO40: Ret | AP40: 2 | AQ40: 3 | AR40: 7 | AS40: Ret | AT40: 1 | AU40: Ret
A41: 4 | B41: Corvette | C41: GTLM | D41: Corvette Racing | AK41: 9 | AL41: Ret | AM41: 1 | AN41: 7 | AO41: 5 | AP41: Ret | AQ41: 8 | AR41: 5 | AS41: 6 | AT41: 9 | AU41: 4
A42: 62 | B42: Ferrari | C42: GTLM | D42: Risi Competizione | AK42: 3 | AL42: 3 | AM42: Ret | AN42: Ret | AS42: 3 | AT42: 2 | AU42: 3
A43: 68 | B43: Ford | C43: GTLM | D43: Ford Chip Ganassi Team | AK43: 7 | AL43: 5
A44: 69 | B44: Ford | C44: GTLM | D44: Ford Chip Ganassi Team | AK44: 5
A45: 3 | B45: Corvette | C45: GTLM | D45: Corvette Racing | AV45: 3 | AW45: 8 | AX45: 4 | AY45: 3 | AZ45: 2 | BA45: 2 | BB45: 2 | BC45: 3 | BD45: 2 | BE45: 3 | BF45: 8
A46: 67 | B46: Ford | C46: GTLM | D46: Ford Chip Ganassi Racing | AV46: 1 | AW46: 4 | AX46: 2 | AY46: 5 | AZ46: 6 | BA46: 1 | BB46: 6 | BC46: 1 | BD46: Ret | BE46: Ret | BF46: 5
A47: 4 | B47: Corvette | C47: GTLM | D47: Corvette Racing | AV47: 4 | AW47: 6 | AX47: 1 | AY47: 8 | AZ47: 5 | BA47: 3 | BB47: 4 | BC47: 2 | BD47: 6 | BE47: 5 | BF47: 2
A48: 66 | B48: Ford | C48: GTLM | D48: Ford Chip Ganassi Racing | AV48: 2 | AW48: Ret | AX48: 3 | AY48: 4 | AZ48: 1 | BA48: 5 | BB48: 1 | BC48: 7 | BD48: 4 | BE48: Ret | BF48: 7
A49: 912 | B49: Porsche | C49: GTLM | D49: Porsche GT Team | AV49: 6 | AW49: 3 | AX49: Ret | AY49: 1 | AZ49: 4 | BA49: 6 | BB49: 3 | BC49: 4 | BD49: 5 | BE49: 2 | BF49: 6
A50: 25 | B50: BMW | C50: GTLM | D50: BMW Team RLL | AV50: 9 | AW50: 2 | AX50: Ret | AY50: 2 | AZ50: 7 | BA50: 7 | BB50: 7 | BC50: Ret | BD50: 1 | BE50: 1 | BF50: 4
A51: 911 | B51: Porsche | C51: GTLM | D51: Porsche GT Team | AV51: 8 | AW51: 1 | AX51: 6 | AY51: 6 | AZ51: 3 | BA51: 4 | BB51: 5 | BC51: 5 | BD51: Ret | BE51: Ret | BF51: 1
A52: 24 | B52: BMW | C52: GTLM | D52: BMW Team RLL | AV52: 7 | AW52: Ret | AX52: 5 | AY52: 7 | AZ52: 8 | BA52: Ret | BB52: 8 | BC52: Ret | BD52: 3 | BE52: 4 | BF52: 3
A53: 62 | B53: Ferrari | C53: GTLM | D53: Risi Competizione | AV53: 5 | AW53: 5 | BF53: 9
A54: 912 | B54: Porsche | C54: GTLM | D54: Porsche GT Team | BG54: 3 | BH54: 5 | BI54: 1 | BJ54: 1 | BK54: 6 | BL54: 1 | BM54: 2 | BN54: 3 | BO54: 2 | BP54: 7 | BQ54: 5
A55: 911 | B55: Porsche | C55: GTLM | D55: Porsche GT Team | BG55: 5 | BH55: 1 | BI55: 5 | BJ55: 3 | BK55: 1 | BL55: 3 | BM55: 4 | BN55: 7 | BO55: 1 | BP55: 8 | BQ55: 6
A56: 3 | B56: Corvette | C56: GTLM | D56: Corvette Racing | BG56: 6 | BH56: 3 | BI56: 2 | BJ56: 2 | BK56: 2 | BL56: 7 | BM56: 5 | BN56: 4 | BO56: 3 | BP56: 3 | BQ56: 4
A57: 67 | B57: Ford | C57: GTLM | D57: Ford Chip Ganassi Racing | BG57: 4 | BH57: 6 | BI57: 6 | BJ57: 5 | BK57: 3 | BL57: 5 | BM57: 1 | BN57: 1 | BO57: 5 | BP57: 6 | BQ57: 2
A58: 66 | B58: Ford | C58: GTLM | D58: Ford Chip Ganassi Racing | BG58: 7 | BH58: 2 | BI58: Ret | BJ58: 7 | BK58: 4 | BL58: 6 | BM58: 3 | BN58: 2 | BO58: 6 | BP58: 1 | BQ58: 8
A59: 25 | B59: BMW | C59: GTLM | D59: BMW Team RLL | BG59: 1 | BH59: 7 | BI59: 7 | BJ59: 4 | BK59: Ret | BL59: 4 | BM59: 7 | BN59: 5 | BO59: 7 | BP59: 5 | BQ59: 3
A60: 24 | B60: BMW | C60: GTLM | D60: BMW Team RLL | BG60: 9 | BH60: 4 | BI60: 8 | BJ60: 6 | BK60: 5 | BL60: 2 | BM60: 8 | BN60: 8 | BO60: 8 | BP60: 2 | BQ60: 9
A61: 4 | B61: Corvette | C61: GTLM | D61: Corvette Racing | BG61: 8 | BH61: 8 | BI61: 3 | BJ61: 8 | BK61: Ret | BL61: 8 | BM61: 6 | BN61: 6 | BO61: 4 | BP61: 4 | BQ61: 7
A62: 62 | B62: Ferrari | C62: GTLM | D62: Risi Competizione | BG62: 2 | BQ62: 1
A63: 3 | B63: Corvette | C63: GTLM | D63: Corvette Racing | BR63: 4 | BS63: 1 | BT63: 2 | BU63: 1 | BV63: 1 | BW63: 5 | BX63: 1 | BY63: 1 | BZ63: 2 | CA63: 2 | CB63: 5
A64: 24 | B64: BMW | C64: GTLM | D64: BMW Team RLL | BR64: 1 | BS64: 6 | BT64: 5 | BU64: 3 | BV64: 6 | BW64: 3 | BX64: 4 | BY64: 2 | BZ64: 3 | CA64: 4 | CB64: 3
A65: 4 | B65: Corvette | C65: GTLM | D65: Corvette Racing | BR65: 7 | BS65: 5 | BT65: 1 | BU65: 2 | BV65: 4 | BW65: 2 | BX65: 2 | BY65: Ret | BZ65: 4 | CA65: 6 | CB65: DSQ
A66: 25 | B66: BMW | C66: GTLM | D66: BMW Team RLL | BR66: 5 | BS66: 4 | BT66: 4 | BU66: Ret | BV66: 2 | BW66: 1 | BX66: 3 | BY66: 3 | BZ66: 6 | CA66: 5 | CB66: 4
A67: 911 | B67: Porsche | C67: GTLM | D67: Porsche GT Team | BR67: 3 | BS67: 3 | BT67: 6 | BU67: Ret | BV67: 3 | BW67: 4 | BY67: Ret | BZ67: 1 | CA67: 3 | CB67: 1
A68: 912 | B68: Porsche | C68: GTLM | D68: Porsche GT Team | BR68: 2 | BS68: 2 | BT68: 3 | BU68: 5 | BV68: 5 | BW68: 6 | BY68: Ret | BZ68: Ret | CA68: 1 | CB68: 2
A69: 62 | B69: Ferrari | C69: GTLM | D69: Risi Competizione | BR69: Ret
A70: 3 | B70: Corvette | D70: Corvette Racing | CC70: 2 | CD70: 1 | CE70: 4 | CF70: 2 | CG70: 1 | CH70: 1 | CI70: 1 | CJ70: 2 | CK70: 2 | CL70: 2 | CM70: 2 | CN70: Ret
A71: 4 | B71: Corvette | D71: Corvette Racing | CC71: 1 | CD71: 2 | CE71: 5 | CF71: 1 | CG71: 4 | CH71: 2 | CI71: 2 | CJ71: 3 | CK71: 1 | CL71: 1 | CM71: 1 | CN71: Ret
A72: 79 | B72: Porsche | D72: WeatherTech Racing | CC72: 3 | CD72: 6 | CE72: 1 | CG72: Ret | CH72: 3 | CI72: 3 | CJ72: 1 | CK72: 3 | CL72: 3 | CM72: 3 | CN72: 1
A73: 24 | B73: BMW | D73: BMW Team RLL | CC73: 6 | CD73: 3 | CE73: 3 | CG73: 2 | CN73: 3
A74: 25 | B74: BMW | D74: BMW Team RLL | CC74: 5 | CD74: 5 | CE74: 2 | CG74: 3 | CN74: Ret
A75: 97 | B75: Porsche | D75: WeatherTech Racing | CN75: 2
A76: 62 | B76: Ferrari | D76: Risi Competizione | CC76: 4 | CD76: 4

Sheet sortingIMSA
E1: 2014 | P1: 2015 | Z1: 2016 | AK1: 2017 | AV1: 2018 | BG1: 2019 | BR1: 2020 | CC1: 2021 | DL1: Wins
A2: Num | B2: Manu | C2: Class | D2: Team | E2: DAY | F2: SEB | G2: LBH | H2: LGA | I2: WGL | J2: MOS | K2: IMS | L2: ELK | M2: VIR | N2: AUS | O2: ATL | P2: DAY | Q2: SEB | R2: LBH | S2: LGA | T2: WGL | U2: MOS | V2: ELK | W2: VIR | X2: AUS | Y2: ATL | Z2: DAY | AA2: SEB | AB2: LBH | AC2: LGA | AD2: WGL | AE2: MOS | AF2: LIM | AG2: ELK | AH2: VIR | AI2: AUS | AJ2: ATL | AK2: DAY | AL2: SEB | AM2: LBH | AN2: AUS | AO2: WGL | AP2: MOS | AQ2: LIM | AR2: ELK | AS2: VIR | AT2: LGA | AU2: ATL | AV2: DAY | AW2: SEB | AX2: LBH | AY2: MOH | AZ2: WGL | BA2: MOS | BB2: LIM | BC2: ELK | BD2: VIR | BE2: LGA | BF2: ATL | BG2: DAY | BH2: SEB | BI2: LBH | BJ2: MOH | BK2: WGL | BL2: MOS | BM2: LIM | BN2: ELK | BO2: VIR | BP2: LGA | BQ2: ATL | BR2: DAY1 | BS2: DAY2 | BT2: SEB1 | BU2: ELK | BV2: VIR | BW2: ATL1 | BX2: MOH | BY2: CLT | BZ2: ATL2 | CA2: LGA | CB2: SEB2 | CC2: DAYQ | CD2: DayR | CE2: SEB | CF2: BEL‡ | CG2: WGL1 | CH2: WGL2 | CI2: LIM | CJ2: ELK | CK2: LGA | CL2: LBH | CM2: VIR | CN2: ATL | CO2: avg | CP2: std | CQ2: entries | CR2: fracWin | CT2: 1 | CU2: 2 | CV2: 3 | CW2: 4 | CX2: 5 | CY2: 6 | CZ2: 7 | DA2: 8 | DB2: 9 | DC2: 10 | DD2: Ret | DE2: NC | DF2: WD | DG2: DNS | DI2: Pro | DJ2: Am | DL2: Manufacturer | DM2: entries | DN2: Pro | DO2: Am | DP2: Total | DQ2: Podiums | DR2: AvgFinish | DS2: stdFinish | DU2: Manufacturer | DV2: 1 | DW2: 2 | DX2: 3 | DY2: 4 | DZ2: 5 | EA2: 6 | EB2: 7 | EC2: 8 | ED2: 9 | EE2: 10 | EF2: Ret | EG2: NC | EH2: WD | EI2: DNS | EK2: Team | EL2: totEntries | EM2: Wins | EN2: fracWin | EO2: Podiums | EP2: nunCars
A3: 3 | B3: Corvette | C3: GTLM | D3: Corvette Racing | E3: Ret | F3: 8 | G3: 1 | H3: 1 | I3: 1 | J3: 1 | K3: 4 | L3: 6 | M3: 7 | N3: 9 | O3: 8 | P3: 1 | Q3: 1 | R3: 3 | S3: 7 | T3: 4 | U3: 3 | V3: 4 | W3: 6 | X3: 6 | Y3: 6 | Z3: 2 | AA3: 9 | AB3: Ret | AC3: 4 | AD3: 7 | AE3: 3 | AF3: 2 | AG3: 6 | AH3: 1 | AI3: 3 | AJ3: 4 | AK3: 4 | AL3: 1 | AM3: 5 | AN3: 1 | AO3: 3 | AP3: 4 | AQ3: 4 | AR3: 4 | AS3: 1 | AT3: 4 | AU3: 2 | AV3: 3 | AW3: 8 | AX3: 4 | AY3: 3 | AZ3: 2 | BA3: 2 | BB3: 2 | BC3: 3 | BD3: 2 | BE3: 3 | BF3: 8 | BG3: 6 | BH3: 3 | BI3: 2 | BJ3: 2 | BK3: 2 | BL3: 7 | BM3: 5 | BN3: 4 | BO3: 3 | BP3: 3 | BQ3: 4 | BR3: 4 | BS3: 1 | BT3: 2 | BU3: 1 | BV3: 1 | BW3: 5 | BX3: 1 | BY3: 1 | BZ3: 2 | CA3: 2 | CB3: 5 | CC3: 2 | CD3: 1 | CE3: 4 | CF3: 2 | CG3: 1 | CH3: 1 | CI3: 1 | CJ3: 2 | CK3: 2 | CL3: 2 | CM3: 2 | CN3: Ret | CO3: =AVERAGE(H3:CN3) -> 3.3493976 | CP3: =_xlfn.STDEV.S(H3:CN3) -> 2.1438155 | CQ3: =COUNT(H3:CN3) -> 83 | CR3: =CT3/CQ3 -> 0.21686747 | CT3: =COUNTIF(H3:CN3,$CT$2) -> 18 | CU3: =COUNTIF(H3:CN3,$CU$2) -> 19 | CV3: =COUNTIF(H3:CN3,$CV$2) -> 12 | CW3: =COUNTIF(H3:CN3,$CW$2) -> 15 | CX3: =COUNTIF(H3:CN3,$CX$2) -> 4 | CY3: =COUNTIF(H3:CN3,$CY$2) -> 6 | CZ3: =COUNTIF(H3:CN3,$CZ$2) -> 4 | DA3: =COUNTIF(H3:CN3,$DA$2) -> 3 | DB3: =COUNTIF(H3:CN3,$DB$2) -> 2 | DC3: =COUNTIF(H3:CN3,$DC$2) -> 0 | DD3: =COUNTIF(H3:CN3,$DD$2) -> 2 | DE3: =COUNTIF(H3:CN3,$DE$2) -> 0 | DF3: =COUNTIF(H3:CN3,$DF$2) -> 0 | DG3: =COUNTIF(H3:CN3,$DG$2) -> 0 | DI3: =COUNTIF(H3:CN3,1) -> 18 | DL3: =sortingWEC!DI3 -> Aston Martin | DM3: =SUMIF($B$3:$B$60,DL3,$CQ$3:$CQ$60) -> 2 | DN3: =SUMIF($B$3:$B$60,DL3,$DI$3:$DI$60) -> 0 | DO3: =SUMIF($B$3:$B$60,DL3,$DG$3:$DG$60) -> 0 | DP3: =SUM(DN3:DO3) -> 0 | DQ3: =SUM(DV3:DX3) -> 0 | DR3: =SUMIF($B$3:$B$60,DL3,$CO$3:$CO$60)/COUNTIF($B$3:$B$60,DL3) -> 6 | DS3: =SUMIF($B$3:$B$60,DL3,$CP$3:$CP$60)/COUNTIF($B$3:$B$60,DL3) -> 0 | DU3: =DL3 -> Aston Martin | DV3: =SUMIF($B$3:$B$60,DU3,$CT$3:$CT$60) -> 0 | DW3: =SUMIF($B$3:$B$60,DU3,$CU$3:$CU$60) -> 0 | DX3: =SUMIF($B$3:$B$60,DU3,$CV$3:$CV$60) -> 0 | DY3: =SUMIF($B$3:$B$60,DU3,$CW$3:$CW$60) -> 0 | DZ3: =SUMIF($B$3:$B$60,DU3,$CX$3:$CX$60) -> 0 | EA3: =SUMIF($B$3:$B$60,DU3,$CY$3:$CY$60) -> 2 | EB3: =SUMIF($B$3:$B$60,DU3,$CZ$3:$CZ$60) -> 0 | EC3: =SUMIF($B$3:$B$60,DU3,$DA$3:$DA$60) -> 0 | ED3: =SUMIF($B$3:$B$60,DU3,$DB$3:$DB$60) -> 0 | EE3: =SUMIF($B$3:$B$60,DU3,$DC$3:$DC$60) -> 0 | EF3: =SUMIF($B$3:$B$60,DU3,$DD$3:$DD$60) -> 0 | EG3: =SUMIF($B$3:$B$60,DU3,$DE$3:$DE$60) -> 0 | EH3: =SUMIF($B$3:$B$60,DU3,$DF$3:$DF$60) -> 0 | EI3: =SUMIF($B$3:$B$60,DU3,$DG$3:$DG$60) -> 0 | EK3: {=_xlfn._xlws.SORT(_xlfn.UNIQUE(D3:D60))} -> AF Corse | EL3: =SUMIF($D$3:$D$60,EK3,$CQ$3:$CQ$60) -> 0 | EM3: =SUMIF($D$3:$D$60,EK3,$CT$3:$CT$60) -> 0 | EN3: =EM3/EL3 -> #DIV/0! | EO3: =SUMIF($D$3:$D$60,EK3,$CT$3:$CT$60)+SUMIF($D$3:$D$60,EK3,$CU$3:$CU$60)+EM3 -> 0 | EP3: =COUNTIF($D$3:$D$60,EK3) -> 1
A4: 4 | B4: Corvette | C4: GTLM | D4: Corvette Racing | E4: 5 | F4: 6 | G4: 3 | H4: 5 | I4: 5 | J4: 7 | K4: 5 | L4: 7 | M4: 9 | N4: 10 | O4: 4 | P4: 3 | Q4: Ret | R4: 7 | S4: 6 | T4: Ret | U4: 5 | V4: 7 | W4: 8 | X4: 8 | Y4: 3 | Z4: 1 | AA4: 1 | AB4: 2 | AC4: 7 | AD4: 4 | AE4: 2 | AF4: 1 | AG4: 1 | AH4: Ret | AI4: 5 | AJ4: 3 | AK4: 9 | AL4: Ret | AM4: 1 | AN4: 7 | AO4: 5 | AP4: Ret | AQ4: 8 | AR4: 5 | AS4: 6 | AT4: 9 | AU4: 4 | AV4: 4 | AW4: 6 | AX4: 1 | AY4: 8 | AZ4: 5 | BA4: 3 | BB4: 4 | BC4: 2 | BD4: 6 | BE4: 5 | BF4: 2 | BG4: 8 | BH4: 8 | BI4: 3 | BJ4: 8 | BK4: Ret | BL4: 8 | BM4: 6 | BN4: 6 | BO4: 4 | BP4: 4 | BQ4: 7 | BR4: 7 | BS4: 5 | BT4: 1 | BU4: 2 | BV4: 4 | BW4: 2 | BX4: 2 | BY4: Ret | BZ4: 4 | CA4: 6 | CB4: DSQ | CC4: 1 | CD4: 2 | CE4: 5 | CF4: 1 | CG4: 4 | CH4: 2 | CI4: 2 | CJ4: 3 | CK4: 1 | CL4: 1 | CM4: 1 | CN4: Ret | CO4: =AVERAGE(H4:CN4) -> 4.5263158 | CP4: =_xlfn.STDEV.S(H4:CN4) -> 2.5375772 | CQ4: =COUNT(H4:CN4) -> 76 | CR4: =CT4/CQ4 -> 0.15789474 | CT4: =COUNTIF(H4:CN4,$CT$2) -> 12 | CU4: =COUNTIF(H4:CN4,$CU$2) -> 10 | CV4: =COUNTIF(H4:CN4,$CV$2) -> 6 | CW4: =COUNTIF(H4:CN4,$CW$2) -> 10 | CX4: =COUNTIF(H4:CN4,$CX$2) -> 11 | CY4: =COUNTIF(H4:CN4,$CY$2) -> 7 | CZ4: =COUNTIF(H4:CN4,$CZ$2) -> 8 | DA4: =COUNTIF(H4:CN4,$DA$2) -> 8 | DB4: =COUNTIF(H4:CN4,$DB$2) -> 3 | DC4: =COUNTIF(H4:CN4,$DC$2) -> 1 | DD4: =COUNTIF(H4:CN4,$DD$2) -> 8 | DE4: =COUNTIF(H4:CN4,$DE$2) -> 0 | DF4: =COUNTIF(H4:CN4,$DF$2) -> 0 | DG4: =COUNTIF(H4:CN4,$DG$2) -> 0 | DI4: =COUNTIF(H4:CN4,1) -> 12 | DL4: =sortingWEC!DI4 -> BMW | DM4: =SUMIF($B$3:$B$60,DL4,$CQ$3:$CQ$60) -> 137 | DN4: =SUMIF($B$3:$B$60,DL4,$DI$3:$DI$60) -> 12 | DO4: =SUMIF($B$3:$B$60,DL4,$DG$3:$DG$60) -> 0 | DP4: =SUM(DN4:DO4) -> 12 | DQ4: =SUM(DV4:DX4) -> 48 | DR4: =SUMIF($B$3:$B$60,DL4,$CO$3:$CO$60)/COUNTIF($B$3:$B$60,DL4) -> 5.6449683 | DS4: =SUMIF($B$3:$B$60,DL4,$CP$3:$CP$60)/COUNTIF($B$3:$B$60,DL4) -> 2.4275352 | DU4: =DL4 -> BMW | DV4: =SUMIF($B$3:$B$60,DU4,$CT$3:$CT$60) -> 12 | DW4: =SUMIF($B$3:$B$60,DU4,$CU$3:$CU$60) -> 17 | DX4: =SUMIF($B$3:$B$60,DU4,$CV$3:$CV$60) -> 19 | DY4: =SUMIF($B$3:$B$60,DU4,$CW$3:$CW$60) -> 21 | DZ4: =SUMIF($B$3:$B$60,DU4,$CX$3:$CX$60) -> 15 | EA4: =SUMIF($B$3:$B$60,DU4,$CY$3:$CY$60) -> 15 | EB4: =SUMIF($B$3:$B$60,DU4,$CZ$3:$CZ$60) -> 16 | EC4: =SUMIF($B$3:$B$60,DU4,$DA$3:$DA$60) -> 13 | ED4: =SUMIF($B$3:$B$60,DU4,$DB$3:$DB$60) -> 5 | EE4: =SUMIF($B$3:$B$60,DU4,$DC$3:$DC$60) -> 4 | EF4: =SUMIF($B$3:$B$60,DU4,$DD$3:$DD$60) -> 19 | EG4: =SUMIF($B$3:$B$60,DU4,$DE$3:$DE$60) -> 0 | EH4: =SUMIF($B$3:$B$60,DU4,$DF$3:$DF$60) -> 0 | EI4: =SUMIF($B$3:$B$60,DU4,$DG$3:$DG$60) -> 0 | EK4: Aston Martin Racing | EL4: =SUMIF($D$3:$D$60,EK4,$CQ$3:$CQ$60) -> 2 | EM4: =SUMIF($D$3:$D$60,EK4,$CT$3:$CT$60) -> 0 | EN4: =EM4/EL4 -> 0 | EO4: =SUMIF($D$3:$D$60,EK4,$CT$3:$CT$60)+SUMIF($D$3:$D$60,EK4,$CU$3:$CU$60)+EM4 -> 0 | EP4: =COUNTIF($D$3:$D$60,EK4) -> 1
