Workbook

Sheet readMe

Sheet allResultsWEC
E1: 2012 | M1: 2013 | U1: 2014 | AC1: 2015 | AK1: 2016 | AT1: 2017 | BC1: 2018-2019 | BK1: 2019-2020 | BS1: 2021 | BY1: 2022 | CE1: 2023
A2: Num | B2: Manu | C2: Class | D2: Team | E2: Sebring | F2: Spa | G2: Le Mans | H2: Silverstone | I2: Interlagos | J2: Bahrain | K2: Fuji | L2: Shanghai | M2: Silverstone | N2: Spa | O2: Le Mans | P2: Interlagos | Q2: Cota | R2: Fuji | S2: Shanghai | T2: Bahrain | U2: Silverstone | V2: Spa | W2: Le Mans | X2: COTA | Y2: Fuji | Z2: Shanghai | AA2: Bahrain | AB2: Interlagos | AC2: Silverstone | AD2: Spa | AE2: Le Mans | AF2: Nürburgring | AG2: COTA | AH2: Fuji | AI2: Shanghai | AJ2: Bahrain | AK2: Silverstone | AL2: Spa | AM2: Le Mans | AN2: Nürburgring | AO2: Mexico | AP2: COTA | AQ2: Fuji | AR2: Shanghai | AS2: Bahrain | AT2: Silverstone | AU2: Spa | AV2: Le Mans | AW2: Nürburgring | AX2: Mexico | AY2: COTA | AZ2: Fuji | BA2: Shanghai | BB2: Bahrain | BC2: Spa | BD2: Le Mans | BE2: Silverstone | BF2: Fuji | BG2: Shanghai | BH2: Sebring | BI2: Spa | BJ2: Le Mans | BK2: Silverstone | BL2: Fuji | BM2: Shanghai | BN2: Bahrain | BO2: COTA | BP2: Spa | BQ2: Le Mans | BR2: Bahrain | BS2: Spa | BT2: Portimao | BU2: Monza | BV2: Le Mans | BW2: Bahrain | BX2: Bahrain | BY2: Sebring | BZ2: Spa | CA2: Le Mans | CB2: Monza | CC2: Fuji | CD2: Bahrain | CE2: Sebring | CF2: Portimao | CG2: Spa | CH2: Le Mans | CI2: Monza | CJ2: Fuji | CK2: Bahrain
A3: 51 | B3: Ferrari | C3: Pro | D3: AF Corse | E3: 1 | F3: 2 | G3: 1 | H3: 1 | I3: 1 | J3: 1 | K3: 2 | L3: 3
A4: 97 | B4: Aston Martin | C4: Pro | D4: Aston Martin Racing | E4: 3 | F4: Ret | G4: 3 | H4: 2 | I4: 2 | J4: 2 | K4: 3 | L4: 1
A5: 77 | B5: Porsche | C5: Pro | D5: Team Felbermayr-Proton | E5: 2 | F5: 1 | G5: Ret | H5: 3 | I5: 3 | J5: 3 | K5: 1 | L5: 2
A6: 59 | B6: Ferrari | C6: Pro | D6: Luxury Racing | E6: Ret | F6: 3 | G6: 2
A7: 50 | B7: Corvette | C7: Am | D7: Larbre Compétition | E7: 2 | F7: 2 | G7: 1 | H7: 4 | I7: 2 | J7: 4 | K7: 1 | L7: 1
A8: 88 | B8: Porsche | C8: Am | D8: Team Felbermayr-Proton | E8: 1 | F8: 1 | G8: Ret | H8: 2 | I8: 1 | J8: 1 | K8: 3 | L8: 2
A9: 57 | B9: Ferrari | C9: Am | D9: Krohn Racing | E9: 5 | F9: 5 | G9: 2 | H9: 3 | I9: Ret | J9: 3 | K9: 2 | L9: 3
A10: 61 | B10: Ferrari | C10: Am | D10: AF Corse-Waltrip | E10: 4 | F10: DNS | G10: 4 | H10: 1 | I10: 3 | J10: 2 | L10: 4
A11: 55 | B11: Porsche | C11: Am | D11: JWA-Avila | E11: 6 | F11: 4 | G11: 5 | H11: 5 | I11: 4 | J11: 6 | K11: 5 | L11: 6
A12: 58 | B12: Ferrari | C12: Am | D12: Luxury Racing | E12: DNS | F12: 3 | G12: Ret
A13: 51 | B13: Ferrari | C13: Pro | D13: AF Corse | M13: 5 | N13: 1 | O13: 5 | P13: 1 | Q13: 2 | R13: 2 | S13: 4 | T13: 1
A14: 97 | B14: Aston Martin | C14: Pro | D14: Aston Martin Racing | M14: 1 | N14: 3 | O14: 3 | P14: 2 | Q14: Ret | R14: 1 | S14: 1 | T14: Ret
A15: 92 | B15: Porsche | C15: Pro | D15: Porsche AG Team Manthey | M15: 4 | N15: 4 | O15: 1 | P15: 4 | Q15: 4 | R15: 4 | S15: 6 | T15: 4
A16: 91 | B16: Porsche | C16: Pro | D16: Porsche AG Team Manthey | M16: 6 | N16: Ret | O16: 2 | P16: 3 | Q16: 5 | R16: 3 | S16: 3 | T16: 2
A17: 71 | B17: Ferrari | C17: Pro | D17: AF Corse | M17: 2 | N17: 2 | O17: 4 | P17: Ret | Q17: 3 | R17: 5 | S17: 5 | T17: 3
A18: 99 | B18: Aston Martin | C18: Pro | D18: Aston Martin Racing | M18: 3 | N18: 5 | O18: Ret | P18: Ret | Q18: 1 | R18: 6 | S18: 2 | T18: Ret
A19: 81 | B19: Ferrari | C19: Am | D19: 8 Star Motorsports | M19: 3 | N19: 1 | O19: 6 | P19: 2 | Q19: 4 | R19: 4 | S19: 1 | T19: 2
A20: 96 | B20: Aston Martin | C20: Am | D20: Aston Martin Racing | M20: 4 | N20: 4 | O20: 4 | P20: 1 | Q20: 1 | R20: 2 | S20: 3 | T20: 5
A21: 76 | B21: Porsche | C21: Am | D21: IMSA Performance Matmut | M21: 7 | N21: 6 | O21: 1 | P21: 4 | Q21: 3 | R21: 5 | S21: 2 | T21: 6
A22: 95 | B22: Aston Martin | C22: Am | D22: Aston Martin Racing | M22: 1 | N22: 2 | O22: Ret | P22: Ret | Q22: 2 | R22: 1 | S22: Ret | T22: 1
A23: 50 | B23: Corvette | C23: Am | D23: Larbre Compétition | M23: 2 | N23: 3 | O23: 3 | P23: 6 | Q23: 6 | R23: 8 | S23: 5 | T23: 4
A24: 88 | B24: Porsche | C24: Am | D24: Proton Competition | M24: 5 | N24: 5 | O24: 5 | P24: 3 | Q24: 5 | R24: 3 | S24: 4 | T24: Ret
A25: 61 | B25: Ferrari | C25: Am | D25: AF Corse | M25: 8 | N25: 8 | O25: 2 | P25: Ret | Q25: 7 | R25: 7 | S25: 6 | T25: 3
A26: 57 | B26: Ferrari | C26: Am | D26: Krohn Racing | M26: 6 | N26: 7 | O26: Ret | P26: 5 | Q26: 8 | R26: 6 | S26: Ret | T26: Ret
A27: 51 | B27: Ferrari | C27: Pro | D27: AF Corse | U27: 4 | V27: 1 | W27: 1 | X27: 3 | Y27: 1 | Z27: Ret | AA27: 1 | AB27: 4
A28: 92 | B28: Porsche | C28: Pro | D28: Porsche Team Manthey | U28: 1 | V28: 6 | W28: 2 | X28: 2 | Y28: 6 | Z28: 1 | AA28: 5 | AB28: 2
A29: 97 | B29: Aston Martin | C29: Pro | D29: Aston Martin Racing | U29: 3 | V29: 4 | W29: 3 | X29: 1 | Y29: 5 | Z29: Ret | AA29: 2 | AB29: 1
A30: 91 | B30: Porsche | C30: Pro | D30: Porsche Team Manthey | U30: 2 | V30: 2 | W30: 4 | X30: 4 | Y30: 4 | Z30: 2 | AA30: 4 | AB30: 6
A31: 71 | B31: Ferrari | C31: Pro | D31: AF Corse | U31: 5 | V31: 3 | W31: Ret | X31: 5 | Y31: 2 | Z31: 3 | AA31: 3 | AB31: 3
A32: 99 | B32: Aston Martin | C32: Pro | D32: Aston Martin Racing | U32: 7 | V32: 5 | W32: WD | X32: 6 | Y32: 3 | Z32: 4 | AA32: 6 | AB32: 5
A33: 52 | B33: Ferrari | C33: Pro | D33: Ram Racing | U33: 6 | W33: Ret
A34: 95 | B34: Aston Martin | C34: Am | D34: Aston Martin Racing | U34: 1 | V34: 2 | W34: 1 | X34: 2 | Y34: 1 | Z34: 2 | AA34: 1 | AB34: 2
A35: 98 | B35: Aston Martin | C35: Am | D35: Aston Martin Racing | U35: 2 | V35: 3 | W35: 5 | X35: 1 | Y35: 2 | Z35: 1 | AA35: 3 | AB35: 1
A36: 88 | B36: Porsche | C36: Am | D36: Proton Competition | U36: 4 | V36: 4 | W36: 2 | X36: 3 | Y36: 4 | Z36: 5 | AA36: 4 | AB36: 4
A37: 61 | B37: Ferrari | C37: Am | D37: AF Corse | U37: 6 | V37: 1 | W37: 3 | X37: 4 | Y37: 5 | AA37: 6 | AB37: 6
A38: 81 | B38: Ferrari | C38: Am | D38: AF Corse | U38: 3 | V38: 5 | W38: Ret | X38: 6 | Y38: Ret | AA38: 2 | AB38: 3
A39: 90 | B39: Ferrari | C39: Am | D39: 8 Star Motorsports | U39: Ret | V39: 7 | W39: 4 | X39: 5 | Y39: Ret | Z39: 3 | AA39: 5 | AB39: Ret
A40: 75 | B40: Porsche | C40: Am | D40: Prospeed Competition | U40: Ret | V40: 6 | W40: Ret | X40: 7 | Y40: 3 | Z40: 4 | AA40: 7 | AB40: 5
...

Sheet sortingWEC
E1: 2012 | M1: 2013 | U1: 2014 | AC1: 2015 | AK1: 2016 | AT1: 2017 | BC1: 2018-2019 | BK1: 2019-2020 | BS1: 2021 | BY1: 2022 | CE1: 2023 | CL1: Stats | CQ1: Number of Specified Results | DF1: Wins | DR1: Number of Result by Manu
A2: Num | B2: Manu | C2: Class | D2: Team | E2: Sebring | F2: Spa | G2: Le Mans | H2: Silverstone | I2: Interlagos | J2: Bahrain | K2: Fuji | L2: Shanghai | M2: Silverstone | N2: Spa | O2: Le Mans | P2: Interlagos | Q2: Cota | R2: Fuji | S2: Shanghai | T2: Bahrain | U2: Silverstone | V2: Spa | W2: Le Mans | X2: COTA | Y2: Fuji | Z2: Shanghai | AA2: Bahrain | AB2: Interlagos | AC2: Silverstone | AD2: Spa | AE2: Le Mans | AF2: Nürburgring | AG2: COTA | AH2: Fuji | AI2: Shanghai | AJ2: Bahrain | AK2: Silverstone | AL2: Spa | AM2: Le Mans | AN2: Nürburgring | AO2: Mexico | AP2: COTA | AQ2: Fuji | AR2: Shanghai | AS2: Bahrain | AT2: Silverstone | AU2: Spa | AV2: Le Mans | AW2: Nürburgring | AX2: Mexico | AY2: COTA | AZ2: Fuji | BA2: Shanghai | BB2: Bahrain | BC2: Spa | BD2: Le Mans | BE2: Silverstone | BF2: Fuji | BG2: Shanghai | BH2: Sebring | BI2: Spa | BJ2: Le Mans | BK2: Silverstone | BL2: Fuji | BM2: Shanghai | BN2: Bahrain | BO2: COTA | BP2: Spa | BQ2: Le Mans | BR2: Bahrain | BS2: Spa | BT2: Portimao | BU2: Monza | BV2: Le Mans | BW2: Bahrain | BX2: Bahrain | BY2: Sebring | BZ2: Spa | CA2: Le Mans | CB2: Monza | CC2: Fuji | CD2: Bahrain | CE2: Sebring | CF2: Portimao | CG2: Spa | CH2: Le Mans | CI2: Monza | CJ2: Fuji | CK2: Bahrain | CL2: avg | CM2: std | CN2: entries | CO2: fracWin | CQ2: 1 | CR2: 2 | CS2: 3 | CT2: 4 | CU2: 5 | CV2: 6 | CW2: 7 | CX2: 8 | CY2: 9 | CZ2: 10 | DA2: Ret | DB2: NC | DC2: WD | DD2: DNS | DF2: Pro | DG2: Am | DI2: Manufacturer | DJ2: entries | DK2: Pro | DL2: Am | DM2: Total | DN2: Podiums | DO2: AvgFinish | DP2: stdFinish | DR2: Manufacturer | DS2: 1 | DT2: 2 | DU2: 3 | DV2: 4 | DW2: 5 | DX2: 6 | DY2: 7 | DZ2: 8 | EA2: 9 | EB2: 10 | EC2: Ret | ED2: NC | EE2: WD | EF2: DNS | EH2: Manufacturer | EI2: 1 | EJ2: 2 | EK2: 3 | EL2: 4 | EM2: 5 | EN2: 6 | EO2: 7 | EP2: 8 | EQ2: 9 | ER2: 10 | ES2: Ret | ET2: NC | EU2: WD | EV2: DNS | EX2: Team | EY2: totEntries | EZ2: Wins | FA2: fracWin | FB2: Podiums | FC2: nunCars
A3: 21 | B3: Ferrari | C3: Am | D3: AF Corse | BY3: 7 | BZ3: 11 | CA3: 7 | CB3: 7 | CC3: 10 | CD3: 11 | CE3: 4 | CF3: 5 | CG3: 6 | CH3: Ret | CI3: 9 | CJ3: 12 | CK3: 11 | CL3: =AVERAGE(E3:CK3) -> 8.3333333 | CM3: =_xlfn.STDEV.S(E3:CK3) -> 2.6742317 | CN3: =COUNT(E3:CK3) -> 12 | CO3: =CQ3/CN3 -> 0 | CQ3: =COUNTIF(E3:CK3,$CQ$2) -> 0 | CR3: =COUNTIF(E3:CK3,$CR$2) -> 0 | CS3: =COUNTIF(E3:CK3,$CS$2) -> 0 | CT3: =COUNTIF(E3:CK3,$CT$2) -> 1 | CU3: =COUNTIF(E3:CK3,$CU$2) -> 1 | CV3: =COUNTIF(E3:CK3,$CV$2) -> 1 | CW3: =COUNTIF(E3:CK3,$CW$2) -> 3 | CX3: =COUNTIF(E3:CK3,$CX$2) -> 0 | CY3: =COUNTIF(E3:CK3,$CY$2) -> 1 | CZ3: =COUNTIF(E3:CK3,$CZ$2) -> 1 | DA3: =COUNTIF(E3:CK3,$DA$2) -> 1 | DB3: =COUNTIF(E3:CK3,$DB$2) -> 0 | DC3: =COUNTIF(E3:CK3,$DC$2) -> 0 | DD3: =COUNTIF(E3:CK3,$DD$2) -> 0 | DF3: =IF(C3=$DF$2,COUNTIF(E3:CK3,1),"" ) | DG3: =IF(C3=$DG$2,COUNTIF(E3:CK3,1),"" ) -> 0 | DI3: Aston Martin | DJ3: =SUMIF($B$3:$B$60,DI3,$CN$3:$CN$60) -> 250 | DK3: =SUMIF($B$3:$B$60,DI3,$DF$3:$DF$60) -> 19 | DL3: =SUMIF($B$3:$B$60,DI3,$DG$3:$DG$60) -> 33 | DM3: =SUM(DK3:DL3) -> 52 | DN3: =SUM(DS3:DU3) -> 124 | DO3: =SUMIF($B$3:$B$60,DI3,$CL$3:$CL$60)/COUNTIF($B$3:$B$60,DI3) -> 4.4111189 | DP3: =SUMIF($B$3:$B$60,DI3,$CM$3:$CM$60)/COUNTIF($B$3:$B$60,DI3) -> 2.6534556 | DR3: =DI3 -> Aston Martin | DS3: =SUMIF($B$3:$B$60,DR3,$CQ$3:$CQ$60) -> 52 | DT3: =SUMIF($B$3:$B$60,DR3,$CR$3:$CR$60) -> 38 | DU3: =SUMIF($B$3:$B$60,DR3,$CS$3:$CS$60) -> 34 | DV3: =SUMIF($B$3:$B$60,DR3,$CT$3:$CT$60) -> 22 | DW3: =SUMIF($B$3:$B$60,DR3,$CU$3:$CU$60) -> 30 | DX3: =SUMIF($B$3:$B$60,DR3,$CV$3:$CV$60) -> 25 | DY3: =SUMIF($B$3:$B$60,DR3,$CW$3:$CW$60) -> 22 | DZ3: =SUMIF($B$3:$B$60,DR3,$CX$3:$CX$60) -> 7 | EA3: =SUMIF($B$3:$B$60,DR3,$CY$3:$CY$60) -> 5 | EB3: =SUMIF($B$3:$B$60,DR3,$CZ$3:$CZ$60) -> 6 | EC3: =SUMIF($B$3:$B$60,DR3,$DA$3:$DA$60) -> 32 | ED3: =SUMIF($B$3:$B$60,DR3,$DB$3:$DB$60) -> 2 | EE3: =SUMIF($B$3:$B$60,DR3,$DC$3:$DC$60) -> 1 | EF3: =SUMIF($B$3:$B$60,DR3,$DD$3:$DD$60) -> 0 | EH3: =DI3 -> Aston Martin | EI3: =DS3/$DJ$3 -> 0.208 | EJ3: =DT3/$DJ$3 -> 0.152 | EK3: =DU3/$DJ$3 -> 0.136 | EL3: =DV3/$DJ$3 -> 0.088 | EM3: =DW3/$DJ$3 -> 0.12 | EN3: =DX3/$DJ$3 -> 0.1 | EO3: =DY3/$DJ$3 -> 0.088 | EP3: =DZ3/$DJ$3 -> 0.028 | ... EV3: =EF3/$DJ$3 -> 0 | EX3: {=_xlfn._xlws.SORT(_xlfn.UNIQUE(D3:D60))} -> 8 Star Motorsports | EY3: =SUMIF($D$3:$D$60,EX3,$CN$3:$CN$60) -> 13 | EZ3: =SUMIF($D$3:$D$60,EX3,$CQ$3:$CQ$60) -> 2 | FA3: =EZ3/EY3 -> 0.15384615 | FB3: =SUMIF($D$3:$D$60,EX3,$CR$3:$CR$60)+SUMIF($D$3:$D$60,EX3,$CS$3:$CS$60)+EZ3 -> 6 | FC3: =COUNTIF($D$3:$D$60,EX3) -> 2
A4: 25 | B4: Aston Martin | C4: Am | D4: ORT by TF | CE4: 9 | CF4: 8 | CG4: 3 | CH4: 2 | CI4: 7 | CJ4: 13 | CK4: Ret | CL4: =AVERAGE(E4:CK4) -> 7 | CM4: =_xlfn.STDEV.S(E4:CK4) -> 4.0496913 | CN4: =COUNT(E4:CK4) -> 6 | CO4: =CQ4/CN4 -> 0 | CQ4: =COUNTIF(E4:CK4,$CQ$2) -> 0 | CR4: =COUNTIF(E4:CK4,$CR$2) -> 1 | CS4: =COUNTIF(E4:CK4,$CS$2) -> 1 | CT4: =COUNTIF(E4:CK4,$CT$2) -> 0 | CU4: =COUNTIF(E4:CK4,$CU$2) -> 0 | CV4: =COUNTIF(E4:CK4,$CV$2) -> 0 | CW4: =COUNTIF(E4:CK4,$CW$2) -> 1 | CX4: =COUNTIF(E4:CK4,$CX$2) -> 1 | CY4: =COUNTIF(E4:CK4,$CY$2) -> 1 | CZ4: =COUNTIF(E4:CK4,$CZ$2) -> 0 | DA4: =COUNTIF(E4:CK4,$DA$2) -> 1 | DB4: =COUNTIF(E4:CK4,$DB$2) -> 0 | DC4: =COUNTIF(E4:CK4,$DC$2) -> 0 | DD4: =COUNTIF(E4:CK4,$DD$2) -> 0 | DF4: =IF(C4=$DF$2,COUNTIF(E4:CK4,1),"" ) | DG4: =IF(C4=$DG$2,COUNTIF(E4:CK4,1),"" ) -> 0 | DI4: BMW | DJ4: =SUMIF($B$3:$B$60,DI4,$CN$3:$CN$60) -> 14 | DK4: =SUMIF($B$3:$B$60,DI4,$DF$3:$DF$60) -> 0 | DL4: =SUMIF($B$3:$B$60,DI4,$DG$3:$DG$60) -> 0 | DM4: =SUM(DK4:DL4) -> 0 | DN4: =SUM(DS4:DU4) -> 2 | DO4: =SUMIF($B$3:$B$60,DI4,$CL$3:$CL$60)/COUNTIF($B$3:$B$60,DI4) -> 6.7708333 | DP4: =SUMIF($B$3:$B$60,DI4,$CM$3:$CM$60)/COUNTIF($B$3:$B$60,DI4) -> 3.2263196 | DR4: =DI4 -> BMW | DS4: =SUMIF($B$3:$B$60,DR4,$CQ$3:$CQ$60) -> 0 | DT4: =SUMIF($B$3:$B$60,DR4,$CR$3:$CR$60) -> 2 | DU4: =SUMIF($B$3:$B$60,DR4,$CS$3:$CS$60) -> 0 | DV4: =SUMIF($B$3:$B$60,DR4,$CT$3:$CT$60) -> 1 | DW4: =SUMIF($B$3:$B$60,DR4,$CU$3:$CU$60) -> 2 | DX4: =SUMIF($B$3:$B$60,DR4,$CV$3:$CV$60) -> 1 | DY4: =SUMIF($B$3:$B$60,DR4,$CW$3:$CW$60) -> 2 | DZ4: =SUMIF($B$3:$B$60,DR4,$CX$3:$CX$60) -> 2 | EA4: =SUMIF($B$3:$B$60,DR4,$CY$3:$CY$60) -> 2 | EB4: =SUMIF($B$3:$B$60,DR4,$CZ$3:$CZ$60) -> 1 | EC4: =SUMIF($B$3:$B$60,DR4,$DA$3:$DA$60) -> 2 | ED4: =SUMIF($B$3:$B$60,DR4,$DB$3:$DB$60) -> 0 | EE4: =SUMIF($B$3:$B$60,DR4,$DC$3:$DC$60) -> 0 | EF4: =SUMIF($B$3:$B$60,DR4,$DD$3:$DD$60) -> 0 | EH4: =DI4 -> BMW | EI4: =DS4/$DJ$4 -> 0 | EJ4: =DT4/$DJ$4 -> 0.14285714 | EK4: =DU4/$DJ$4 -> 0 | EL4: =DV4/$DJ$4 -> 0.071428571 | EM4: =DW4/$DJ$4 -> 0.14285714 | EN4: =DX4/$DJ$4 -> 0.071428571 | EO4: =DY4/$DJ$4 -> 0.14285714 | EP4: =DZ4/$DJ$4 -> 0.14285714 | ... EV4: =EF4/$DJ$4 -> 0 | EX4: AF Corse | EY4: =SUMIF($D$3:$D$60,EX4,$CN$3:$CN$60) -> 238 | EZ4: =SUMIF($D$3:$D$60,EX4,$CQ$3:$CQ$60) -> 45 | FA4: =EZ4/EY4 -> 0.18907563 | FB4: =SUMIF($D$3:$D$60,EX4,$CR$3:$CR$60)+SUMIF($D$3:$D$60,EX4,$CS$3:$CS$60)+EZ4 -> 125 | FC4: =COUNTIF($D$3:$D$60,EX4) -> 8
A5: 33 | B5: Aston Martin | C5: Am | D5: TF Sport | BS5: 2 | BT5: 7 | BU5: 12 | BV5: 2 | BW5: 1 | BX5: Ret | BY5: 2 | BZ5: 2 | CA5: 1 | CB5: Ret | CC5: 1 | CD5: 4 | CL5: =AVERAGE(E5:CK5) -> 3.4 | CM5: =_xlfn.STDEV.S(E5:CK5) -> 3.5339622 | CN5: =COUNT(E5:CK5) -> 10 | CO5: =CQ5/CN5 -> 0.3 | CQ5: =COUNTIF(E5:CK5,$CQ$2) -> 3 | CR5: =COUNTIF(E5:CK5,$CR$2) -> 4 | CS5: =COUNTIF(E5:CK5,$CS$2) -> 0 | CT5: =COUNTIF(E5:CK5,$CT$2) -> 1 | CU5: =COUNTIF(E5:CK5,$CU$2) -> 0 | CV5: =COUNTIF(E5:CK5,$CV$2) -> 0 | CW5: =COUNTIF(E5:CK5,$CW$2) -> 1 | CX5: =COUNTIF(E5:CK5,$CX$2) -> 0 | CY5: =COUNTIF(E5:CK5,$CY$2) -> 0 | CZ5: =COUNTIF(E5:CK5,$CZ$2) -> 0 | DA5: =COUNTIF(E5:CK5,$DA$2) -> 2 | DB5: =COUNTIF(E5:CK5,$DB$2) -> 0 | DC5: =COUNTIF(E5:CK5,$DC$2) -> 0 | DD5: =COUNTIF(E5:CK5,$DD$2) -> 0 | DF5: =IF(C5=$DF$2,COUNTIF(E5:CK5,1),"" ) | DG5: =IF(C5=$DG$2,COUNTIF(E5:CK5,1),"" ) -> 3 | DI5: Corvette | DJ5: =SUMIF($B$3:$B$60,DI5,$CN$3:$CN$60) -> 42 | DK5: =SUMIF($B$3:$B$60,DI5,$DF$3:$DF$60) -> 1 | DL5: =SUMIF($B$3:$B$60,DI5,$DG$3:$DG$60) -> 6 | DM5: =SUM(DK5:DL5) -> 7 | DN5: =SUM(DS5:DU5) -> 21 | DO5: =SUMIF($B$3:$B$60,DI5,$CL$3:$CL$60)/COUNTIF($B$3:$B$60,DI5) -> 3.1238095 | DP5: =SUMIF($B$3:$B$60,DI5,$CM$3:$CM$60)/COUNTIF($B$3:$B$60,DI5) -> 1.9207635 | DR5: =DI5 -> Corvette | DS5: =SUMIF($B$3:$B$60,DR5,$CQ$3:$CQ$60) -> 7 | DT5: =SUMIF($B$3:$B$60,DR5,$CR$3:$CR$60) -> 8 | DU5: =SUMIF($B$3:$B$60,DR5,$CS$3:$CS$60) -> 6 | DV5: =SUMIF($B$3:$B$60,DR5,$CT$3:$CT$60) -> 7 | DW5: =SUMIF($B$3:$B$60,DR5,$CU$3:$CU$60) -> 6 | DX5: =SUMIF($B$3:$B$60,DR5,$CV$3:$CV$60) -> 4 | DY5: =SUMIF($B$3:$B$60,DR5,$CW$3:$CW$60) -> 3 | DZ5: =SUMIF($B$3:$B$60,DR5,$CX$3:$CX$60) -> 1 | EA5: =SUMIF($B$3:$B$60,DR5,$CY$3:$CY$60) -> 0 | EB5: =SUMIF($B$3:$B$60,DR5,$CZ$3:$CZ$60) -> 0 | EC5: =SUMIF($B$3:$B$60,DR5,$DA$3:$DA$60) -> 4 | ED5: =SUMIF($B$3:$B$60,DR5,$DB$3:$DB$60) -> 0 | EE5: =SUMIF($B$3:$B$60,DR5,$DC$3:$DC$60) -> 0 | EF5: =SUMIF($B$3:$B$60,DR5,$DD$3:$DD$60) -> 0 | EH5: =DI5 -> Corvette | EI5: =DS5/$DJ$5 -> 0.16666667 | EJ5: =DT5/$DJ$5 -> 0.19047619 | EK5: =DU5/$DJ$5 -> 0.14285714 | EL5: =DV5/$DJ$5 -> 0.16666667 | EM5: =DW5/$DJ$5 -> 0.14285714 | EN5: =DX5/$DJ$5 -> 0.095238095 | EO5: =DY5/$DJ$5 -> 0.071428571 | EP5: =DZ5/$DJ$5 -> 0.023809524 | ... EV5: =EF5/$DJ$5 -> 0 | EX5: Aston Martin Racing | EY5: =SUMIF($D$3:$D$60,EX5,$CN$3:$CN$60) -> 206 | EZ5: =SUMIF($D$3:$D$60,EX5,$CQ$3:$CQ$60) -> 45 | FA5: =EZ5/EY5 -> 0.2184466 | FB5: =SUMIF($D$3:$D$60,EX5,$CR$3:$CR$60)+SUMIF($D$3:$D$60,EX5,$CS$3:$CS$60)+EZ5 -> 103 | FC5: =COUNTIF($D$3:$D$60,EX5) -> 6
A6: 33 | B6: Corvette | C6: Am | D6: Corvette Racing | CE6: 1 | CF6: 1 | CG6: 2 | CH6: 1 | CI6: 4 | CJ6: 2 | CK6: 7 | CL6: =AVERAGE(E6:CK6) -> 2.5714286 | CM6: =_xlfn.STDEV.S(E6:CK6) -> 2.2253946 | CN6: =COUNT(E6:CK6) -> 7 | CO6: =CQ6/CN6 -> 0.42857143 | CQ6: =COUNTIF(E6:CK6,$CQ$2) -> 3 | CR6: =COUNTIF(E6:CK6,$CR$2) -> 2 | CS6: =COUNTIF(E6:CK6,$CS$2) -> 0 | CT6: =COUNTIF(E6:CK6,$CT$2) -> 1 | CU6: =COUNTIF(E6:CK6,$CU$2) -> 0 | CV6: =COUNTIF(E6:CK6,$CV$2) -> 0 | CW6: =COUNTIF(E6:CK6,$CW$2) -> 1 | CX6: =COUNTIF(E6:CK6,$CX$2) -> 0 | CY6: =COUNTIF(E6:CK6,$CY$2) -> 0 | CZ6: =COUNTIF(E6:CK6,$CZ$2) -> 0 | DA6: =COUNTIF(E6:CK6,$DA$2) -> 0 | DB6: =COUNTIF(E6:CK6,$DB$2) -> 0 | DC6: =COUNTIF(E6:CK6,$DC$2) -> 0 | DD6: =COUNTIF(E6:CK6,$DD$2) -> 0 | DF6: =IF(C6=$DF$2,COUNTIF(E6:CK6,1),"" ) | DG6: =IF(C6=$DG$2,COUNTIF(E6:CK6,1),"" ) -> 3 | DI6: Dodge | DJ6: =SUMIF($B$3:$B$60,DI6,$CN$3:$CN$60) -> 0 | DK6: =SUMIF($B$3:$B$60,DI6,$DF$3:$DF$60) -> 0 | DL6: =SUMIF($B$3:$B$60,DI6,$DG$3:$DG$60) -> 0 | DM6: =SUM(DK6:DL6) -> 0 | DN6: =SUM(DS6:DU6) -> 0 | DR6: =DI6 -> Dodge | DS6: =SUMIF($B$3:$B$60,DR6,$CQ$3:$CQ$60) -> 0 | DT6: =SUMIF($B$3:$B$60,DR6,$CR$3:$CR$60) -> 0 | DU6: =SUMIF($B$3:$B$60,DR6,$CS$3:$CS$60) -> 0 | DV6: =SUMIF($B$3:$B$60,DR6,$CT$3:$CT$60) -> 0 | DW6: =SUMIF($B$3:$B$60,DR6,$CU$3:$CU$60) -> 0 | DX6: =SUMIF($B$3:$B$60,DR6,$CV$3:$CV$60) -> 0 | DY6: =SUMIF($B$3:$B$60,DR6,$CW$3:$CW$60) -> 0 | DZ6: =SUMIF($B$3:$B$60,DR6,$CX$3:$CX$60) -> 0 | EA6: =SUMIF($B$3:$B$60,DR6,$CY$3:$CY$60) -> 0 | EB6: =SUMIF($B$3:$B$60,DR6,$CZ$3:$CZ$60) -> 0 | EC6: =SUMIF($B$3:$B$60,DR6,$DA$3:$DA$60) -> 0 | ED6: =SUMIF($B$3:$B$60,DR6,$DB$3:$DB$60) -> 0 | EE6: =SUMIF($B$3:$B$60,DR6,$DC$3:$DC$60) -> 0 | EF6: =SUMIF($B$3:$B$60,DR6,$DD$3:$DD$60) -> 0 | EH6: =DI6 -> Dodge | EX6: BMW Team MTEK | EY6: =SUMIF($D$3:$D$60,EX6,$CN$3:$CN$60) -> 14 | EZ6: =SUMIF($D$3:$D$60,EX6,$CQ$3:$CQ$60) -> 0 | FA6: =EZ6/EY6 -> 0 | FB6: =SUMIF($D$3:$D$60,EX6,$CR$3:$CR$60)+SUMIF($D$3:$D$60,EX6,$CS$3:$CS$60)+EZ6 -> 2 | FC6: =COUNTIF($D$3:$D$60,EX6) -> 2
A7: 46 | B7: Porsche | C7: Am | D7: Team Project 1 | BS7: WD | BU7: 11 | BV7: Ret | BY7: Ret | BZ7: 5 | CA7: Ret | CB7: 3 | CC7: 6 | CD7: 1 | CL7: =AVERAGE(E7:CK7) -> 5.2 | CM7: =_xlfn.STDEV.S(E7:CK7) -> 3.7682887 | CN7: =COUNT(E7:CK7) -> 5 | CO7: =CQ7/CN7 -> 0.2 | CQ7: =COUNTIF(E7:CK7,$CQ$2) -> 1 | CR7: =COUNTIF(E7:CK7,$CR$2) -> 0 | CS7: =COUNTIF(E7:CK7,$CS$2) -> 1 | CT7: =COUNTIF(E7:CK7,$CT$2) -> 0 | CU7: =COUNTIF(E7:CK7,$CU$2) -> 1 | CV7: =COUNTIF(E7:CK7,$CV$2) -> 1 | CW7: =COUNTIF(E7:CK7,$CW$2) -> 0 | CX7: =COUNTIF(E7:CK7,$CX$2) -> 0 | CY7: =COUNTIF(E7:CK7,$CY$2) -> 0 | CZ7: =COUNTIF(E7:CK7,$CZ$2) -> 0 | DA7: =COUNTIF(E7:CK7,$DA$2) -> 3 | DB7: =COUNTIF(E7:CK7,$DB$2) -> 0 | DC7: =COUNTIF(E7:CK7,$DC$2) -> 1 | DD7: =COUNTIF(E7:CK7,$DD$2) -> 0 | DF7: =IF(C7=$DF$2,COUNTIF(E7:CK7,1),"" ) | DG7: =IF(C7=$DG$2,COUNTIF(E7:CK7,1),"" ) -> 1 | DI7: Ferrari | DJ7: =SUMIF($B$3:$B$60,DI7,$CN$3:$CN$60) -> 364 | DK7: =SUMIF($B$3:$B$60,DI7,$DF$3:$DF$60) -> 32 | DL7: =SUMIF($B$3:$B$60,DI7,$DG$3:$DG$60) -> 22 | DM7: =SUM(DK7:DL7) -> 54 | DN7: =SUM(DS7:DU7) -> 169 | DO7: =SUMIF($B$3:$B$60,DI7,$CL$3:$CL$60)/COUNTIF($B$3:$B$60,DI7) -> 4.9455792 | DP7: =SUMIF($B$3:$B$60,DI7,$CM$3:$CM$60)/COUNTIF($B$3:$B$60,DI7) -> 1.9924962 | DR7: =DI7 -> Ferrari | DS7: =SUMIF($B$3:$B$60,DR7,$CQ$3:$CQ$60) -> 54 | DT7: =SUMIF($B$3:$B$60,DR7,$CR$3:$CR$60) -> 54 | DU7: =SUMIF($B$3:$B$60,DR7,$CS$3:$CS$60) -> 61 | DV7: =SUMIF($B$3:$B$60,DR7,$CT$3:$CT$60) -> 47 | DW7: =SUMIF($B$3:$B$60,DR7,$CU$3:$CU$60) -> 41 | DX7: =SUMIF($B$3:$B$60,DR7,$CV$3:$CV$60) -> 31 | DY7: =SUMIF($B$3:$B$60,DR7,$CW$3:$CW$60) -> 24 | DZ7: =SUMIF($B$3:$B$60,DR7,$CX$3:$CX$60) -> 18 | EA7: =SUMIF($B$3:$B$60,DR7,$CY$3:$CY$60) -> 11 | EB7: =SUMIF($B$3:$B$60,DR7,$CZ$3:$CZ$60) -> 12 | EC7: =SUMIF($B$3:$B$60,DR7,$DA$3:$DA$60) -> 35 | ED7: =SUMIF($B$3:$B$60,DR7,$DB$3:$DB$60) -> 2 | EE7: =SUMIF($B$3:$B$60,DR7,$DC$3:$DC$60) -> 0 | EF7: =SUMIF($B$3:$B$60,DR7,$DD$3:$DD$60) -> 3 | EH7: =DI7 -> Ferrari | EI7: =DS7/$DJ$7 -> 0.14835165 | EJ7: =DT7/$DJ$7 -> 0.14835165 | EK7: =DU7/$DJ$7 -> 0.16758242 | EL7: =DV7/$DJ$7 -> 0.12912088 | EM7: =DW7/$DJ$7 -> 0.11263736 | EN7: =DX7/$DJ$7 -> 0.085164835 | EO7: =DY7/$DJ$7 -> 0.065934066 | EP7: =DZ7/$DJ$7 -> 0.049450549 | ... EV7: =EF7/$DJ$7 -> 0.0082417582 | EX7: Cetilar Racing | EY7: =SUMIF($D$3:$D$60,EX7,$CN$3:$CN$60) -> 5 | EZ7: =SUMIF($D$3:$D$60,EX7,$CQ$3:$CQ$60) -> 1 | FA7: =EZ7/EY7 -> 0.2 | FB7: =SUMIF($D$3:$D$60,EX7,$CR$3:$CR$60)+SUMIF($D$3:$D$60,EX7,$CS$3:$CS$60)+EZ7 -> 2 | FC7: =COUNTIF($D$3:$D$60,EX7) -> 1
A8: 47 | B8: Ferrari | C8: Am | D8: Cetilar Racing | BS8: 3 | BT8: 1 | BU8: 10 | BV8: Ret | BW8: 9 | BX8: 4 | CL8: =AVERAGE(E8:CK8) -> 5.4 | CM8: =_xlfn.STDEV.S(E8:CK8) -> 3.9115214 | CN8: =COUNT(E8:CK8) -> 5 | CO8: =CQ8/CN8 -> 0.2 | CQ8: =COUNTIF(E8:CK8,$CQ$2) -> 1 | CR8: =COUNTIF(E8:CK8,$CR$2) -> 0 | CS8: =COUNTIF(E8:CK8,$CS$2) -> 1 | CT8: =COUNTIF(E8:CK8,$CT$2) -> 1 | CU8: =COUNTIF(E8:CK8,$CU$2) -> 0 | CV8: =COUNTIF(E8:CK8,$CV$2) -> 0 | CW8: =COUNTIF(E8:CK8,$CW$2) -> 0 | CX8: =COUNTIF(E8:CK8,$CX$2) -> 0 | CY8: =COUNTIF(E8:CK8,$CY$2) -> 1 | CZ8: =COUNTIF(E8:CK8,$CZ$2) -> 1 | DA8: =COUNTIF(E8:CK8,$DA$2) -> 1 | DB8: =COUNTIF(E8:CK8,$DB$2) -> 0 | DC8: =COUNTIF(E8:CK8,$DC$2) -> 0 | DD8: =COUNTIF(E8:CK8,$DD$2) -> 0 | DF8: =IF(C8=$DF$2,COUNTIF(E8:CK8,1),"" ) | DG8: =IF(C8=$DG$2,COUNTIF(E8:CK8,1),"" ) -> 1 | DI8: Ford | DJ8: =SUMIF($B$3:$B$60,DI8,$CN$3:$CN$60) -> 50 | DK8: =SUMIF($B$3:$B$60,DI8,$DF$3:$DF$60) -> 6 | DL8: =SUMIF($B$3:$B$60,DI8,$DG$3:$DG$60) -> 0 | DM8: =SUM(DK8:DL8) -> 6 | DN8: =SUM(DS8:DU8) -> 17 | DO8: =SUMIF($B$3:$B$60,DI8,$CL$3:$CL$60)/COUNTIF($B$3:$B$60,DI8) -> 4.86 | DP8: =SUMIF($B$3:$B$60,DI8,$CM$3:$CM$60)/COUNTIF($B$3:$B$60,DI8) -> 3.0944502 | DR8: =DI8 -> Ford | DS8: =SUMIF($B$3:$B$60,DR8,$CQ$3:$CQ$60) -> 6 | DT8: =SUMIF($B$3:$B$60,DR8,$CR$3:$CR$60) -> 5 | DU8: =SUMIF($B$3:$B$60,DR8,$CS$3:$CS$60) -> 6 | DV8: =SUMIF($B$3:$B$60,DR8,$CT$3:$CT$60) -> 10 | DW8: =SUMIF($B$3:$B$60,DR8,$CU$3:$CU$60) -> 6 | DX8: =SUMIF($B$3:$B$60,DR8,$CV$3:$CV$60) -> 4 | DY8: =SUMIF($B$3:$B$60,DR8,$CW$3:$CW$60) -> 6 | DZ8: =SUMIF($B$3:$B$60,DR8,$CX$3:$CX$60) -> 3 | EA8: =SUMIF($B$3:$B$60,DR8,$CY$3:$CY$60) -> 1 | EB8: =SUMIF($B$3:$B$60,DR8,$CZ$3:$CZ$60) -> 1 | EC8: =SUMIF($B$3:$B$60,DR8,$DA$3:$DA$60) -> 2 | ED8: =SUMIF($B$3:$B$60,DR8,$DB$3:$DB$60) -> 0 | EE8: =SUMIF($B$3:$B$60,DR8,$DC$3:$DC$60) -> 0 | EF8: =SUMIF($B$3:$B$60,DR8,$DD$3:$DD$60) -> 0 | EH8: =DI8 -> Ford | EI8: =DS8/$DJ$8 -> 0.12 | EJ8: =DT8/$DJ$8 -> 0.1 | EK8: =DU8/$DJ$8 -> 0.12 | EL8: =DV8/$DJ$8 -> 0.2 | EM8: =DW8/$DJ$8 -> 0.12 | EN8: =DX8/$DJ$8 -> 0.08 | EO8: =DY8/$DJ$8 -> 0.12 | EP8: =DZ8/$DJ$8 -> 0.06 | ... EV8: =EF8/$DJ$8 -> 0 | EX8: Clearwater Racing | EY8: =SUMIF($D$3:$D$60,EX8,$CN$3:$CN$60) -> 16 | EZ8: =SUMIF($D$3:$D$60,EX8,$CQ$3:$CQ$60) -> 2 | FA8: =EZ8/EY8 -> 0.125 | FB8: =SUMIF($D$3:$D$60,EX8,$CR$3:$CR$60)+SUMIF($D$3:$D$60,EX8,$CS$3:$CS$60)+EZ8 -> 9 | FC8: =COUNTIF($D$3:$D$60,EX8) -> 1
A9: 50 | B9: Corvette | C9: Am | D9: Larbre Compétition | E9: 2 | F9: 2 | G9: 1 | H9: 4 | I9: 2 | J9: 4 | K9: 1 | L9: 1 | M9: 2 | N9: 3 | O9: 3 | P9: 6 | Q9: 6 | R9: 8 | S9: 5 | T9: 4 | AC9: 7 | AD9: Ret | AE9: Ret | AF9: 5 | AG9: 7 | AH9: 4 | AI9: 5 | AJ9: 6 | AK9: 3 | AL9: 3 | AM9: 4 | AN9: 3 | AO9: Ret | AP9: 3 | AQ9: 6 | AR9: 5 | AS9: 5 | CL9: =AVERAGE(E9:CK9) -> 4 | CM9: =_xlfn.STDEV.S(E9:CK9) -> 1.8937283 | CN9: =COUNT(E9:CK9) -> 30 | CO9: =CQ9/CN9 -> 0.1 | CQ9: =COUNTIF(E9:CK9,$CQ$2) -> 3 | CR9: =COUNTIF(E9:CK9,$CR$2) -> 4 | CS9: =COUNTIF(E9:CK9,$CS$2) -> 6 | CT9: =COUNTIF(E9:CK9,$CT$2) -> 5 | CU9: =COUNTIF(E9:CK9,$CU$2) -> 5 | CV9: =COUNTIF(E9:CK9,$CV$2) -> 4 | CW9: =COUNTIF(E9:CK9,$CW$2) -> 2 | CX9: =COUNTIF(E9:CK9,$CX$2) -> 1 | CY9: =COUNTIF(E9:CK9,$CY$2) -> 0 | CZ9: =COUNTIF(E9:CK9,$CZ$2) -> 0 | DA9: =COUNTIF(E9:CK9,$DA$2) -> 3 | DB9: =COUNTIF(E9:CK9,$DB$2) -> 0 | DC9: =COUNTIF(E9:CK9,$DC$2) -> 0 | DD9: =COUNTIF(E9:CK9,$DD$2) -> 0 | DF9: =IF(C9=$DF$2,COUNTIF(E9:CK9,1),"" ) | DG9: =IF(C9=$DG$2,COUNTIF(E9:CK9,1),"" ) -> 3 | DI9: Porsche | DJ9: =SUMIF($B$3:$B$60,DI9,$CN$3:$CN$60) -> 373 | DK9: =SUMIF($B$3:$B$60,DI9,$DF$3:$DF$60) -> 20 | DL9: =SUMIF($B$3:$B$60,DI9,$DG$3:$DG$60) -> 24 | DM9: =SUM(DK9:DL9) -> 44 | DN9: =SUM(DS9:DU9) -> 154 | DO9: =SUMIF($B$3:$B$60,DI9,$CL$3:$CL$60)/COUNTIF($B$3:$B$60,DI9) -> 4.8171105 | DP9: =SUMIF($B$3:$B$60,DI9,$CM$3:$CM$60)/COUNTIF($B$3:$B$60,DI9) -> 2.4245966 | DR9: =DI9 -> Porsche | DS9: =SUMIF($B$3:$B$60,DR9,$CQ$3:$CQ$60) -> 44 | DT9: =SUMIF($B$3:$B$60,DR9,$CR$3:$CR$60) -> 56 | DU9: =SUMIF($B$3:$B$60,DR9,$CS$3:$CS$60) -> 54 | DV9: =SUMIF($B$3:$B$60,DR9,$CT$3:$CT$60) -> 64 | DW9: =SUMIF($B$3:$B$60,DR9,$CU$3:$CU$60) -> 47 | DX9: =SUMIF($B$3:$B$60,DR9,$CV$3:$CV$60) -> 42 | DY9: =SUMIF($B$3:$B$60,DR9,$CW$3:$CW$60) -> 16 | DZ9: =SUMIF($B$3:$B$60,DR9,$CX$3:$CX$60) -> 14 | EA9: =SUMIF($B$3:$B$60,DR9,$CY$3:$CY$60) -> 16 | EB9: =SUMIF($B$3:$B$60,DR9,$CZ$3:$CZ$60) -> 5 | EC9: =SUMIF($B$3:$B$60,DR9,$DA$3:$DA$60) -> 33 | ED9: =SUMIF($B$3:$B$60,DR9,$DB$3:$DB$60) -> 1 | EE9: =SUMIF($B$3:$B$60,DR9,$DC$3:$DC$60) -> 3 | EF9: =SUMIF($B$3:$B$60,DR9,$DD$3:$DD$60) -> 1 | EH9: =DI9 -> Porsche | EI9: =DS9/$DJ$8 -> 0.88 | EJ9: =DT9/$DJ$8 -> 1.12 | EK9: =DU9/$DJ$8 -> 1.08 | EL9: =DV9/$DJ$8 -> 1.28 | EM9: =DW9/$DJ$8 -> 0.94 | EN9: =DX9/$DJ$8 -> 0.84 | EO9: =DY9/$DJ$8 -> 0.32 | EP9: =DZ9/$DJ$8 -> 0.28 | ... EV9: =EF9/$DJ$8 -> 0.02 | EX9: Corvette Racing | EY9: =SUMIF($D$3:$D$60,EX9,$CN$3:$CN$60) -> 12 | EZ9: =SUMIF($D$3:$D$60,EX9,$CQ$3:$CQ$60) -> 4 | FA9: =EZ9/EY9 -> 0.33333333 | FB9: =SUMIF($D$3:$D$60,EX9,$CR$3:$CR$60)+SUMIF($D$3:$D$60,EX9,$CS$3:$CS$60)+EZ9 -> 8 | FC9: =COUNTIF($D$3:$D$60,EX9) -> 2
A10: 51 | B10: Ferrari | C10: Pro | D10: AF Corse | E10: 1 | F10: 2 | G10: 1 | H10: 1 | I10: 1 | J10: 1 | K10: 2 | L10: 3 | M10: 5 | N10: 1 | O10: 5 | P10: 1 | Q10: 2 | R10: 2 | S10: 4 | T10: 1 | U10: 4 | V10: 1 | W10: 1 | X10: 3 | Y10: 1 | Z10: Ret | AA10: 1 | AB10: 4 | AC10: 1 | AD10: 4 | AE10: 2 | AF10: 7 | AG10: 7 | AH10: 1 | AI10: 2 | AJ10: 2 | AK10: 2 | AL10: Ret | AM10: Ret | AN10: 1 | AO10: 2 | AP10: 2 | AQ10: 3 | AR10: 3 | AS10: 2 | AT10: 2 | AU10: 2 | AV10: 7 | AW10: 1 | AX10: 6 | AY10: 1 | AZ10: 1 | BA10: 3 | BB10: 2 | BC10: 15 | BD10: 4 | BE10: 1 | BF10: 4 | BG10: 5 | BH10: 4 | BI10: 2 | BJ10: 1 | BK10: 4 | BL10: 4 | BM10: 1 | BN10: 4 | BO10: 3 | BP10: 4 | BQ10: 2 | BR10: 12 | BS10: 2 | BT10: 1 | BU10: 2 | BV10: 1 | BW10: 3 | BX10: 1 | BY10: 4 | BZ10: 1 | CA10: 2 | CB10: 3 | CC10: 1 | CD10: 5 | CL10: =AVERAGE(E10:CK10) -> 2.8 | CM10: =_xlfn.STDEV.S(E10:CK10) -> 2.4105623 | CN10: =COUNT(E10:CK10) -> 75 | CO10: =CQ10/CN10 -> 0.34666667 | CQ10: =COUNTIF(E10:CK10,$CQ$2) -> 26 | CR10: =COUNTIF(E10:CK10,$CR$2) -> 19 | CS10: =COUNTIF(E10:CK10,$CS$2) -> 8 | CT10: =COUNTIF(E10:CK10,$CT$2) -> 12 | CU10: =COUNTIF(E10:CK10,$CU$2) -> 4 | CV10: =COUNTIF(E10:CK10,$CV$2) -> 1 | CW10: =COUNTIF(E10:CK10,$CW$2) -> 3 | CX10: =COUNTIF(E10:CK10,$CX$2) -> 0 | CY10: =COUNTIF(E10:CK10,$CY$2) -> 0 | CZ10: =COUNTIF(E10:CK10,$CZ$2) -> 0 | DA10: =COUNTIF(E10:CK10,$DA$2) -> 3 | DB10: =COUNTIF(E10:CK10,$DB$2) -> 0 | DC10: =COUNTIF(E10:CK10,$DC$2) -> 0 | DD10: =COUNTIF(E10:CK10,$DD$2) -> 0 | DF10: =IF(C10=$DF$2,COUNTIF(E10:CK10,1),"" ) -> 26 | DG10: =IF(C10=$DG$2,COUNTIF(E10:CK10,1),"" ) | EX10: D'station Racing | EY10: =SUMIF($D$3:$D$60,EX10,$CN$3:$CN$60) -> 14 | EZ10: =SUMIF($D$3:$D$60,EX10,$CQ$3:$CQ$60) -> 0 | FA10: =EZ10/EY10 -> 0 | FB10: =SUMIF($D$3:$D$60,EX10,$CR$3:$CR$60)+SUMIF($D$3:$D$60,EX10,$CS$3:$CS$60)+EZ10 -> 3 | FC10: =COUNTIF($D$3:$D$60,EX10) -> 1
A11: 52 | B11: Ferrari | C11: Pro | D11: Ram Racing | U11: 6 | W11: Ret | CL11: =AVERAGE(E11:CK11) -> 6 | CN11: =COUNT(E11:CK11) -> 1 | CO11: =CQ11/CN11 -> 0 | CQ11: =COUNTIF(E11:CK11,$CQ$2) -> 0 | CR11: =COUNTIF(E11:CK11,$CR$2) -> 0 | CS11: =COUNTIF(E11:CK11,$CS$2) -> 0 | CT11: =COUNTIF(E11:CK11,$CT$2) -> 0 | CU11: =COUNTIF(E11:CK11,$CU$2) -> 0 | CV11: =COUNTIF(E11:CK11,$CV$2) -> 1 | CW11: =COUNTIF(E11:CK11,$CW$2) -> 0 | CX11: =COUNTIF(E11:CK11,$CX$2) -> 0 | CY11: =COUNTIF(E11:CK11,$CY$2) -> 0 | CZ11: =COUNTIF(E11:CK11,$CZ$2) -> 0 | DA11: =COUNTIF(E11:CK11,$DA$2) -> 1 | DB11: =COUNTIF(E11:CK11,$DB$2) -> 0 | DC11: =COUNTIF(E11:CK11,$DC$2) -> 0 | DD11: =COUNTIF(E11:CK11,$DD$2) -> 0 | DF11: =IF(C11=$DF$2,COUNTIF(E11:CK11,1),"" ) -> 0 | DG11: =IF(C11=$DG$2,COUNTIF(E11:CK11,1),"" ) | EX11: Ford Chip Ganassi Racing | EY11: =SUMIF($D$3:$D$60,EX11,$CN$3:$CN$60) -> 50 | EZ11: =SUMIF($D$3:$D$60,EX11,$CQ$3:$CQ$60) -> 6 | FA11: =EZ11/EY11 -> 0.12 | FB11: =SUMIF($D$3:$D$60,EX11,$CR$3:$CR$60)+SUMIF($D$3:$D$60,EX11,$CS$3:$CS$60)+EZ11 -> 17 | FC11: =COUNTIF($D$3:$D$60,EX11) -> 2
A12: 52 | B12: Ferrari | C12: Pro | D12: AF Corse | BS12: 3 | BT12: 2 | BU12: 4 | BV12: 10 | BW12: 4 | BX12: 3 | BY12: 6 | BZ12: 3 | CA12: 3 | CB12: 2 | CC12: 2 | CD12: 1 | CL12: =AVERAGE(E12:CK12) -> 3.5833333 | CM12: =_xlfn.STDEV.S(E12:CK12) -> 2.3915888 | CN12: =COUNT(E12:CK12) -> 12 | CO12: =CQ12/CN12 -> 0.083333333 | CQ12: =COUNTIF(E12:CK12,$CQ$2) -> 1 | CR12: =COUNTIF(E12:CK12,$CR$2) -> 3 | CS12: =COUNTIF(E12:CK12,$CS$2) -> 4 | CT12: =COUNTIF(E12:CK12,$CT$2) -> 2 | CU12: =COUNTIF(E12:CK12,$CU$2) -> 0 | CV12: =COUNTIF(E12:CK12,$CV$2) -> 1 | CW12: =COUNTIF(E12:CK12,$CW$2) -> 0 | CX12: =COUNTIF(E12:CK12,$CX$2) -> 0 | CY12: =COUNTIF(E12:CK12,$CY$2) -> 0 | CZ12: =COUNTIF(E12:CK12,$CZ$2) -> 1 | DA12: =COUNTIF(E12:CK12,$DA$2) -> 0 | DB12: =COUNTIF(E12:CK12,$DB$2) -> 0 | DC12: =COUNTIF(E12:CK12,$DC$2) -> 0 | DD12: =COUNTIF(E12:CK12,$DD$2) -> 0 | DF12: =IF(C12=$DF$2,COUNTIF(E12:CK12,1),"" ) -> 1 | DG12: =IF(C12=$DG$2,COUNTIF(E12:CK12,1),"" ) | EX12: GR Racing | EY12: =SUMIF($D$3:$D$60,EX12,$CN$3:$CN$60) -> 48 | EZ12: =SUMIF($D$3:$D$60,EX12,$CQ$3:$CQ$60) -> 0 | FA12: =EZ12/EY12 -> 0 | FB12: =SUMIF($D$3:$D$60,EX12,$CR$3:$CR$60)+SUMIF($D$3:$D$60,EX12,$CS$3:$CS$60)+EZ12 -> 7 | FC12: =COUNTIF($D$3:$D$60,EX12) -> 1
A13: 53 | B13: Ferrari | C13: Am | D13: Ram Racing | U13: 5 | W13: 6 | CL13: =AVERAGE(E13:CK13) -> 5.5 | CM13: =_xlfn.STDEV.S(E13:CK13) -> 0.70710678 | CN13: =COUNT(E13:CK13) -> 2 | CO13: =CQ13/CN13 -> 0 | CQ13: =COUNTIF(E13:CK13,$CQ$2) -> 0 | CR13: =COUNTIF(E13:CK13,$CR$2) -> 0 | CS13: =COUNTIF(E13:CK13,$CS$2) -> 0 | CT13: =COUNTIF(E13:CK13,$CT$2) -> 0 | CU13: =COUNTIF(E13:CK13,$CU$2) -> 1 | CV13: =COUNTIF(E13:CK13,$CV$2) -> 1 | CW13: =COUNTIF(E13:CK13,$CW$2) -> 0 | CX13: =COUNTIF(E13:CK13,$CX$2) -> 0 | CY13: =COUNTIF(E13:CK13,$CY$2) -> 0 | CZ13: =COUNTIF(E13:CK13,$CZ$2) -> 0 | DA13: =COUNTIF(E13:CK13,$DA$2) -> 0 | DB13: =COUNTIF(E13:CK13,$DB$2) -> 0 | DC13: =COUNTIF(E13:CK13,$DC$2) -> 0 | DD13: =COUNTIF(E13:CK13,$DD$2) -> 0 | DF13: =IF(C13=$DF$2,COUNTIF(E13:CK13,1),"" ) | DG13: =IF(C13=$DG$2,COUNTIF(E13:CK13,1),"" ) -> 0 | EX13: IMSA Performance Matmut | EY13: =SUMIF($D$3:$D$60,EX13,$CN$3:$CN$60) -> 8 | EZ13: =SUMIF($D$3:$D$60,EX13,$CQ$3:$CQ$60) -> 1 | FA13: =EZ13/EY13 -> 0.125 | FB13: =SUMIF($D$3:$D$60,EX13,$CR$3:$CR$60)+SUMIF($D$3:$D$60,EX13,$CS$3:$CS$60)+EZ13 -> 3 | FC13: =COUNTIF($D$3:$D$60,EX13) -> 1
A14: 54 | B14: Ferrari | C14: Am | D14: Spirit of Race | AT14: Ret | AU14: 4 | AV14: 5 | AW14: 2 | AX14: 4 | AY14: 3 | AZ14: 1 | BA14: Ret | BB14: 3 | CL14: =AVERAGE(E14:CK14) -> 3.1428571 | CM14: =_xlfn.STDEV.S(E14:CK14) -> 1.3451854 | CN14: =COUNT(E14:CK14) -> 7 | CO14: =CQ14/CN14 -> 0.14285714 | CQ14: =COUNTIF(E14:CK14,$CQ$2) -> 1 | CR14: =COUNTIF(E14:CK14,$CR$2) -> 1 | CS14: =COUNTIF(E14:CK14,$CS$2) -> 2 | CT14: =COUNTIF(E14:CK14,$CT$2) -> 2 | CU14: =COUNTIF(E14:CK14,$CU$2) -> 1 | CV14: =COUNTIF(E14:CK14,$CV$2) -> 0 | CW14: =COUNTIF(E14:CK14,$CW$2) -> 0 | CX14: =COUNTIF(E14:CK14,$CX$2) -> 0 | CY14: =COUNTIF(E14:CK14,$CY$2) -> 0 | CZ14: =COUNTIF(E14:CK14,$CZ$2) -> 0 | DA14: =COUNTIF(E14:CK14,$DA$2) -> 2 | DB14: =COUNTIF(E14:CK14,$DB$2) -> 0 | DC14: =COUNTIF(E14:CK14,$DC$2) -> 0 | DD14: =COUNTIF(E14:CK14,$DD$2) -> 0 | DF14: =IF(C14=$DF$2,COUNTIF(E14:CK14,1),"" ) | DG14: =IF(C14=$DG$2,COUNTIF(E14:CK14,1),"" ) -> 1 | EX14: Iron Dames | EY14: =SUMIF($D$3:$D$60,EX14,$CN$3:$CN$60) -> 19 | EZ14: =SUMIF($D$3:$D$60,EX14,$CQ$3:$CQ$60) -> 1 | FA14: =EZ14/EY14 -> 0.052631579 | FB14: =SUMIF($D$3:$D$60,EX14,$CR$3:$CR$60)+SUMIF($D$3:$D$60,EX14,$CS$3:$CS$60)+EZ14 -> 5 | FC14: =COUNTIF($D$3:$D$60,EX14) -> 2
A15: 54 | B15: Ferrari | C15: Am | D15: Spirit of Race | BC15: 8 | BD15: 2 | BE15: 9 | BF15: 5 | BG15: 4 | BH15: 2 | BI15: 4 | BJ15: 7 | CL15: =AVERAGE(E15:CK15) -> 5.125 | CM15: =_xlfn.STDEV.S(E15:CK15) -> 2.6423745 | CN15: =COUNT(E15:CK15) -> 8 | CO15: =CQ15/CN15 -> 0 | CQ15: =COUNTIF(E15:CK15,$CQ$2) -> 0 | CR15: =COUNTIF(E15:CK15,$CR$2) -> 2 | CS15: =COUNTIF(E15:CK15,$CS$2) -> 0 | CT15: =COUNTIF(E15:CK15,$CT$2) -> 2 | CU15: =COUNTIF(E15:CK15,$CU$2) -> 1 | CV15: =COUNTIF(E15:CK15,$CV$2) -> 0 | CW15: =COUNTIF(E15:CK15,$CW$2) -> 1 | CX15: =COUNTIF(E15:CK15,$CX$2) -> 1 | CY15: =COUNTIF(E15:CK15,$CY$2) -> 1 | CZ15: =COUNTIF(E15:CK15,$CZ$2) -> 0 | DA15: =COUNTIF(E15:CK15,$DA$2) -> 0 | DB15: =COUNTIF(E15:CK15,$DB$2) -> 0 | DC15: =COUNTIF(E15:CK15,$DC$2) -> 0 | DD15: =COUNTIF(E15:CK15,$DD$2) -> 0 | DF15: =IF(C15=$DF$2,COUNTIF(E15:CK15,1),"" ) | DG15: =IF(C15=$DG$2,COUNTIF(E15:CK15,1),"" ) -> 0 | EX15: Iron Lynx | EY15: =SUMIF($D$3:$D$60,EX15,$CN$3:$CN$60) -> 15 | EZ15: =SUMIF($D$3:$D$60,EX15,$CQ$3:$CQ$60) -> 0 | FA15: =EZ15/EY15 -> 0 | FB15: =SUMIF($D$3:$D$60,EX15,$CR$3:$CR$60)+SUMIF($D$3:$D$60,EX15,$CS$3:$CS$60)+EZ15 -> 2 | FC15: =COUNTIF($D$3:$D$60,EX15) -> 2
A16: 54 | B16: Ferrari | C16: Am | D16: AF Corse | BK16: 9 | BL16: 6 | BM16: 8 | BN16: 5 | BO16: 7 | BP16: 7 | BQ16: 7 | BR16: 4 | BS16: 4 | BT16: 3 | BU16: 7 | BV16: 7 | BW16: 7 | BX16: 6 | BY16: 9 | BZ16: 4 | CA16: 5 | CB16: 9 | CC16: 4 | CD16: 7 | CE16: 5 | CF16: 4 | CG16: NC | CH16: 5 | CI16: 10 | CJ16: 1 | CK16: 4 | CL16: =AVERAGE(E16:CK16) -> 5.9230769 | CM16: =_xlfn.STDEV.S(E16:CK16) -> 2.152637 | CN16: =COUNT(E16:CK16) -> 26 | CO16: =CQ16/CN16 -> 0.038461538 | CQ16: =COUNTIF(E16:CK16,$CQ$2) -> 1 | CR16: =COUNTIF(E16:CK16,$CR$2) -> 0 | CS16: =COUNTIF(E16:CK16,$CS$2) -> 1 | CT16: =COUNTIF(E16:CK16,$CT$2) -> 6 | CU16: =COUNTIF(E16:CK16,$CU$2) -> 4 | CV16: =COUNTIF(E16:CK16,$CV$2) -> 2 | CW16: =COUNTIF(E16:CK16,$CW$2) -> 7 | CX16: =COUNTIF(E16:CK16,$CX$2) -> 1 | CY16: =COUNTIF(E16:CK16,$CY$2) -> 3 | CZ16: =COUNTIF(E16:CK16,$CZ$2) -> 1 | DA16: =COUNTIF(E16:CK16,$DA$2) -> 0 | DB16: =COUNTIF(E16:CK16,$DB$2) -> 1 | DC16: =COUNTIF(E16:CK16,$DC$2) -> 0 | DD16: =COUNTIF(E16:CK16,$DD$2) -> 0 | DF16: =IF(C16=$DF$2,COUNTIF(E16:CK16,1),"" ) | DG16: =IF(C16=$DG$2,COUNTIF(E16:CK16,1),"" ) -> 1 | EX16: JWA-Avila | EY16: =SUMIF($D$3:$D$60,EX16,$CN$3:$CN$60) -> 8 | EZ16: =SUMIF($D$3:$D$60,EX16,$CQ$3:$CQ$60) -> 0 | FA16: =EZ16/EY16 -> 0 | FB16: =SUMIF($D$3:$D$60,EX16,$CR$3:$CR$60)+SUMIF($D$3:$D$60,EX16,$CS$3:$CS$60)+EZ16 -> 0 | FC16: =COUNTIF($D$3:$D$60,EX16) -> 1
A17: 55 | B17: Porsche | C17: Am | D17: JWA-Avila | E17: 6 | F17: 4 | G17: 5 | H17: 5 | I17: 4 | J17: 6 | K17: 5 | L17: 6 | CL17: =AVERAGE(E17:CK17) -> 5.125 | CM17: =_xlfn.STDEV.S(E17:CK17) -> 0.83452296 | CN17: =COUNT(E17:CK17) -> 8 | CO17: =CQ17/CN17 -> 0 | CQ17: =COUNTIF(E17:CK17,$CQ$2) -> 0 | CR17: =COUNTIF(E17:CK17,$CR$2) -> 0 | CS17: =COUNTIF(E17:CK17,$CS$2) -> 0 | CT17: =COUNTIF(E17:CK17,$CT$2) -> 2 | CU17: =COUNTIF(E17:CK17,$CU$2) -> 3 | CV17: =COUNTIF(E17:CK17,$CV$2) -> 3 | CW17: =COUNTIF(E17:CK17,$CW$2) -> 0 | CX17: =COUNTIF(E17:CK17,$CX$2) -> 0 | CY17: =COUNTIF(E17:CK17,$CY$2) -> 0 | CZ17: =COUNTIF(E17:CK17,$CZ$2) -> 0 | DA17: =COUNTIF(E17:CK17,$DA$2) -> 0 | DB17: =COUNTIF(E17:CK17,$DB$2) -> 0 | DC17: =COUNTIF(E17:CK17,$DC$2) -> 0 | DD17: =COUNTIF(E17:CK17,$DD$2) -> 0 | DF17: =IF(C17=$DF$2,COUNTIF(E17:CK17,1),"" ) | DG17: =IF(C17=$DG$2,COUNTIF(E17:CK17,1),"" ) -> 0 | EX17: KCMG | EY17: =SUMIF($D$3:$D$60,EX17,$CN$3:$CN$60) -> 8 | EZ17: =SUMIF($D$3:$D$60,EX17,$CQ$3:$CQ$60) -> 0 | FA17: =EZ17/EY17 -> 0 | FB17: =SUMIF($D$3:$D$60,EX17,$CR$3:$CR$60)+SUMIF($D$3:$D$60,EX17,$CS$3:$CS$60)+EZ17 -> 5 | FC17: =COUNTIF($D$3:$D$60,EX17) -> 1
A18: 56 | B18: Porsche | C18: Am | D18: Team Project 1 | BC18: 9 | BD18: 3 | BE18: 3 | BF18: 1 | BG18: 2 | BH18: 3 | BI18: 5 | BJ18: 1 | BK18: 6 | BL18: 7 | BM18: 5 | BN18: 9 | BO18: 3 | BP18: 4 | BQ18: 4 | BR18: 1 | BS18: DNS | BT18: 2 | BU18: 4 | BV18: Ret | BW18: 3 | BX18: 3 | BY18: 3 | BZ18: Ret | CA18: Ret | CB18: 10 | CC18: 8 | CD18: 2 | CE18: 12 | CF18: 6 | CG18: WD | CH18: 7 | CI18: 8 | CJ18: 5 | CK18: 10 | CL18: =AVERAGE(E18:CK18) -> 4.9666667 | CM18: =_xlfn.STDEV.S(E18:CK18) -> 3.022711 | CN18: =COUNT(E18:CK18) -> 30 | CO18: =CQ18/CN18 -> 0.1 | CQ18: =COUNTIF(E18:CK18,$CQ$2) -> 3 | CR18: =COUNTIF(E18:CK18,$CR$2) -> 3 | CS18: =COUNTIF(E18:CK18,$CS$2) -> 7 | CT18: =COUNTIF(E18:CK18,$CT$2) -> 3 | CU18: =COUNTIF(E18:CK18,$CU$2) -> 3 | CV18: =COUNTIF(E18:CK18,$CV$2) -> 2 | CW18: =COUNTIF(E18:CK18,$CW$2) -> 2 | CX18: =COUNTIF(E18:CK18,$CX$2) -> 2 | CY18: =COUNTIF(E18:CK18,$CY$2) -> 2 | CZ18: =COUNTIF(E18:CK18,$CZ$2) -> 2 | DA18: =COUNTIF(E18:CK18,$DA$2) -> 3 | DB18: =COUNTIF(E18:CK18,$DB$2) -> 0 | DC18: =COUNTIF(E18:CK18,$DC$2) -> 1 | DD18: =COUNTIF(E18:CK18,$DD$2) -> 1 | DF18: =IF(C18=$DF$2,COUNTIF(E18:CK18,1),"" ) | DG18: =IF(C18=$DG$2,COUNTIF(E18:CK18,1),"" ) -> 3 | EX18: Kessel Racing | EY18: =SUMIF($D$3:$D$60,EX18,$CN$3:$CN$60) -> 5 | EZ18: =SUMIF($D$3:$D$60,EX18,$CQ$3:$CQ$60) -> 0 | FA18: =EZ18/EY18 -> 0 | FB18: =SUMIF($D$3:$D$60,EX18,$CR$3:$CR$60)+SUMIF($D$3:$D$60,EX18,$CS$3:$CS$60)+EZ18 -> 2 | FC18: =COUNTIF($D$3:$D$60,EX18) -> 1
A19: 57 | B19: Ferrari | C19: Am | D19: Krohn Racing | E19: 5 | F19: 5 | G19: 2 | H19: 3 | I19: Ret | J19: 3 | K19: 2 | L19: 3 | M19: 6 | N19: 7 | O19: Ret | P19: 5 | Q19: 8 | R19: 6 | S19: Ret | T19: Ret | CL19: =AVERAGE(E19:CK19) -> 4.5833333 | CM19: =_xlfn.STDEV.S(E19:CK19) -> 1.9752253 | CN19: =COUNT(E19:CK19) -> 12 | CO19: =CQ19/CN19 -> 0 | CQ19: =COUNTIF(E19:CK19,$CQ$2) -> 0 | CR19: =COUNTIF(E19:CK19,$CR$2) -> 2 | CS19: =COUNTIF(E19:CK19,$CS$2) -> 3 | CT19: =COUNTIF(E19:CK19,$CT$2) -> 0 | CU19: =COUNTIF(E19:CK19,$CU$2) -> 3 | CV19: =COUNTIF(E19:CK19,$CV$2) -> 2 | CW19: =COUNTIF(E19:CK19,$CW$2) -> 1 | CX19: =COUNTIF(E19:CK19,$CX$2) -> 1 | CY19: =COUNTIF(E19:CK19,$CY$2) -> 0 | CZ19: =COUNTIF(E19:CK19,$CZ$2) -> 0 | DA19: =COUNTIF(E19:CK19,$DA$2) -> 4 | DB19: =COUNTIF(E19:CK19,$DB$2) -> 0 | DC19: =COUNTIF(E19:CK19,$DC$2) -> 0 | DD19: =COUNTIF(E19:CK19,$DD$2) -> 0 | DF19: =IF(C19=$DF$2,COUNTIF(E19:CK19,1),"" ) | DG19: =IF(C19=$DG$2,COUNTIF(E19:CK19,1),"" ) -> 0 | EX19: Krohn Racing | EY19: =SUMIF($D$3:$D$60,EX19,$CN$3:$CN$60) -> 12 | EZ19: =SUMIF($D$3:$D$60,EX19,$CQ$3:$CQ$60) -> 0 | FA19: =EZ19/EY19 -> 0 | FB19: =SUMIF($D$3:$D$60,EX19,$CR$3:$CR$60)+SUMIF($D$3:$D$60,EX19,$CS$3:$CS$60)+EZ19 -> 5 | FC19: =COUNTIF($D$3:$D$60,EX19) -> 1
A20: 57 | B20: Porsche | C20: Am | D20: Team Project 1 | BK20: 10 | BL20: 3 | BM20: 2 | BN20: 1 | BO20: 11 | BP20: 6 | BQ20: 8 | BR20: 6 | CL20: =AVERAGE(E20:CK20) -> 5.875 | CM20: =_xlfn.STDEV.S(E20:CK20) -> 3.6815175 | CN20: =COUNT(E20:CK20) -> 8 | CO20: =CQ20/CN20 -> 0.125 | CQ20: =COUNTIF(E20:CK20,$CQ$2) -> 1 | CR20: =COUNTIF(E20:CK20,$CR$2) -> 1 | CS20: =COUNTIF(E20:CK20,$CS$2) -> 1 | CT20: =COUNTIF(E20:CK20,$CT$2) -> 0 | CU20: =COUNTIF(E20:CK20,$CU$2) -> 0 | CV20: =COUNTIF(E20:CK20,$CV$2) -> 2 | CW20: =COUNTIF(E20:CK20,$CW$2) -> 0 | CX20: =COUNTIF(E20:CK20,$CX$2) -> 1 | CY20: =COUNTIF(E20:CK20,$CY$2) -> 0 | CZ20: =COUNTIF(E20:CK20,$CZ$2) -> 1 | DA20: =COUNTIF(E20:CK20,$DA$2) -> 0 | DB20: =COUNTIF(E20:CK20,$DB$2) -> 0 | DC20: =COUNTIF(E20:CK20,$DC$2) -> 0 | DD20: =COUNTIF(E20:CK20,$DD$2) -> 0 | DF20: =IF(C20=$DF$2,COUNTIF(E20:CK20,1),"" ) | DG20: =IF(C20=$DG$2,COUNTIF(E20:CK20,1),"" ) -> 1 | EX20: Larbre Compétition | EY20: =SUMIF($D$3:$D$60,EX20,$CN$3:$CN$60) -> 30 | EZ20: =SUMIF($D$3:$D$60,EX20,$CQ$3:$CQ$60) -> 3 | FA20: =EZ20/EY20 -> 0.1 | FB20: =SUMIF($D$3:$D$60,EX20,$CR$3:$CR$60)+SUMIF($D$3:$D$60,EX20,$CS$3:$CS$60)+EZ20 -> 13 | FC20: =COUNTIF($D$3:$D$60,EX20) -> 1
A21: 57 | B21: Ferrari | C21: Am | D21: Kessel Racing | CE21: 3 | CF21: 10 | CG21: 8 | CH21: Ret | CI21: Ret | CJ21: 3 | CK21: 5 | CL21: =AVERAGE(E21:CK21) -> 5.8 | CM21: =_xlfn.STDEV.S(E21:CK21) -> 3.1144823 | CN21: =COUNT(E21:CK21) -> 5 | CO21: =CQ21/CN21 -> 0 | CQ21: =COUNTIF(E21:CK21,$CQ$2) -> 0 | CR21: =COUNTIF(E21:CK21,$CR$2) -> 0 | CS21: =COUNTIF(E21:CK21,$CS$2) -> 2 | CT21: =COUNTIF(E21:CK21,$CT$2) -> 0 | CU21: =COUNTIF(E21:CK21,$CU$2) -> 1 | CV21: =COUNTIF(E21:CK21,$CV$2) -> 0 | CW21: =COUNTIF(E21:CK21,$CW$2) -> 0 | CX21: =COUNTIF(E21:CK21,$CX$2) -> 1 | CY21: =COUNTIF(E21:CK21,$CY$2) -> 0 | CZ21: =COUNTIF(E21:CK21,$CZ$2) -> 1 | DA21: =COUNTIF(E21:CK21,$DA$2) -> 2 | DB21: =COUNTIF(E21:CK21,$DB$2) -> 0 | DC21: =COUNTIF(E21:CK21,$DC$2) -> 0 | DD21: =COUNTIF(E21:CK21,$DD$2) -> 0 | DF21: =IF(C21=$DF$2,COUNTIF(E21:CK21,1),"" ) | DG21: =IF(C21=$DG$2,COUNTIF(E21:CK21,1),"" ) -> 0 | EX21: Luxury Racing | EY21: =SUMIF($D$3:$D$60,EX21,$CN$3:$CN$60) -> 3 | EZ21: =SUMIF($D$3:$D$60,EX21,$CQ$3:$CQ$60) -> 0 | FA21: =EZ21/EY21 -> 0 | FB21: =SUMIF($D$3:$D$60,EX21,$CR$3:$CR$60)+SUMIF($D$3:$D$60,EX21,$CS$3:$CS$60)+EZ21 -> 3 | FC21: =COUNTIF($D$3:$D$60,EX21) -> 2
A22: 58 | B22: Ferrari | C22: Am | D22: Luxury Racing | E22: DNS | F22: 3 | G22: Ret | CL22: =AVERAGE(E22:CK22) -> 3 | CN22: =COUNT(E22:CK22) -> 1 | CO22: =CQ22/CN22 -> 0 | CQ22: =COUNTIF(E22:CK22,$CQ$2) -> 0 | CR22: =COUNTIF(E22:CK22,$CR$2) -> 0 | CS22: =COUNTIF(E22:CK22,$CS$2) -> 1 | CT22: =COUNTIF(E22:CK22,$CT$2) -> 0 | CU22: =COUNTIF(E22:CK22,$CU$2) -> 0 | CV22: =COUNTIF(E22:CK22,$CV$2) -> 0 | CW22: =COUNTIF(E22:CK22,$CW$2) -> 0 | CX22: =COUNTIF(E22:CK22,$CX$2) -> 0 | CY22: =COUNTIF(E22:CK22,$CY$2) -> 0 | CZ22: =COUNTIF(E22:CK22,$CZ$2) -> 0 | DA22: =COUNTIF(E22:CK22,$DA$2) -> 1 | DB22: =COUNTIF(E22:CK22,$DB$2) -> 0 | DC22: =COUNTIF(E22:CK22,$DC$2) -> 0 | DD22: =COUNTIF(E22:CK22,$DD$2) -> 1 | DF22: =IF(C22=$DF$2,COUNTIF(E22:CK22,1),"" ) | DG22: =IF(C22=$DG$2,COUNTIF(E22:CK22,1),"" ) -> 0 | EX22: MR Racing | EY22: =SUMIF($D$3:$D$60,EX22,$CN$3:$CN$60) -> 12 | EZ22: =SUMIF($D$3:$D$60,EX22,$CQ$3:$CQ$60) -> 0 | FA22: =EZ22/EY22 -> 0 | FB22: =SUMIF($D$3:$D$60,EX22,$CR$3:$CR$60)+SUMIF($D$3:$D$60,EX22,$CS$3:$CS$60)+EZ22 -> 1 | FC22: =COUNTIF($D$3:$D$60,EX22) -> 1
A23: 59 | B23: Ferrari | C23: Pro | D23: Luxury Racing | E23: Ret | F23: 3 | G23: 2 | CL23: =AVERAGE(E23:CK23) -> 2.5 | CM23: =_xlfn.STDEV.S(E23:CK23) -> 0.70710678 | CN23: =COUNT(E23:CK23) -> 2 | CO23: =CQ23/CN23 -> 0 | CQ23: =COUNTIF(E23:CK23,$CQ$2) -> 0 | CR23: =COUNTIF(E23:CK23,$CR$2) -> 1 | CS23: =COUNTIF(E23:CK23,$CS$2) -> 1 | CT23: =COUNTIF(E23:CK23,$CT$2) -> 0 | CU23: =COUNTIF(E23:CK23,$CU$2) -> 0 | CV23: =COUNTIF(E23:CK23,$CV$2) -> 0 | CW23: =COUNTIF(E23:CK23,$CW$2) -> 0 | CX23: =COUNTIF(E23:CK23,$CX$2) -> 0 | CY23: =COUNTIF(E23:CK23,$CY$2) -> 0 | CZ23: =COUNTIF(E23:CK23,$CZ$2) -> 0 | DA23: =COUNTIF(E23:CK23,$DA$2) -> 1 | DB23: =COUNTIF(E23:CK23,$DB$2) -> 0 | DC23: =COUNTIF(E23:CK23,$DC$2) -> 0 | DD23: =COUNTIF(E23:CK23,$DD$2) -> 0 | DF23: =IF(C23=$DF$2,COUNTIF(E23:CK23,1),"" ) -> 0 | DG23: =IF(C23=$DG$2,COUNTIF(E23:CK23,1),"" ) | EX23: ORT by TF | EY23: =SUMIF($D$3:$D$60,EX23,$CN$3:$CN$60) -> 6 | EZ23: =SUMIF($D$3:$D$60,EX23,$CQ$3:$CQ$60) -> 0 | FA23: =EZ23/EY23 -> 0 | FB23: =SUMIF($D$3:$D$60,EX23,$CR$3:$CR$60)+SUMIF($D$3:$D$60,EX23,$CS$3:$CS$60)+EZ23 -> 2 | FC23: =COUNTIF($D$3:$D$60,EX23) -> 1
A24: 60 | B24: Ferrari | C24: Am | D24: Iron Lynx | BS24: 9 | BT24: 5 | BU24: Ret | BV24: 3 | BW24: 11 | BX24: 5 | BY24: 8 | BZ24: 8 | CA24: Ret | CB24: 4 | CC24: 11 | CD24: 9 | CL24: =AVERAGE(E24:CK24) -> 7.3 | CM24: =_xlfn.STDEV.S(E24:CK24) -> 2.8693786 | CN24: =COUNT(E24:CK24) -> 10 | CO24: =CQ24/CN24 -> 0 | CQ24: =COUNTIF(E24:CK24,$CQ$2) -> 0 | CR24: =COUNTIF(E24:CK24,$CR$2) -> 0 | CS24: =COUNTIF(E24:CK24,$CS$2) -> 1 | CT24: =COUNTIF(E24:CK24,$CT$2) -> 1 | CU24: =COUNTIF(E24:CK24,$CU$2) -> 2 | CV24: =COUNTIF(E24:CK24,$CV$2) -> 0 | CW24: =COUNTIF(E24:CK24,$CW$2) -> 0 | CX24: =COUNTIF(E24:CK24,$CX$2) -> 2 | CY24: =COUNTIF(E24:CK24,$CY$2) -> 2 | CZ24: =COUNTIF(E24:CK24,$CZ$2) -> 0 | DA24: =COUNTIF(E24:CK24,$DA$2) -> 2 | DB24: =COUNTIF(E24:CK24,$DB$2) -> 0 | DC24: =COUNTIF(E24:CK24,$DC$2) -> 0 | DD24: =COUNTIF(E24:CK24,$DD$2) -> 0 | DF24: =IF(C24=$DF$2,COUNTIF(E24:CK24,1),"" ) | DG24: =IF(C24=$DG$2,COUNTIF(E24:CK24,1),"" ) -> 0 | EX24: Porsche GT Team | EY24: =SUMIF($D$3:$D$60,EX24,$CN$3:$CN$60) -> 115 | EZ24: =SUMIF($D$3:$D$60,EX24,$CQ$3:$CQ$60) -> 18 | FA24: =EZ24/EY24 -> 0.15652174 | FB24: =SUMIF($D$3:$D$60,EX24,$CR$3:$CR$60)+SUMIF($D$3:$D$60,EX24,$CS$3:$CS$60)+EZ24 -> 68 | FC24: =COUNTIF($D$3:$D$60,EX24) -> 2
A25: 60 | B25: Porsche | C25: Am | D25: Iron Lynx | CE25: 6 | CF25: 12 | CG25: 11 | CH25: Ret | CI25: 2 | CJ25: 11 | CK25: Ret | CL25: =AVERAGE(E25:CK25) -> 8.4 | CM25: =_xlfn.STDEV.S(E25:CK25) -> 4.2778499 | CN25: =COUNT(E25:CK25) -> 5 | CO25: =CQ25/CN25 -> 0 | CQ25: =COUNTIF(E25:CK25,$CQ$2) -> 0 | CR25: =COUNTIF(E25:CK25,$CR$2) -> 1 | CS25: =COUNTIF(E25:CK25,$CS$2) -> 0 | CT25: =COUNTIF(E25:CK25,$CT$2) -> 0 | CU25: =COUNTIF(E25:CK25,$CU$2) -> 0 | CV25: =COUNTIF(E25:CK25,$CV$2) -> 1 | CW25: =COUNTIF(E25:CK25,$CW$2) -> 0 | CX25: =COUNTIF(E25:CK25,$CX$2) -> 0 | CY25: =COUNTIF(E25:CK25,$CY$2) -> 0 | CZ25: =COUNTIF(E25:CK25,$CZ$2) -> 0 | DA25: =COUNTIF(E25:CK25,$DA$2) -> 2 | DB25: =COUNTIF(E25:CK25,$DB$2) -> 0 | DC25: =COUNTIF(E25:CK25,$DC$2) -> 0 | DD25: =COUNTIF(E25:CK25,$DD$2) -> 0 | DF25: =IF(C25=$DF$2,COUNTIF(E25:CK25,1),"" ) | DG25: =IF(C25=$DG$2,COUNTIF(E25:CK25,1),"" ) -> 0 | EX25: Prospeed Competition | EY25: =SUMIF($D$3:$D$60,EX25,$CN$3:$CN$60) -> 6 | EZ25: =SUMIF($D$3:$D$60,EX25,$CQ$3:$CQ$60) -> 0 | FA25: =EZ25/EY25 -> 0 | FB25: =SUMIF($D$3:$D$60,EX25,$CR$3:$CR$60)+SUMIF($D$3:$D$60,EX25,$CS$3:$CS$60)+EZ25 -> 1 | FC25: =COUNTIF($D$3:$D$60,EX25) -> 1
A26: 61 | B26: Ferrari | C26: Am | D26: AF Corse | E26: 4 | F26: DNS | G26: 4 | H26: 1 | I26: 3 | J26: 2 | L26: 4 | M26: 8 | N26: 8 | O26: 2 | P26: Ret | Q26: 7 | R26: 7 | S26: 6 | T26: 3 | U26: 6 | V26: 1 | W26: 3 | X26: 4 | Y26: 5 | AA26: 6 | AB26: 6 | CL26: =AVERAGE(E26:CK26) -> 4.5 | CM26: =_xlfn.STDEV.S(E26:CK26) -> 2.1884866 | CN26: =COUNT(E26:CK26) -> 20 | CO26: =CQ26/CN26 -> 0.1 | CQ26: =COUNTIF(E26:CK26,$CQ$2) -> 2 | CR26: =COUNTIF(E26:CK26,$CR$2) -> 2 | CS26: =COUNTIF(E26:CK26,$CS$2) -> 3 | CT26: =COUNTIF(E26:CK26,$CT$2) -> 4 | CU26: =COUNTIF(E26:CK26,$CU$2) -> 1 | CV26: =COUNTIF(E26:CK26,$CV$2) -> 4 | CW26: =COUNTIF(E26:CK26,$CW$2) -> 2 | CX26: =COUNTIF(E26:CK26,$CX$2) -> 2 | CY26: =COUNTIF(E26:CK26,$CY$2) -> 0 | CZ26: =COUNTIF(E26:CK26,$CZ$2) -> 0 | DA26: =COUNTIF(E26:CK26,$DA$2) -> 1 | DB26: =COUNTIF(E26:CK26,$DB$2) -> 0 | DC26: =COUNTIF(E26:CK26,$DC$2) -> 0 | DD26: =COUNTIF(E26:CK26,$DD$2) -> 1 | DF26: =IF(C26=$DF$2,COUNTIF(E26:CK26,1),"" ) | DG26: =IF(C26=$DG$2,COUNTIF(E26:CK26,1),"" ) -> 2 | EX26: Proton Competition | EY26: =SUMIF($D$3:$D$60,EX26,$CN$3:$CN$60) -> 125 | EZ26: =SUMIF($D$3:$D$60,EX26,$CQ$3:$CQ$60) -> 19 | FA26: =EZ26/EY26 -> 0.152 | FB26: =SUMIF($D$3:$D$60,EX26,$CR$3:$CR$60)+SUMIF($D$3:$D$60,EX26,$CS$3:$CS$60)+EZ26 -> 49 | FC26: =COUNTIF($D$3:$D$60,EX26) -> 3
A27: 61 | B27: Ferrari | C27: Am | D27: Clearwater Racing | AT27: 1 | AU27: 3 | AV27: 1 | AW27: 4 | AX27: 5 | AY27: 2 | AZ27: 2 | BA27: 4 | BB27: 2 | BC27: 3 | BD27: 4 | BE27: 5 | BF27: 6 | BG27: 7 | BH27: DNS | BI27: 3 | BJ27: 3 | CL27: =AVERAGE(E27:CK27) -> 3.4375 | CM27: =_xlfn.STDEV.S(E27:CK27) -> 1.7114808 | CN27: =COUNT(E27:CK27) -> 16 | CO27: =CQ27/CN27 -> 0.125 | CQ27: =COUNTIF(E27:CK27,$CQ$2) -> 2 | CR27: =COUNTIF(E27:CK27,$CR$2) -> 3 | CS27: =COUNTIF(E27:CK27,$CS$2) -> 4 | CT27: =COUNTIF(E27:CK27,$CT$2) -> 3 | CU27: =COUNTIF(E27:CK27,$CU$2) -> 2 | CV27: =COUNTIF(E27:CK27,$CV$2) -> 1 | CW27: =COUNTIF(E27:CK27,$CW$2) -> 1 | CX27: =COUNTIF(E27:CK27,$CX$2) -> 0 | CY27: =COUNTIF(E27:CK27,$CY$2) -> 0 | CZ27: =COUNTIF(E27:CK27,$CZ$2) -> 0 | DA27: =COUNTIF(E27:CK27,$DA$2) -> 0 | DB27: =COUNTIF(E27:CK27,$DB$2) -> 0 | DC27: =COUNTIF(E27:CK27,$DC$2) -> 0 | DD27: =COUNTIF(E27:CK27,$DD$2) -> 1 | DF27: =IF(C27=$DF$2,COUNTIF(E27:CK27,1),"" ) | DG27: =IF(C27=$DG$2,COUNTIF(E27:CK27,1),"" ) -> 2 | EX27: Ram Racing | EY27: =SUMIF($D$3:$D$60,EX27,$CN$3:$CN$60) -> 3 | EZ27: =SUMIF($D$3:$D$60,EX27,$CQ$3:$CQ$60) -> 0 | FA27: =EZ27/EY27 -> 0 | FB27: =SUMIF($D$3:$D$60,EX27,$CR$3:$CR$60)+SUMIF($D$3:$D$60,EX27,$CS$3:$CS$60)+EZ27 -> 0 | FC27: =COUNTIF($D$3:$D$60,EX27) -> 2
A28: 62 | B28: Ferrari | C28: Am | D28: Red River Sport | BK28: 8 | BL28: 10 | BM28: 10 | BN28: 8 | BO28: 8 | BP28: 8 | BQ28: 9 | BR28: 10 | CL28: =AVERAGE(E28:CK28) -> 8.875 | CM28: =_xlfn.STDEV.S(E28:CK28) -> 0.99103121 | CN28: =COUNT(E28:CK28) -> 8 | CO28: =CQ28/CN28 -> 0 | CQ28: =COUNTIF(E28:CK28,$CQ$2) -> 0 | CR28: =COUNTIF(E28:CK28,$CR$2) -> 0 | CS28: =COUNTIF(E28:CK28,$CS$2) -> 0 | CT28: =COUNTIF(E28:CK28,$CT$2) -> 0 | CU28: =COUNTIF(E28:CK28,$CU$2) -> 0 | CV28: =COUNTIF(E28:CK28,$CV$2) -> 0 | CW28: =COUNTIF(E28:CK28,$CW$2) -> 0 | CX28: =COUNTIF(E28:CK28,$CX$2) -> 4 | CY28: =COUNTIF(E28:CK28,$CY$2) -> 1 | CZ28: =COUNTIF(E28:CK28,$CZ$2) -> 3 | DA28: =COUNTIF(E28:CK28,$DA$2) -> 0 | DB28: =COUNTIF(E28:CK28,$DB$2) -> 0 | DC28: =COUNTIF(E28:CK28,$DC$2) -> 0 | DD28: =COUNTIF(E28:CK28,$DD$2) -> 0 | DF28: =IF(C28=$DF$2,COUNTIF(E28:CK28,1),"" ) | DG28: =IF(C28=$DG$2,COUNTIF(E28:CK28,1),"" ) -> 0 | EX28: Red River Sport | EY28: =SUMIF($D$3:$D$60,EX28,$CN$3:$CN$60) -> 8 | EZ28: =SUMIF($D$3:$D$60,EX28,$CQ$3:$CQ$60) -> 0 | FA28: =EZ28/EY28 -> 0 | FB28: =SUMIF($D$3:$D$60,EX28,$CR$3:$CR$60)+SUMIF($D$3:$D$60,EX28,$CS$3:$CS$60)+EZ28 -> 0 | FC28: =COUNTIF($D$3:$D$60,EX28) -> 1
A29: 64 | B29: Corvette | C29: Pro | D29: Corvette Racing | BY29: 2 | BZ29: 4 | CA29: Ret | CB29: 1 | CC29: 5 | CD29: 2 | CL29: =AVERAGE(E29:CK29) -> 2.8 | CM29: =_xlfn.STDEV.S(E29:CK29) -> 1.6431677 | CN29: =COUNT(E29:CK29) -> 5 | CO29: =CQ29/CN29 -> 0.2 | CQ29: =COUNTIF(E29:CK29,$CQ$2) -> 1 | CR29: =COUNTIF(E29:CK29,$CR$2) -> 2 | CS29: =COUNTIF(E29:CK29,$CS$2) -> 0 | CT29: =COUNTIF(E29:CK29,$CT$2) -> 1 | CU29: =COUNTIF(E29:CK29,$CU$2) -> 1 | CV29: =COUNTIF(E29:CK29,$CV$2) -> 0 | CW29: =COUNTIF(E29:CK29,$CW$2) -> 0 | CX29: =COUNTIF(E29:CK29,$CX$2) -> 0 | CY29: =COUNTIF(E29:CK29,$CY$2) -> 0 | CZ29: =COUNTIF(E29:CK29,$CZ$2) -> 0 | DA29: =COUNTIF(E29:CK29,$DA$2) -> 1 | DB29: =COUNTIF(E29:CK29,$DB$2) -> 0 | DC29: =COUNTIF(E29:CK29,$DC$2) -> 0 | DD29: =COUNTIF(E29:CK29,$DD$2) -> 0 | DF29: =IF(C29=$DF$2,COUNTIF(E29:CK29,1),"" ) -> 1 | DG29: =IF(C29=$DG$2,COUNTIF(E29:CK29,1),"" ) | EX29: SMP Racing | EY29: =SUMIF($D$3:$D$60,EX29,$CN$3:$CN$60) -> 8 | EZ29: =SUMIF($D$3:$D$60,EX29,$CQ$3:$CQ$60) -> 3 | FA29: =EZ29/EY29 -> 0.375 | FB29: =SUMIF($D$3:$D$60,EX29,$CR$3:$CR$60)+SUMIF($D$3:$D$60,EX29,$CS$3:$CS$60)+EZ29 -> 6 | FC29: =COUNTIF($D$3:$D$60,EX29) -> 1
A30: 66 | B30: Ford | C30: Pro | D30: Ford Chip Ganassi Racing | AK30: 5 | AL30: Ret | AM30: 1 | AN30: 4 | AO30: 7 | AP30: 7 | AQ30: 2 | AR30: 2 | AS30: 6 | AT30: 4 | AU30: 3 | AV30: 6 | AW30: 6 | AX30: 7 | AY30: 8 | AZ30: 4 | BA30: 4 | BB30: 5 | BC30: 1 | BD30: 3 | BE30: 6 | BF30: 8 | BG30: 7 | BH30: 18 | BI30: 10 | BJ30: 4 | CL30: =AVERAGE(E30:CK30) -> 5.52 | CM30: =_xlfn.STDEV.S(E30:CK30) -> 3.4655447 | CN30: =COUNT(E30:CK30) -> 25 | CO30: =CQ30/CN30 -> 0.08 | CQ30: =COUNTIF(E30:CK30,$CQ$2) -> 2 | CR30: =COUNTIF(E30:CK30,$CR$2) -> 2 | CS30: =COUNTIF(E30:CK30,$CS$2) -> 2 | CT30: =COUNTIF(E30:CK30,$CT$2) -> 5 | CU30: =COUNTIF(E30:CK30,$CU$2) -> 2 | CV30: =COUNTIF(E30:CK30,$CV$2) -> 4 | CW30: =COUNTIF(E30:CK30,$CW$2) -> 4 | CX30: =COUNTIF(E30:CK30,$CX$2) -> 2 | CY30: =COUNTIF(E30:CK30,$CY$2) -> 0 | CZ30: =COUNTIF(E30:CK30,$CZ$2) -> 1 | DA30: =COUNTIF(E30:CK30,$DA$2) -> 1 | DB30: =COUNTIF(E30:CK30,$DB$2) -> 0 | DC30: =COUNTIF(E30:CK30,$DC$2) -> 0 | DD30: =COUNTIF(E30:CK30,$DD$2) -> 0 | DF30: =IF(C30=$DF$2,COUNTIF(E30:CK30,1),"" ) -> 2 | DG30: =IF(C30=$DG$2,COUNTIF(E30:CK30,1),"" ) | EX30: Spirit of Race | EY30: =SUMIF($D$3:$D$60,EX30,$CN$3:$CN$60) -> 19 | EZ30: =SUMIF($D$3:$D$60,EX30,$CQ$3:$CQ$60) -> 1 | FA30: =EZ30/EY30 -> 0.052631579 | FB30: =SUMIF($D$3:$D$60,EX30,$CR$3:$CR$60)+SUMIF($D$3:$D$60,EX30,$CS$3:$CS$60)+EZ30 -> 6 | FC30: =COUNTIF($D$3:$D$60,EX30) -> 3
A31: 67 | B31: Ford | C31: Pro | D31: Ford Chip Ganassi Racing | AK31: 4 | AL31: 2 | AM31: 5 | AN31: 7 | AO31: 5 | AP31: 4 | AQ31: 1 | AR31: 1 | AS31: 4 | AT31: 1 | AU31: 4 | AV31: 2 | AW31: 5 | AX31: 4 | AY31: 7 | AZ31: 8 | BA31: 1 | BB31: 3 | BC31: Ret | BD31: 12 | BE31: 2 | BF31: 3 | BG31: 9 | BH31: 3 | BI31: 5 | BJ31: 3 | CL31: =AVERAGE(E31:CK31) -> 4.2 | CM31: =_xlfn.STDEV.S(E31:CK31) -> 2.7233558 | CN31: =COUNT(E31:CK31) -> 25 | CO31: =CQ31/CN31 -> 0.16 | CQ31: =COUNTIF(E31:CK31,$CQ$2) -> 4 | CR31: =COUNTIF(E31:CK31,$CR$2) -> 3 | CS31: =COUNTIF(E31:CK31,$CS$2) -> 4 | CT31: =COUNTIF(E31:CK31,$CT$2) -> 5 | CU31: =COUNTIF(E31:CK31,$CU$2) -> 4 | CV31: =COUNTIF(E31:CK31,$CV$2) -> 0 | CW31: =COUNTIF(E31:CK31,$CW$2) -> 2 | CX31: =COUNTIF(E31:CK31,$CX$2) -> 1 | CY31: =COUNTIF(E31:CK31,$CY$2) -> 1 | CZ31: =COUNTIF(E31:CK31,$CZ$2) -> 0 | DA31: =COUNTIF(E31:CK31,$DA$2) -> 1 | DB31: =COUNTIF(E31:CK31,$DB$2) -> 0 | DC31: =COUNTIF(E31:CK31,$DC$2) -> 0 | DD31: =COUNTIF(E31:CK31,$DD$2) -> 0 | DF31: =IF(C31=$DF$2,COUNTIF(E31:CK31,1),"" ) -> 4 | DG31: =IF(C31=$DG$2,COUNTIF(E31:CK31,1),"" ) | EX31: Team Project 1 | EY31: =SUMIF($D$3:$D$60,EX31,$CN$3:$CN$60) -> 43 | EZ31: =SUMIF($D$3:$D$60,EX31,$CQ$3:$CQ$60) -> 5 | FA31: =EZ31/EY31 -> 0.11627907 | FB31: =SUMIF($D$3:$D$60,EX31,$CR$3:$CR$60)+SUMIF($D$3:$D$60,EX31,$CS$3:$CS$60)+EZ31 -> 18 | FC31: =COUNTIF($D$3:$D$60,EX31) -> 3
A32: 70 | B32: Ferrari | C32: Am | D32: MR Racing | BC32: 5 | BD32: 5 | BE32: 7 | BF32: Ret | BG32: 6 | BH32: 5 | BI32: 8 | BJ32: 5 | BK32: 3 | BL32: 4 | BM32: 7 | BN32: 7 | BO32: 10 | BQ32: Ret | CL32: =AVERAGE(E32:CK32) -> 6 | CM32: =_xlfn.STDEV.S(E32:CK32) -> 1.9069252 | CN32: =COUNT(E32:CK32) -> 12 | CO32: =CQ32/CN32 -> 0 | CQ32: =COUNTIF(E32:CK32,$CQ$2) -> 0 | CR32: =COUNTIF(E32:CK32,$CR$2) -> 0 | CS32: =COUNTIF(E32:CK32,$CS$2) -> 1 | CT32: =COUNTIF(E32:CK32,$CT$2) -> 1 | CU32: =COUNTIF(E32:CK32,$CU$2) -> 4 | CV32: =COUNTIF(E32:CK32,$CV$2) -> 1 | CW32: =COUNTIF(E32:CK32,$CW$2) -> 3 | CX32: =COUNTIF(E32:CK32,$CX$2) -> 1 | CY32: =COUNTIF(E32:CK32,$CY$2) -> 0 | CZ32: =COUNTIF(E32:CK32,$CZ$2) -> 1 | DA32: =COUNTIF(E32:CK32,$DA$2) -> 2 | DB32: =COUNTIF(E32:CK32,$DB$2) -> 0 | DC32: =COUNTIF(E32:CK32,$DC$2) -> 0 | DD32: =COUNTIF(E32:CK32,$DD$2) -> 0 | DF32: =IF(C32=$DF$2,COUNTIF(E32:CK32,1),"" ) | DG32: =IF(C32=$DG$2,COUNTIF(E32:CK32,1),"" ) -> 0 | EX32: TF Sport | EY32: =SUMIF($D$3:$D$60,EX32,$CN$3:$CN$60) -> 24 | EZ32: =SUMIF($D$3:$D$60,EX32,$CQ$3:$CQ$60) -> 7 | FA32: =EZ32/EY32 -> 0.29166667 | FB32: =SUMIF($D$3:$D$60,EX32,$CR$3:$CR$60)+SUMIF($D$3:$D$60,EX32,$CS$3:$CS$60)+EZ32 -> 16 | FC32: =COUNTIF($D$3:$D$60,EX32) -> 2
A33: 71 | B33: Ferrari | C33: Pro | D33: AF Corse | M33: 2 | N33: 2 | O33: 4 | P33: Ret | Q33: 3 | R33: 5 | S33: 5 | T33: 3 | U33: 5 | V33: 3 | W33: Ret | X33: 5 | Y33: 2 | Z33: 3 | AA33: 3 | AB33: 3 | AC33: 3 | AD33: 7 | AE33: 1 | AF33: 3 | AG33: 3 | AH33: 3 | AI33: 4 | AJ33: 6 | AK33: 1 | AL33: 1 | AM33: Ret | AN33: 2 | AO33: 4 | AP33: 3 | AQ33: 4 | AR33: 5 | AS33: 3 | AT33: 5 | AU33: 1 | AV33: 4 | AW33: 8 | AX33: 2 | AY33: 3 | AZ33: 5 | BA33: 6 | BB33: 1 | BC33: 3 | BD33: 6 | BE33: 16 | BF33: 10 | BG33: 6 | BH33: 6 | BI33: 6 | BJ33: Ret | BK33: Ret | BL33: 5 | BM33: 6 | BN33: 2 | BO33: 5 | BP33: 6 | BQ33: NC | BR33: 3 | CL33: =AVERAGE(E33:CK33) -> 4.1538462 | CM33: =_xlfn.STDEV.S(E33:CK33) -> 2.5389871 | CN33: =COUNT(E33:CK33) -> 52 | CO33: =CQ33/CN33 -> 0.096153846 | CQ33: =COUNTIF(E33:CK33,$CQ$2) -> 5 | CR33: =COUNTIF(E33:CK33,$CR$2) -> 6 | CS33: =COUNTIF(E33:CK33,$CS$2) -> 15 | CT33: =COUNTIF(E33:CK33,$CT$2) -> 5 | CU33: =COUNTIF(E33:CK33,$CU$2) -> 9 | CV33: =COUNTIF(E33:CK33,$CV$2) -> 8 | CW33: =COUNTIF(E33:CK33,$CW$2) -> 1 | CX33: =COUNTIF(E33:CK33,$CX$2) -> 1 | CY33: =COUNTIF(E33:CK33,$CY$2) -> 0 | CZ33: =COUNTIF(E33:CK33,$CZ$2) -> 1 | DA33: =COUNTIF(E33:CK33,$DA$2) -> 5 | DB33: =COUNTIF(E33:CK33,$DB$2) -> 1 | DC33: =COUNTIF(E33:CK33,$DC$2) -> 0 | DD33: =COUNTIF(E33:CK33,$DD$2) -> 0 | DF33: =IF(C33=$DF$2,COUNTIF(E33:CK33,1),"" ) -> 5 | DG33: =IF(C33=$DG$2,COUNTIF(E33:CK33,1),"" )
A34: 71 | B34: Ferrari | C34: Am | D34: Spirit of Race | BY34: Ret | BZ34: 12 | CA34: Ret | CB34: 5 | CC34: 7 | CD34: 13 | CL34: =AVERAGE(E34:CK34) -> 9.25 | CM34: =_xlfn.STDEV.S(E34:CK34) -> 3.8622101 | CN34: =COUNT(E34:CK34) -> 4 | CO34: =CQ34/CN34 -> 0 | CQ34: =COUNTIF(E34:CK34,$CQ$2) -> 0 | CR34: =COUNTIF(E34:CK34,$CR$2) -> 0 | CS34: =COUNTIF(E34:CK34,$CS$2) -> 0 | CT34: =COUNTIF(E34:CK34,$CT$2) -> 0 | CU34: =COUNTIF(E34:CK34,$CU$2) -> 1 | CV34: =COUNTIF(E34:CK34,$CV$2) -> 0 | CW34: =COUNTIF(E34:CK34,$CW$2) -> 1 | CX34: =COUNTIF(E34:CK34,$CX$2) -> 0 | CY34: =COUNTIF(E34:CK34,$CY$2) -> 0 | CZ34: =COUNTIF(E34:CK34,$CZ$2) -> 0 | DA34: =COUNTIF(E34:CK34,$DA$2) -> 2 | DB34: =COUNTIF(E34:CK34,$DB$2) -> 0 | DC34: =COUNTIF(E34:CK34,$DC$2) -> 0 | DD34: =COUNTIF(E34:CK34,$DD$2) -> 0 | DF34: =IF(C34=$DF$2,COUNTIF(E34:CK34,1),"" ) | DG34: =IF(C34=$DG$2,COUNTIF(E34:CK34,1),"" ) -> 0
A35: 72 | B35: Ferrari | C35: Am | D35: SMP Racing | AC35: 3 | AD35: 3 | AE35: 1 | AF35: 1 | AG35: 1 | AH35: 6 | AI35: 3 | AJ35: 5 | CL35: =AVERAGE(E35:CK35) -> 2.875 | CM35: =_xlfn.STDEV.S(E35:CK35) -> 1.8850919 | CN35: =COUNT(E35:CK35) -> 8 | CO35: =CQ35/CN35 -> 0.375 | CQ35: =COUNTIF(E35:CK35,$CQ$2) -> 3 | CR35: =COUNTIF(E35:CK35,$CR$2) -> 0 | CS35: =COUNTIF(E35:CK35,$CS$2) -> 3 | CT35: =COUNTIF(E35:CK35,$CT$2) -> 0 | CU35: =COUNTIF(E35:CK35,$CU$2) -> 1 | CV35: =COUNTIF(E35:CK35,$CV$2) -> 1 | CW35: =COUNTIF(E35:CK35,$CW$2) -> 0 | CX35: =COUNTIF(E35:CK35,$CX$2) -> 0 | CY35: =COUNTIF(E35:CK35,$CY$2) -> 0 | CZ35: =COUNTIF(E35:CK35,$CZ$2) -> 0 | DA35: =COUNTIF(E35:CK35,$DA$2) -> 0 | DB35: =COUNTIF(E35:CK35,$DB$2) -> 0 | DC35: =COUNTIF(E35:CK35,$DC$2) -> 0 | DD35: =COUNTIF(E35:CK35,$DD$2) -> 0 | DF35: =IF(C35=$DF$2,COUNTIF(E35:CK35,1),"" ) | DG35: =IF(C35=$DG$2,COUNTIF(E35:CK35,1),"" ) -> 3
A36: 75 | B36: Porsche | C36: Am | D36: Prospeed Competition | U36: Ret | V36: 6 | W36: Ret | X36: 7 | Y36: 3 | Z36: 4 | AA36: 7 | AB36: 5 | CL36: =AVERAGE(E36:CK36) -> 5.3333333 | CM36: =_xlfn.STDEV.S(E36:CK36) -> 1.6329932 | CN36: =COUNT(E36:CK36) -> 6 | CO36: =CQ36/CN36 -> 0 | CQ36: =COUNTIF(E36:CK36,$CQ$2) -> 0 | CR36: =COUNTIF(E36:CK36,$CR$2) -> 0 | CS36: =COUNTIF(E36:CK36,$CS$2) -> 1 | CT36: =COUNTIF(E36:CK36,$CT$2) -> 1 | CU36: =COUNTIF(E36:CK36,$CU$2) -> 1 | CV36: =COUNTIF(E36:CK36,$CV$2) -> 1 | CW36: =COUNTIF(E36:CK36,$CW$2) -> 2 | CX36: =COUNTIF(E36:CK36,$CX$2) -> 0 | CY36: =COUNTIF(E36:CK36,$CY$2) -> 0 | CZ36: =COUNTIF(E36:CK36,$CZ$2) -> 0 | DA36: =COUNTIF(E36:CK36,$DA$2) -> 2 | DB36: =COUNTIF(E36:CK36,$DB$2) -> 0 | DC36: =COUNTIF(E36:CK36,$DC$2) -> 0 | DD36: =COUNTIF(E36:CK36,$DD$2) -> 0 | DF36: =IF(C36=$DF$2,COUNTIF(E36:CK36,1),"" ) | DG36: =IF(C36=$DG$2,COUNTIF(E36:CK36,1),"" ) -> 0
A37: 76 | B37: Porsche | C37: Am | D37: IMSA Performance Matmut | M37: 7 | N37: 6 | O37: 1 | P37: 4 | Q37: 3 | R37: 5 | S37: 2 | T37: 6 | CL37: =AVERAGE(E37:CK37) -> 4.25 | CM37: =_xlfn.STDEV.S(E37:CK37) -> 2.1213203 | CN37: =COUNT(E37:CK37) -> 8 | CO37: =CQ37/CN37 -> 0.125 | CQ37: =COUNTIF(E37:CK37,$CQ$2) -> 1 | CR37: =COUNTIF(E37:CK37,$CR$2) -> 1 | CS37: =COUNTIF(E37:CK37,$CS$2) -> 1 | CT37: =COUNTIF(E37:CK37,$CT$2) -> 1 | CU37: =COUNTIF(E37:CK37,$CU$2) -> 1 | CV37: =COUNTIF(E37:CK37,$CV$2) -> 2 | CW37: =COUNTIF(E37:CK37,$CW$2) -> 1 | CX37: =COUNTIF(E37:CK37,$CX$2) -> 0 | CY37: =COUNTIF(E37:CK37,$CY$2) -> 0 | CZ37: =COUNTIF(E37:CK37,$CZ$2) -> 0 | DA37: =COUNTIF(E37:CK37,$DA$2) -> 0 | DB37: =COUNTIF(E37:CK37,$DB$2) -> 0 | DC37: =COUNTIF(E37:CK37,$DC$2) -> 0 | DD37: =COUNTIF(E37:CK37,$DD$2) -> 0 | DF37: =IF(C37=$DF$2,COUNTIF(E37:CK37,1),"" ) | DG37: =IF(C37=$DG$2,COUNTIF(E37:CK37,1),"" ) -> 1
